From mboxrd@z Thu Jan 1 00:00:00 1970 Return-Path: Received: from mails.dpdk.org (mails.dpdk.org [217.70.189.124]) by inbox.dpdk.org (Postfix) with ESMTP id 5D6E7463E8 for ; Wed, 12 Mar 2025 12:38:00 +0100 (CET) Received: from mails.dpdk.org (localhost [127.0.0.1]) by mails.dpdk.org (Postfix) with ESMTP id 35C1B40697; Wed, 12 Mar 2025 12:38:00 +0100 (CET) Received: from mail-qv1-f100.google.com (mail-qv1-f100.google.com [209.85.219.100]) by mails.dpdk.org (Postfix) with ESMTP id E1AA3402CE for ; Wed, 12 Mar 2025 12:37:58 +0100 (CET) Received: by mail-qv1-f100.google.com with SMTP id 6a1803df08f44-6e90b8d4686so31236476d6.2 for ; Wed, 12 Mar 2025 04:37:58 -0700 (PDT) DKIM-Signature: v=1; a=rsa-sha256; c=relaxed/relaxed; d=iol.unh.edu; s=unh-iol; t=1741779478; x=1742384278; darn=dpdk.org; h=references:in-reply-to:cc:to:from:subject:message-id:date:from:to :cc:subject:date:message-id:reply-to; bh=3JuawC6Iqja6s0Wf/cr9AlKrJkv2mYdG2Nhg0HbBSGY=; b=jHbBHMWzPhCrCXp9ZuyOFHK94cGCrQ93nPpS8OXAXhDeR2riku49xn5x624lyn4B7R AcmLNGoJDbuw9qWbtTh4EBVwWAtWfsklwXi+aJhWy05Sjzh4h1AJwO7NVNDKgk7VW98E ScqgUG1S/CL7s/v4KyTAO/Zgof+sfa/gSjbOw= X-Google-DKIM-Signature: v=1; a=rsa-sha256; c=relaxed/relaxed; d=1e100.net; s=20230601; t=1741779478; x=1742384278; h=references:in-reply-to:cc:to:from:subject:message-id:date :x-gm-message-state:from:to:cc:subject:date:message-id:reply-to; bh=3JuawC6Iqja6s0Wf/cr9AlKrJkv2mYdG2Nhg0HbBSGY=; b=oqm8gkQ9ZHUNLHkJT2JuJ3MkjYZk/CBHS5lW+SjAiROMQKNcKx2iMVmdqZI/66LRnd Ay6VvSXXXguIJBzjSxFDwuU0J1/Wonf99cOngEj7+7v64vm/8PRFpuJMHw9VlzMT+cGK bXgTwOd5l1854CimsLJKbId/U5n+lB/sTGIppVJOxO4vVHa+mQi/WfQqqQM+ubGdaOBf 9gjxsJR0UwJQtPG9i7roqu8P2Odb06qAONZTPEGZ5u2wFaH3KmR7KfWCBQDsrrcZWLdK 1PvQ4DvJQ2bF9LA+wKycISGZiSIfaKRZjGx7Xp1W/NwmWuTi6ZeH8tWtrXW8wtl9i2H7 8Lgg== X-Gm-Message-State: AOJu0YxXroN5b32A20FCyP2t2X3nsFmx1lLgxRdv+j9NCa1KCY6LBQpq PnLK92WXEYwRZpZ92xYD3EsJye+w/cOhX96jxW/5mYzbKuQ+XYNL1cPKxNFoRweSJDlA6NnW1kf PFryGD+N4qiWoekAsaiXqn+K2uqWR/gLDm3w+MdQ9adBLWk092VgcpA7d X-Gm-Gg: ASbGnctaHi6r2XQF3HvxUubJXDJH+THHMnNPPkpqQEGwiUD9RO2p7feTrXYZ01L5xL7 EOw/lgVWP0mJ13WuyyUCoYLkefSa0iOMbYTLgIO84Ky/uFrCtHltyhVSZQlMFgSusfSO048/+hB xIcFSc0duBTn+xGBZKlErKnhKRhr4Ar9lLQ8wcDsV6i88T2M0wlTmTdncmVH+yNXq14tbFrdlzk IIIi23FEz0GhqHh6wcdUUaYjwLAIPyQbbS3zdtkIE9QO9a4L/MH8/TGWy0315bsIJWh/szJsl1P ubdh8ECh+HRHT/zsHaRFtIq222pugLtMebmOUchwEyBMRyKRAA7u X-Google-Smtp-Source: AGHT+IFGjgRz4XxAm/iIABuylKr0Nvh/qleXFXIFMKHpUFt6E9VpvVUNdpbAHmHAUTFvbD0vWCGaPVf0SCJG X-Received: by 2002:ad4:5fc8:0:b0:6e4:407c:fcfc with SMTP id 6a1803df08f44-6ea2dcf1643mr108048816d6.4.1741779478259; Wed, 12 Mar 2025 04:37:58 -0700 (PDT) Received: from postal.iol.unh.edu (postal.iol.unh.edu. [2606:4100:3880:1234::84]) by smtp-relay.gmail.com with ESMTPS id 6a1803df08f44-6e8f7178ad9sm5684776d6.61.2025.03.12.04.37.58 (version=TLS1_2 cipher=ECDHE-ECDSA-AES128-GCM-SHA256 bits=128/128); Wed, 12 Mar 2025 04:37:58 -0700 (PDT) X-Relaying-Domain: iol.unh.edu Date: Wed, 12 Mar 2025 04:37:58 -0700 (PDT) Message-ID: <67d17216.d40a0220.62243.a2cfSMTPIN_ADDED_MISSING@mx.google.com> Received: from [172.17.0.3] (unknown [172.18.0.217]) by postal.iol.unh.edu (Postfix) with ESMTP id 7124E6052471; Wed, 12 Mar 2025 07:37:55 -0400 (EDT) Subject: |SUCCESS| pw152344 [PATCH] net/mlx5: fix failed to match on empty gr From: dpdklab@iol.unh.edu To: Test Report Cc: dpdk-test-reports@iol.unh.edu In-Reply-To: <20250312095539.58555-1-mkashani@nvidia.com> References: <20250312095539.58555-1-mkashani@nvidia.com> Content-Type: text/plain X-BeenThere: test-report@dpdk.org X-Mailman-Version: 2.1.29 Precedence: list List-Id: automatic DPDK test reports List-Unsubscribe: , List-Archive: List-Post: List-Help: List-Subscribe: , Errors-To: test-report-bounces@dpdk.org Test-Label: iol-abi-testing Test-Status: SUCCESS http://dpdk.org/patch/152344 _Testing PASS_ Submitter: Maayan Kashani Date: Wednesday, March 12 2025 09:55:39 DPDK git baseline: Repo:dpdk Branch: master CommitID:6a2610c2f4b8ad7b3cec850bad14c4af8840654f 152344 --> testing pass Upstream job id: Generic-DPDK-Compile-ABI#120038 Test environment and result as below: +-------------------+----------+ | Environment | abi_test | +===================+==========+ | CentOS Stream 9 | PASS | +-------------------+----------+ | Fedora 40 (Clang) | PASS | +-------------------+----------+ | CentOS Stream 10 | PASS | +-------------------+----------+ | Fedora 40 | PASS | +-------------------+----------+ | openSUSE Leap 15 | PASS | +-------------------+----------+ | Fedora 41 | PASS | +-------------------+----------+ | RHEL8 | PASS | +-------------------+----------+ | RHEL9 | PASS | +-------------------+----------+ | Ubuntu 22.04 | PASS | +-------------------+----------+ | Debian 12 | PASS | +-------------------+----------+ | Ubuntu 24.04 | PASS | +-------------------+----------+ | Fedora 41 (Clang) | PASS | +-------------------+----------+ CentOS Stream 9 Kernel: Depends on container host Compiler: gcc 11.5.0 20240719 (Red Hat 11.5.0-2) Fedora 40 (Clang) Kernel: Depends on container host Compiler: clang 18.1.8 (Fedora 18.1.8-1.fc40) CentOS Stream 10 Kernel: Depends on container host Compiler: gcc 14.2.1 20241104 (Red Hat 14.2.1-6) Fedora 40 Kernel: Depends on container host Compiler: gcc 14.2.1 20240912 (Red Hat 14.2.1-3) openSUSE Leap 15 Kernel: Depends on container host Compiler: gcc (SUSE Linux) 7.5.0 Fedora 41 Kernel: Depends on container host Compiler: gcc 14.2.1 20240912 (Red Hat 14.2.1-3) RHEL8 Kernel: Depends on container host Compiler: gcc 8.5.0 20210514 (Red Hat 8.5.0-22) RHEL9 Kernel: Depends on container host Compiler: gcc 11.5.0 20240719 (Red Hat 11.5.0-2) Ubuntu 22.04 Kernel: Depends on container host Compiler: gcc (Ubuntu 11.4.0-1ubuntu1~22.04) 11.4.0 Debian 12 Kernel: Depends on container host Compiler: gcc (Debian 12.2.0-14) 12.2.0 Ubuntu 24.04 Kernel: Depends on container host Compiler: gcc (Ubuntu 13.3.0-6ubuntu2~24.04) 13.3.0 Fedora 41 (Clang) Kernel: Depends on container host Compiler: clang 19.1.5 (Fedora 19.1.5-1.fc41) To view detailed results, visit: https://lab.dpdk.org/results/dashboard/patchsets/32806/ UNH-IOL DPDK Community Lab To manage your email subscriptions, visit: https://lab.dpdk.org/results/dashboard/preferences/subscriptions/