From mboxrd@z Thu Jan  1 00:00:00 1970
Return-Path: <test-report-bounces@dpdk.org>
Received: from mails.dpdk.org (mails.dpdk.org [217.70.189.124])
	by inbox.dpdk.org (Postfix) with ESMTP id 6F1B24638A
	for <public@inbox.dpdk.org>; Wed, 12 Mar 2025 21:04:29 +0100 (CET)
Received: from mails.dpdk.org (localhost [127.0.0.1])
	by mails.dpdk.org (Postfix) with ESMTP id 720DC40DCD;
	Wed, 12 Mar 2025 21:04:28 +0100 (CET)
Received: from mail-pj1-f99.google.com (mail-pj1-f99.google.com
 [209.85.216.99]) by mails.dpdk.org (Postfix) with ESMTP id 88A4A40663
 for <test-report@dpdk.org>; Wed, 12 Mar 2025 21:04:27 +0100 (CET)
Received: by mail-pj1-f99.google.com with SMTP id
 98e67ed59e1d1-300f92661fcso480271a91.3
 for <test-report@dpdk.org>; Wed, 12 Mar 2025 13:04:27 -0700 (PDT)
DKIM-Signature: v=1; a=rsa-sha256; c=relaxed/relaxed;
 d=iol.unh.edu; s=unh-iol; t=1741809866; x=1742414666; darn=dpdk.org;
 h=references:in-reply-to:cc:to:from:subject:message-id:date:from:to
 :cc:subject:date:message-id:reply-to;
 bh=4MR9/MrzQ9AUEggzw6rSR1jW5GVYy8KbBL2DrkQ1Hck=;
 b=W4NAm1U6MAM+aId/ygzLae/1E/yqZpubXiab+mWQt2GLLNUNoqpfeQLzKg0t/v59lq
 dVqOo+smtQ9wSO3MeEuoVdr8nCJTaUsPy2BFWv2k+fgltpFW44gv54wgVtXcgoOxoYw9
 pFQFcAM3MgKv6OcqdSyxdEkPxhxLhibvFgQG4=
X-Google-DKIM-Signature: v=1; a=rsa-sha256; c=relaxed/relaxed;
 d=1e100.net; s=20230601; t=1741809866; x=1742414666;
 h=references:in-reply-to:cc:to:from:subject:message-id:date
 :x-gm-message-state:from:to:cc:subject:date:message-id:reply-to;
 bh=4MR9/MrzQ9AUEggzw6rSR1jW5GVYy8KbBL2DrkQ1Hck=;
 b=E+dBp2380UU8zI+0Rn97RjRM/M52Of2dnP3/4+aZnAca81TAAGlLBex2B2TUZSXps2
 9s2Sd64TYEpaqzdn9ujVDaZh/3U64pv4g7UQrJdP6gd4wqL4W9yFWsLQBQnnsf+NOjcL
 2uy4yAyk63+PuKqn0WwYppRXs4QRB+k3fDe2zfrncUsLpRdKpuBnFzlduaXU1Cp0gYd/
 2zFGIRBzGRn/wSCtyB1s3LT8rpDxosytIVV0cnPllmab7G2lHNWzL7UIZ3663/6wGxZA
 jVRp/YTLKjVRP7sd11UJUUhiUCVgxgZtvy5NNcsu0qA9AUnEg5Rdfv5fAVH6wTYSKBpd
 xoXA==
X-Gm-Message-State: AOJu0Yw7V+h0M9LSQk+nEFsIwK9VvOoe+zLhdNU7HFcy7kvUfb6AeEls
 EV4pzjFzuBRCQK76c1Zofyma2hJ0GmSv9RDnj4LHqOOyiNEwk2EnnXkucxivy4Ge6EN/b+3/nOU
 bBYt7KQJQ8JPZE4qGStwsdNH+8912u2CjMSDGBmEC
X-Gm-Gg: ASbGnct4K/vhnODI/MSJ4LJbqteMtJGgVtXP09AdmgQN8LzAU0DUJ+H9wHbECmCBML2
 u1oAV67OqGWsxuRsRZJDKZTh8moxJFZMVibZQ8qlf+fgq5Ly2VDqVK7vNVF2Y6pbTIklGyZPP5C
 DsRwN1akZpvzL31MYK/ZdkLY/rF3gd55DdR5n4WtKiNx23wP+OeCjdfCy6Za5vD1Awu2ZKLZCMz
 6odkBSkPvF7djrfp/v28xOWSu9cF1hlvvWi6B1ZH4in+Cm1H/2o9h4O5o1swlK0RXQuFqCjSKbs
 oNZFCxyQ1STydgCEFuPVKGkDGrheLk8wwdA8vk8b
X-Google-Smtp-Source: AGHT+IHaPsOxgRv6F7GsA6PBfasfvGs6ftbE1rZSm2Q8UJpPPAAU7qJklsiBcYg0BAwJSI/0BfW3DiKUYELB
X-Received: by 2002:a17:90b:1d0a:b0:2ea:5dea:eb0a with SMTP id
 98e67ed59e1d1-2ff7ce5965amr32062291a91.4.1741809866561; 
 Wed, 12 Mar 2025 13:04:26 -0700 (PDT)
Received: from postal.iol.unh.edu (postal.iol.unh.edu. [132.177.123.84])
 by smtp-relay.gmail.com with ESMTPS id
 98e67ed59e1d1-3011928598esm226105a91.15.2025.03.12.13.04.26
 (version=TLS1_2 cipher=ECDHE-ECDSA-AES128-GCM-SHA256 bits=128/128);
 Wed, 12 Mar 2025 13:04:26 -0700 (PDT)
X-Relaying-Domain: iol.unh.edu
Date: Wed, 12 Mar 2025 13:04:26 -0700 (PDT)
Message-ID: <67d1e8ca.170a0220.2074b0.8df5SMTPIN_ADDED_MISSING@mx.google.com>
Received: from [172.17.0.4] (unknown [172.18.0.217])
 by postal.iol.unh.edu (Postfix) with ESMTP id 657C46052471;
 Wed, 12 Mar 2025 16:04:23 -0400 (EDT)
Subject: |SUCCESS| pw152348 [PATCH] net/intel: using common functions in idpf
From: dpdklab@iol.unh.edu
To: Test Report <test-report@dpdk.org>
Cc: dpdk-test-reports@iol.unh.edu
In-Reply-To: <20250312155351.409879-1-shaiq.wani@intel.com>
References: <20250312155351.409879-1-shaiq.wani@intel.com>
Content-Type: text/plain
X-BeenThere: test-report@dpdk.org
X-Mailman-Version: 2.1.29
Precedence: list
List-Id: automatic DPDK test reports <test-report.dpdk.org>
List-Unsubscribe: <https://mails.dpdk.org/options/test-report>,
 <mailto:test-report-request@dpdk.org?subject=unsubscribe>
List-Archive: <http://mails.dpdk.org/archives/test-report/>
List-Post: <mailto:test-report@dpdk.org>
List-Help: <mailto:test-report-request@dpdk.org?subject=help>
List-Subscribe: <https://mails.dpdk.org/listinfo/test-report>,
 <mailto:test-report-request@dpdk.org?subject=subscribe>
Errors-To: test-report-bounces@dpdk.org

Test-Label: iol-compile-amd64-testing
Test-Status: SUCCESS
http://dpdk.org/patch/152348

_Testing PASS_

Submitter: Shaiq Wani <shaiq.wani@intel.com>
Date: Wednesday, March 12 2025 15:53:51 
DPDK git baseline: Repo:dpdk
  Branch: master
  CommitID:e4ef869b27976696648133fd46fb40f3f163fdf3

152348 --> testing pass

Upstream job id: Windows-Compile-DPDK-Native#27309

Test environment and result as below:

+-----------------------------------+--------------------+-------------------+------------------+-------------------+-------------------------+
|            Environment            | dpdk_meson_compile | dpdk_compile_spdk | dpdk_compile_ovs | dpdk_msvc_compile | dpdk_llvm_clang_compile |
+===================================+====================+===================+==================+===================+=========================+
| CentOS Stream 9                   | PASS               | PASS              | SKIPPED          | SKIPPED           | SKIPPED                 |
+-----------------------------------+--------------------+-------------------+------------------+-------------------+-------------------------+
| CentOS Stream 10                  | PASS               | SKIPPED           | SKIPPED          | SKIPPED           | SKIPPED                 |
+-----------------------------------+--------------------+-------------------+------------------+-------------------+-------------------------+
| Debian 12                         | PASS               | PASS              | SKIPPED          | SKIPPED           | SKIPPED                 |
+-----------------------------------+--------------------+-------------------+------------------+-------------------+-------------------------+
| Fedora 40 (Clang)                 | PASS               | PASS              | SKIPPED          | SKIPPED           | SKIPPED                 |
+-----------------------------------+--------------------+-------------------+------------------+-------------------+-------------------------+
| Fedora 40                         | PASS               | PASS              | SKIPPED          | SKIPPED           | SKIPPED                 |
+-----------------------------------+--------------------+-------------------+------------------+-------------------+-------------------------+
| Fedora 41                         | PASS               | PASS              | PASS             | SKIPPED           | SKIPPED                 |
+-----------------------------------+--------------------+-------------------+------------------+-------------------+-------------------------+
| Fedora 41 (Clang)                 | PASS               | PASS              | PASS             | SKIPPED           | SKIPPED                 |
+-----------------------------------+--------------------+-------------------+------------------+-------------------+-------------------------+
| openSUSE Leap 15                  | PASS               | SKIPPED           | SKIPPED          | SKIPPED           | SKIPPED                 |
+-----------------------------------+--------------------+-------------------+------------------+-------------------+-------------------------+
| RHEL8                             | PASS               | SKIPPED           | SKIPPED          | SKIPPED           | SKIPPED                 |
+-----------------------------------+--------------------+-------------------+------------------+-------------------+-------------------------+
| RHEL9                             | PASS               | SKIPPED           | SKIPPED          | SKIPPED           | SKIPPED                 |
+-----------------------------------+--------------------+-------------------+------------------+-------------------+-------------------------+
| Ubuntu 20.04                      | PASS               | SKIPPED           | SKIPPED          | SKIPPED           | SKIPPED                 |
+-----------------------------------+--------------------+-------------------+------------------+-------------------+-------------------------+
| Ubuntu 22.04                      | PASS               | PASS              | SKIPPED          | SKIPPED           | SKIPPED                 |
+-----------------------------------+--------------------+-------------------+------------------+-------------------+-------------------------+
| Alpine                            | PASS               | SKIPPED           | SKIPPED          | SKIPPED           | SKIPPED                 |
+-----------------------------------+--------------------+-------------------+------------------+-------------------+-------------------------+
| Ubuntu 24.04 32 Bit Cross Compile | PASS               | SKIPPED           | SKIPPED          | SKIPPED           | SKIPPED                 |
+-----------------------------------+--------------------+-------------------+------------------+-------------------+-------------------------+
| FreeBSD 13.4                      | PASS               | SKIPPED           | SKIPPED          | SKIPPED           | SKIPPED                 |
+-----------------------------------+--------------------+-------------------+------------------+-------------------+-------------------------+
| Ubuntu 24.04                      | PASS               | PASS              | PASS             | SKIPPED           | SKIPPED                 |
+-----------------------------------+--------------------+-------------------+------------------+-------------------+-------------------------+
| FreeBSD 14.2                      | PASS               | SKIPPED           | SKIPPED          | SKIPPED           | SKIPPED                 |
+-----------------------------------+--------------------+-------------------+------------------+-------------------+-------------------------+
| Windows Server 2022               | SKIPPED            | SKIPPED           | SKIPPED          | PASS              | PASS                    |
+-----------------------------------+--------------------+-------------------+------------------+-------------------+-------------------------+


CentOS Stream 9
	Kernel: Depends on container host
	Compiler: gcc 11.5.0 20240719 (Red Hat 11.5.0-2)

CentOS Stream 10
	Kernel: Depends on container host
	Compiler: gcc 14.2.1 20241104 (Red Hat 14.2.1-6)

Debian 12
	Kernel: Depends on container host
	Compiler: gcc (Debian 12.2.0-14) 12.2.0

Fedora 40 (Clang)
	Kernel: Depends on container host
	Compiler: clang 18.1.8 (Fedora 18.1.8-1.fc40)

Fedora 40
	Kernel: Depends on container host
	Compiler: gcc 14.2.1 20240912 (Red Hat 14.2.1-3)

Fedora 41
	Kernel: Depends on container host
	Compiler: gcc 14.2.1 20240912 (Red Hat 14.2.1-3)

Fedora 41 (Clang)
	Kernel: Depends on container host
	Compiler: clang 19.1.5 (Fedora 19.1.5-1.fc41)

openSUSE Leap 15
	Kernel: Depends on container host
	Compiler: gcc (SUSE Linux) 7.5.0

RHEL8
	Kernel: Depends on container host
	Compiler: gcc 8.5.0 20210514 (Red Hat 8.5.0-22)

RHEL9
	Kernel: Depends on container host
	Compiler: gcc 11.5.0 20240719 (Red Hat 11.5.0-2)

Ubuntu 20.04
	Kernel: Depends on container host
	Compiler: gcc (Ubuntu 9.4.0-1ubuntu1~20.04.2) 9.4.0

Ubuntu 22.04
	Kernel: Depends on container host
	Compiler: gcc (Ubuntu 11.4.0-1ubuntu1~22.04) 11.4.0

Alpine
	Kernel: Depends on container host
	Compiler: gcc (Alpine 14.2.0) 14.2.0

Ubuntu 24.04 32 Bit Cross Compile
	Kernel: Depends on container host
	Compiler: gcc (Ubuntu 13.3.0-6ubuntu2~24.04) 13.3.0

FreeBSD 13.4
	Kernel: 13.4-RELEASE-p1
	Compiler: clang 18.1.6

Ubuntu 24.04
	Kernel: Depends on container host
	Compiler: gcc (Ubuntu 13.3.0-6ubuntu2~24.04) 13.3.0

FreeBSD 14.2
	Kernel: 14.2-RELEASE
	Compiler: clang 18.1.6

Windows Server 2022
	Kernel: 10.0.20348.2031
	Compiler: clang 15.0.7, gcc 14.1.0 (MinGW), and MSVC VS 19.39.33521

To view detailed results, visit:
https://lab.dpdk.org/results/dashboard/patchsets/32810/

UNH-IOL DPDK Community Lab

To manage your email subscriptions, visit: 
https://lab.dpdk.org/results/dashboard/preferences/subscriptions/