From mboxrd@z Thu Jan  1 00:00:00 1970
Return-Path: <test-report-bounces@dpdk.org>
Received: from mails.dpdk.org (mails.dpdk.org [217.70.189.124])
	by inbox.dpdk.org (Postfix) with ESMTP id 44CD34638F
	for <public@inbox.dpdk.org>; Wed, 12 Mar 2025 22:48:36 +0100 (CET)
Received: from mails.dpdk.org (localhost [127.0.0.1])
	by mails.dpdk.org (Postfix) with ESMTP id 328F040DCD;
	Wed, 12 Mar 2025 22:48:36 +0100 (CET)
Received: from mail-io1-f97.google.com (mail-io1-f97.google.com
 [209.85.166.97]) by mails.dpdk.org (Postfix) with ESMTP id 3EF0540663
 for <test-report@dpdk.org>; Wed, 12 Mar 2025 22:48:35 +0100 (CET)
Received: by mail-io1-f97.google.com with SMTP id
 ca18e2360f4ac-85b40c7d608so27644139f.3
 for <test-report@dpdk.org>; Wed, 12 Mar 2025 14:48:35 -0700 (PDT)
DKIM-Signature: v=1; a=rsa-sha256; c=relaxed/relaxed;
 d=iol.unh.edu; s=unh-iol; t=1741816114; x=1742420914; darn=dpdk.org;
 h=references:in-reply-to:cc:to:from:subject:message-id:date:from:to
 :cc:subject:date:message-id:reply-to;
 bh=G0U9MiFPyFJcXu3AcG9OIlk2qUPEMrlfEk1f5tZr48U=;
 b=EA0hvEszmQ3DYSK7mA89viVhu0flBIciqz8Vag45X56zlvG1acXyfB4JZm1HcV9S2T
 FqCa9fkPeMlsHIiQBV/PEUjtEC5w+gMaWu6S4vKmx4Ldl4aLja16B/YJR4/DUDcwasBY
 L+GUulALoFB7H1Fno0hw8OCPSC0i7FGCKKRLk=
X-Google-DKIM-Signature: v=1; a=rsa-sha256; c=relaxed/relaxed;
 d=1e100.net; s=20230601; t=1741816114; x=1742420914;
 h=references:in-reply-to:cc:to:from:subject:message-id:date
 :x-gm-message-state:from:to:cc:subject:date:message-id:reply-to;
 bh=G0U9MiFPyFJcXu3AcG9OIlk2qUPEMrlfEk1f5tZr48U=;
 b=nCsKY8++z9UdMTSPhe+foauCTiHsYjBfUF826XBGTbHbnJuHaQ/0iiQGxZXsqnTiC6
 5fQfB0hj3qH2VCBCrNpmGlCMsaR0hCtI8UdTwnser6qIXKw9SE6ZVw8MZyXWcLtM9p2c
 6DXCb6nsYNRyDlTHlZkkKbStaNtFTfS5b++WBlRDucmWCag0K/bU+fgKDgR3Nj0o3XEu
 lGbhmw/xNzW8Od3oeQE4HmU/VxLtTkBtwZHYY9SXnh881zZGAmIKPYpeezTFWygQkTc8
 fa37Sq1NPPFilLzA+YOqKPePXQC4PAS2KUI+1TNHJXjBxdt4vj8vpWAULR0rEGOxVzKs
 HnVQ==
X-Gm-Message-State: AOJu0Yy5F2otsQAz2KyFJhiHOOnTVKL92AQ3kdQIwwGJ0w5f3lWHUcHq
 Ft2wjtBjZcWfJ5zxU53sppzTRctGRnIT1QEqh0GDadGn2ud3rNLDge5jBiWJsSGeyrGHl9vIz9A
 88Wty4RFwMIITVsRe0Ytk5oXQ+IMKKuraD2moKudlFv24cW+CriHsAdBg
X-Gm-Gg: ASbGnctVkF2vx+7RnYiuNt0sLQfsN5B0Dy7GFXpNPKmutRMCUZ/xA9fnZWoQog2u1Gw
 xvPDceEQmpJJpOVpbWEOW7hFSmvgP1iz4+fNksR8iujhuPaBfxDWIvRUQKeHtqera+4SMwBXxhA
 VEYdqeSzqRGlYxLEBcNCXALu9Z1fyuqElbj9GkYwvDHmGiJ2ZgzhrVJFsrqyTJfo3JumtSdnguV
 D/03lWcbhvhtDSaSjAqKsp3n8Q8eeAtWx8ftiqHlxzYsfGX1gh6db4XGCFEdsHPpmqiHpNQL9Fg
 RAy8EqkAa2dWYnUFzp1I2PM7ZLHyX1fqZXwpO3Hs9DJB+TqM+NZC
X-Google-Smtp-Source: AGHT+IEFjFjEtsHrzI0butXPmtuXVOikIayDXWEOGFwMJSTtMyiWNEXte1Raf5eSkYxBVUGwlWCQtcEqNW31
X-Received: by 2002:a05:6602:7216:b0:85b:3827:ecef with SMTP id
 ca18e2360f4ac-85d97399fabmr1120587239f.12.1741816114543; 
 Wed, 12 Mar 2025 14:48:34 -0700 (PDT)
Received: from postal.iol.unh.edu (postal.iol.unh.edu.
 [2606:4100:3880:1234::84]) by smtp-relay.gmail.com with ESMTPS id
 ca18e2360f4ac-85db87a6a64sm284139f.13.2025.03.12.14.48.34
 (version=TLS1_2 cipher=ECDHE-ECDSA-AES128-GCM-SHA256 bits=128/128);
 Wed, 12 Mar 2025 14:48:34 -0700 (PDT)
X-Relaying-Domain: iol.unh.edu
Date: Wed, 12 Mar 2025 14:48:34 -0700 (PDT)
Message-ID: <67d20132.050a0220.c5ef7.0252SMTPIN_ADDED_MISSING@mx.google.com>
Received: from [172.21.0.5] (unknown [172.18.0.240])
 by postal.iol.unh.edu (Postfix) with ESMTP id 7F8316052471;
 Wed, 12 Mar 2025 17:48:31 -0400 (EDT)
Subject: |SUCCESS| pw152351-152350 [PATCH] [v3,3/3] hash_readwrite_autotest: 
From: dpdklab@iol.unh.edu
To: Test Report <test-report@dpdk.org>
Cc: dpdk-test-reports@iol.unh.edu
In-Reply-To: <1741807714-26748-4-git-send-email-andremue@linux.microsoft.com>
References: <1741807714-26748-4-git-send-email-andremue@linux.microsoft.com>
Content-Type: text/plain
X-BeenThere: test-report@dpdk.org
X-Mailman-Version: 2.1.29
Precedence: list
List-Id: automatic DPDK test reports <test-report.dpdk.org>
List-Unsubscribe: <https://mails.dpdk.org/options/test-report>,
 <mailto:test-report-request@dpdk.org?subject=unsubscribe>
List-Archive: <http://mails.dpdk.org/archives/test-report/>
List-Post: <mailto:test-report@dpdk.org>
List-Help: <mailto:test-report-request@dpdk.org?subject=help>
List-Subscribe: <https://mails.dpdk.org/listinfo/test-report>,
 <mailto:test-report-request@dpdk.org?subject=subscribe>
Errors-To: test-report-bounces@dpdk.org

Test-Label: iol-abi-testing
Test-Status: SUCCESS
http://dpdk.org/patch/152350

_Testing PASS_

Submitter: Andre Muezerie <andremue@linux.microsoft.com>
Date: Wednesday, March 12 2025 19:28:34 
DPDK git baseline: Repo:dpdk
  Branch: master
  CommitID:7d6c28c9199351805e693e9b8f58f60e6f51c2ab

152351-152350 --> testing pass

Upstream job id: Generic-DPDK-Compile-ABI#120120

Test environment and result as below:

+-------------------+----------+
|    Environment    | abi_test |
+===================+==========+
| CentOS Stream 9   | PASS     |
+-------------------+----------+
| Fedora 40 (Clang) | PASS     |
+-------------------+----------+
| Debian 12         | PASS     |
+-------------------+----------+
| CentOS Stream 10  | PASS     |
+-------------------+----------+
| Fedora 41 (Clang) | PASS     |
+-------------------+----------+
| Fedora 41         | PASS     |
+-------------------+----------+
| openSUSE Leap 15  | PASS     |
+-------------------+----------+
| RHEL8             | PASS     |
+-------------------+----------+
| RHEL9             | PASS     |
+-------------------+----------+
| Ubuntu 22.04      | PASS     |
+-------------------+----------+
| Ubuntu 24.04      | PASS     |
+-------------------+----------+
| Fedora 40         | PASS     |
+-------------------+----------+


CentOS Stream 9
	Kernel: Depends on container host
	Compiler: gcc 11.5.0 20240719 (Red Hat 11.5.0-2)

Fedora 40 (Clang)
	Kernel: Depends on container host
	Compiler: clang 18.1.8 (Fedora 18.1.8-1.fc40)

Debian 12
	Kernel: Depends on container host
	Compiler: gcc (Debian 12.2.0-14) 12.2.0

CentOS Stream 10
	Kernel: Depends on container host
	Compiler: gcc 14.2.1 20241104 (Red Hat 14.2.1-6)

Fedora 41 (Clang)
	Kernel: Depends on container host
	Compiler: clang 19.1.5 (Fedora 19.1.5-1.fc41)

Fedora 41
	Kernel: Depends on container host
	Compiler: gcc 14.2.1 20240912 (Red Hat 14.2.1-3)

openSUSE Leap 15
	Kernel: Depends on container host
	Compiler: gcc (SUSE Linux) 7.5.0

RHEL8
	Kernel: Depends on container host
	Compiler: gcc 8.5.0 20210514 (Red Hat 8.5.0-22)

RHEL9
	Kernel: Depends on container host
	Compiler: gcc 11.5.0 20240719 (Red Hat 11.5.0-2)

Ubuntu 22.04
	Kernel: Depends on container host
	Compiler: gcc (Ubuntu 11.4.0-1ubuntu1~22.04) 11.4.0

Ubuntu 24.04
	Kernel: Depends on container host
	Compiler: gcc (Ubuntu 13.3.0-6ubuntu2~24.04) 13.3.0

Fedora 40
	Kernel: Depends on container host
	Compiler: gcc 14.2.1 20240912 (Red Hat 14.2.1-3)

To view detailed results, visit:
https://lab.dpdk.org/results/dashboard/patchsets/32812/

UNH-IOL DPDK Community Lab

To manage your email subscriptions, visit: 
https://lab.dpdk.org/results/dashboard/preferences/subscriptions/