From mboxrd@z Thu Jan  1 00:00:00 1970
Return-Path: <test-report-bounces@dpdk.org>
Received: from mails.dpdk.org (mails.dpdk.org [217.70.189.124])
	by inbox.dpdk.org (Postfix) with ESMTP id 833894638F
	for <public@inbox.dpdk.org>; Thu, 13 Mar 2025 00:13:33 +0100 (CET)
Received: from mails.dpdk.org (localhost [127.0.0.1])
	by mails.dpdk.org (Postfix) with ESMTP id 79BB94025D;
	Thu, 13 Mar 2025 00:13:33 +0100 (CET)
Received: from mail-oa1-f98.google.com (mail-oa1-f98.google.com
 [209.85.160.98]) by mails.dpdk.org (Postfix) with ESMTP id 1CA3E40144
 for <test-report@dpdk.org>; Thu, 13 Mar 2025 00:13:32 +0100 (CET)
Received: by mail-oa1-f98.google.com with SMTP id
 586e51a60fabf-2b199bb8af9so1019085fac.1
 for <test-report@dpdk.org>; Wed, 12 Mar 2025 16:13:32 -0700 (PDT)
DKIM-Signature: v=1; a=rsa-sha256; c=relaxed/relaxed;
 d=iol.unh.edu; s=unh-iol; t=1741821211; x=1742426011; darn=dpdk.org;
 h=references:in-reply-to:cc:to:from:subject:message-id:date:from:to
 :cc:subject:date:message-id:reply-to;
 bh=K71Z0p8kfidkrhAhMM8N90KdMuwFAmnmFRoK23d3X3w=;
 b=AkzK3tXRc0Fh5QuCWwLEcj2yLHkHZbDpX2JBqq3KBgXlkJux39/1/Ttz0JYhINYMub
 W6HFnLv6H8CPQrmkmelxofzqVG9JIgHf38ehhe9ktMstneEnBfyJZgLZWcOMLSJPztD1
 22JzwwrVUo9MXpqTA+cItJ5kXKinfMEVCkQUo=
X-Google-DKIM-Signature: v=1; a=rsa-sha256; c=relaxed/relaxed;
 d=1e100.net; s=20230601; t=1741821211; x=1742426011;
 h=references:in-reply-to:cc:to:from:subject:message-id:date
 :x-gm-message-state:from:to:cc:subject:date:message-id:reply-to;
 bh=K71Z0p8kfidkrhAhMM8N90KdMuwFAmnmFRoK23d3X3w=;
 b=RERx9lU1EasTnH+rPb7usKQGO6l2fYZqKkWxRE99bznYMhXQdmHarIqPni71oH/rpF
 kzab3KSKY4zmu/5ayPHZbmLFp9HQMPrdrj29mIdCzDjBq4sriZirIotjuTNtGEjvfyBk
 Pd1XKL1MW0ZhYO8gLfUgqLS1eSBAMLXb83wWMTR5wFfLJElKazj7KltOmv1UdJN9Jt3G
 UeTP2ZtXIte3a64EmlNVzM8SXtEj2KVcr4UZBGl2NCg9CzLlgwWKQxR8C01cWo/I5KEB
 S3nkkXZbq1PzMJYX0XQIE2fzY2sd0kYmRyzOFYy0/ugvqwUj5ccgs/Xj/PGIGybxQRXo
 LaFQ==
X-Gm-Message-State: AOJu0YwA0HMC6LemkXCXdtRWYkzmLBCuw7ls9jtMAT6qBJUPZ3SqzGXn
 H9yUW6o37UEmXJe7NT0UbA+X9yhtU2IKM0M5bt0Fmzoo0pP88+7nbqU/r2DrZBUhGiMGJ/dagPZ
 ASXMXjgP3mNX/nSxfayU4lrgFP380yARhuh5tkZmhD6xH2flXHXE858cO
X-Gm-Gg: ASbGncskU0iO9BMuAJ2O2fI6umuSNyjNE0IL68TKXYzaeX/ymnge51ZuEnE3CEAlfth
 k1J1YFMFZLdTn91+N3lAMLWdyMqHNGZryvfwKxRKs+xCsPyrgNx97M8PxMgrn/zHitq23+4OPcJ
 sL6jqqmiRsKW76WlUYajI2rJvuEWAGTLWa+Wyzazjwx+O4EJtMQ4Ccn3m+fLPL3q8UwXO0njQBn
 T0MUvMkR8o8PHO/c+B9P6TLEKasH/iTfD/N+d5D+BLxS2H8VAf9SOZIsgk91VAeiXY8BXWTCNCs
 JiNxiv7E2upMY4A6q76Oo3Fbecm885dPsYtL/eOlYK5n1OzozkWD
X-Google-Smtp-Source: AGHT+IGp1Um6Yfe41OvBhbAER3JQIyvBC7M2pd5oXinMdzSKInLi+EYPMEZeynFrw7RzJzP0AvQ9sdVPAqAe
X-Received: by 2002:a05:6870:638b:b0:2a7:8b78:e902 with SMTP id
 586e51a60fabf-2c66f8e86c1mr185078fac.7.1741821211283; 
 Wed, 12 Mar 2025 16:13:31 -0700 (PDT)
Received: from postal.iol.unh.edu (postal.iol.unh.edu.
 [2606:4100:3880:1234::84]) by smtp-relay.gmail.com with ESMTPS id
 586e51a60fabf-2c6712ef54fsm4481fac.38.2025.03.12.16.13.31
 (version=TLS1_2 cipher=ECDHE-ECDSA-AES128-GCM-SHA256 bits=128/128);
 Wed, 12 Mar 2025 16:13:31 -0700 (PDT)
X-Relaying-Domain: iol.unh.edu
Date: Wed, 12 Mar 2025 16:13:31 -0700 (PDT)
Message-ID: <67d2151b.050a0220.13dbff.048dSMTPIN_ADDED_MISSING@mx.google.com>
Received: from [172.17.0.4] (unknown [172.18.0.217])
 by postal.iol.unh.edu (Postfix) with ESMTP id 9543C6052471;
 Wed, 12 Mar 2025 19:13:28 -0400 (EDT)
Subject: |SUCCESS| pw152349 [PATCH] net/intel: remove unnecessary compiler fl
From: dpdklab@iol.unh.edu
To: Test Report <test-report@dpdk.org>
Cc: dpdk-test-reports@iol.unh.edu
In-Reply-To: <20250312155458.1395709-1-bruce.richardson@intel.com>
References: <20250312155458.1395709-1-bruce.richardson@intel.com>
Content-Type: text/plain
X-BeenThere: test-report@dpdk.org
X-Mailman-Version: 2.1.29
Precedence: list
List-Id: automatic DPDK test reports <test-report.dpdk.org>
List-Unsubscribe: <https://mails.dpdk.org/options/test-report>,
 <mailto:test-report-request@dpdk.org?subject=unsubscribe>
List-Archive: <http://mails.dpdk.org/archives/test-report/>
List-Post: <mailto:test-report@dpdk.org>
List-Help: <mailto:test-report-request@dpdk.org?subject=help>
List-Subscribe: <https://mails.dpdk.org/listinfo/test-report>,
 <mailto:test-report-request@dpdk.org?subject=subscribe>
Errors-To: test-report-bounces@dpdk.org

Test-Label: iol-compile-amd64-testing
Test-Status: SUCCESS
http://dpdk.org/patch/152349

_Testing PASS_

Submitter: Bruce Richardson <bruce.richardson@intel.com>
Date: Wednesday, March 12 2025 15:54:58 
DPDK git baseline: Repo:dpdk
  Branch: master
  CommitID:e4ef869b27976696648133fd46fb40f3f163fdf3

152349 --> testing pass

Upstream job id: Generic-DPDK-Compile-Meson#371619

Test environment and result as below:

+-----------------------------------+--------------------+-------------------+------------------+-------------------+
|            Environment            | dpdk_meson_compile | dpdk_compile_spdk | dpdk_compile_ovs | dpdk_msvc_compile |
+===================================+====================+===================+==================+===================+
| CentOS Stream 9                   | PASS               | PASS              | SKIPPED          | SKIPPED           |
+-----------------------------------+--------------------+-------------------+------------------+-------------------+
| Debian 12                         | PASS               | PASS              | SKIPPED          | SKIPPED           |
+-----------------------------------+--------------------+-------------------+------------------+-------------------+
| Fedora 40 (Clang)                 | PASS               | PASS              | SKIPPED          | SKIPPED           |
+-----------------------------------+--------------------+-------------------+------------------+-------------------+
| Fedora 40                         | PASS               | PASS              | SKIPPED          | SKIPPED           |
+-----------------------------------+--------------------+-------------------+------------------+-------------------+
| Fedora 41 (Clang)                 | PASS               | PASS              | PASS             | SKIPPED           |
+-----------------------------------+--------------------+-------------------+------------------+-------------------+
| openSUSE Leap 15                  | PASS               | SKIPPED           | SKIPPED          | SKIPPED           |
+-----------------------------------+--------------------+-------------------+------------------+-------------------+
| RHEL8                             | PASS               | SKIPPED           | SKIPPED          | SKIPPED           |
+-----------------------------------+--------------------+-------------------+------------------+-------------------+
| Ubuntu 20.04                      | PASS               | SKIPPED           | SKIPPED          | SKIPPED           |
+-----------------------------------+--------------------+-------------------+------------------+-------------------+
| RHEL9                             | PASS               | SKIPPED           | SKIPPED          | SKIPPED           |
+-----------------------------------+--------------------+-------------------+------------------+-------------------+
| Alpine                            | PASS               | SKIPPED           | SKIPPED          | SKIPPED           |
+-----------------------------------+--------------------+-------------------+------------------+-------------------+
| Ubuntu 24.04 32 Bit Cross Compile | PASS               | SKIPPED           | SKIPPED          | SKIPPED           |
+-----------------------------------+--------------------+-------------------+------------------+-------------------+
| FreeBSD 13.4                      | PASS               | SKIPPED           | SKIPPED          | SKIPPED           |
+-----------------------------------+--------------------+-------------------+------------------+-------------------+
| FreeBSD 14.2                      | PASS               | SKIPPED           | SKIPPED          | SKIPPED           |
+-----------------------------------+--------------------+-------------------+------------------+-------------------+
| Fedora 41                         | PASS               | PASS              | PASS             | SKIPPED           |
+-----------------------------------+--------------------+-------------------+------------------+-------------------+
| CentOS Stream 10                  | PASS               | SKIPPED           | SKIPPED          | SKIPPED           |
+-----------------------------------+--------------------+-------------------+------------------+-------------------+
| Ubuntu 24.04                      | PASS               | PASS              | PASS             | SKIPPED           |
+-----------------------------------+--------------------+-------------------+------------------+-------------------+
| Ubuntu 22.04                      | PASS               | PASS              | SKIPPED          | SKIPPED           |
+-----------------------------------+--------------------+-------------------+------------------+-------------------+
| Windows Server 2022               | SKIPPED            | SKIPPED           | SKIPPED          | PASS              |
+-----------------------------------+--------------------+-------------------+------------------+-------------------+


CentOS Stream 9
	Kernel: Depends on container host
	Compiler: gcc 11.5.0 20240719 (Red Hat 11.5.0-2)

Debian 12
	Kernel: Depends on container host
	Compiler: gcc (Debian 12.2.0-14) 12.2.0

Fedora 40 (Clang)
	Kernel: Depends on container host
	Compiler: clang 18.1.8 (Fedora 18.1.8-1.fc40)

Fedora 40
	Kernel: Depends on container host
	Compiler: gcc 14.2.1 20240912 (Red Hat 14.2.1-3)

Fedora 41 (Clang)
	Kernel: Depends on container host
	Compiler: clang 19.1.5 (Fedora 19.1.5-1.fc41)

openSUSE Leap 15
	Kernel: Depends on container host
	Compiler: gcc (SUSE Linux) 7.5.0

RHEL8
	Kernel: Depends on container host
	Compiler: gcc 8.5.0 20210514 (Red Hat 8.5.0-22)

Ubuntu 20.04
	Kernel: Depends on container host
	Compiler: gcc (Ubuntu 9.4.0-1ubuntu1~20.04.2) 9.4.0

RHEL9
	Kernel: Depends on container host
	Compiler: gcc 11.5.0 20240719 (Red Hat 11.5.0-2)

Alpine
	Kernel: Depends on container host
	Compiler: gcc (Alpine 14.2.0) 14.2.0

Ubuntu 24.04 32 Bit Cross Compile
	Kernel: Depends on container host
	Compiler: gcc (Ubuntu 13.3.0-6ubuntu2~24.04) 13.3.0

FreeBSD 13.4
	Kernel: 13.4-RELEASE-p1
	Compiler: clang 18.1.6

FreeBSD 14.2
	Kernel: 14.2-RELEASE
	Compiler: clang 18.1.6

Fedora 41
	Kernel: Depends on container host
	Compiler: gcc 14.2.1 20240912 (Red Hat 14.2.1-3)

CentOS Stream 10
	Kernel: Depends on container host
	Compiler: gcc 14.2.1 20241104 (Red Hat 14.2.1-6)

Ubuntu 24.04
	Kernel: Depends on container host
	Compiler: gcc (Ubuntu 13.3.0-6ubuntu2~24.04) 13.3.0

Ubuntu 22.04
	Kernel: Depends on container host
	Compiler: gcc (Ubuntu 11.4.0-1ubuntu1~22.04) 11.4.0

Windows Server 2022
	Kernel: 10.0.20348.2031
	Compiler: clang 15.0.7, gcc 14.1.0 (MinGW), and MSVC VS 19.39.33521

To view detailed results, visit:
https://lab.dpdk.org/results/dashboard/patchsets/32811/

UNH-IOL DPDK Community Lab

To manage your email subscriptions, visit: 
https://lab.dpdk.org/results/dashboard/preferences/subscriptions/