From mboxrd@z Thu Jan  1 00:00:00 1970
Return-Path: <test-report-bounces@dpdk.org>
Received: from mails.dpdk.org (mails.dpdk.org [217.70.189.124])
	by inbox.dpdk.org (Postfix) with ESMTP id 839B94638F
	for <public@inbox.dpdk.org>; Thu, 13 Mar 2025 00:45:51 +0100 (CET)
Received: from mails.dpdk.org (localhost [127.0.0.1])
	by mails.dpdk.org (Postfix) with ESMTP id 77B8940B94;
	Thu, 13 Mar 2025 00:45:51 +0100 (CET)
Received: from mail-yb1-f226.google.com (mail-yb1-f226.google.com
 [209.85.219.226])
 by mails.dpdk.org (Postfix) with ESMTP id 6739E402BB
 for <test-report@dpdk.org>; Thu, 13 Mar 2025 00:45:49 +0100 (CET)
Received: by mail-yb1-f226.google.com with SMTP id
 3f1490d57ef6-e5ad75ca787so447182276.0
 for <test-report@dpdk.org>; Wed, 12 Mar 2025 16:45:49 -0700 (PDT)
DKIM-Signature: v=1; a=rsa-sha256; c=relaxed/relaxed;
 d=iol.unh.edu; s=unh-iol; t=1741823148; x=1742427948; darn=dpdk.org;
 h=references:in-reply-to:cc:to:from:subject:message-id:date:from:to
 :cc:subject:date:message-id:reply-to;
 bh=Z7rEC3pE7Qp+K5aCle0aaXIcGoN3AFwtCn82EK6I2gs=;
 b=LbyQDYxfaMDex37WZxLPHKPuOpqLIUgi3+9qrnbpzM2paXNcNKZVI/JRf9i0ZuzgRS
 hwpIDy7LZcENZuSYYRNjda0dNyn39ouhegJhUyrfSQDeNtFvDf+IbunAPAAjfkf2++JC
 qNstmYhuOX62uPNz2INPhcelyP9QDJ53KrNlw=
X-Google-DKIM-Signature: v=1; a=rsa-sha256; c=relaxed/relaxed;
 d=1e100.net; s=20230601; t=1741823148; x=1742427948;
 h=references:in-reply-to:cc:to:from:subject:message-id:date
 :x-gm-message-state:from:to:cc:subject:date:message-id:reply-to;
 bh=Z7rEC3pE7Qp+K5aCle0aaXIcGoN3AFwtCn82EK6I2gs=;
 b=gqFEgiWWQkR4waHwfXUOLzPCDbumT1N2oA5zi47vZeg6cDd/ATOcP2eIBDkngn5F0X
 5yAUAnJDnpFftozAUKcAM7uut7xQcT8+k9Bv9+fO5MlHSPHheWY5A5wNisO4LWITqbnI
 fqA3QX+yttZ9hi1B3rwmgKIkHaqyMGhfOYcVoSCBv+lrcFLyZApdgYbwnDxwNSXzLt67
 grz2RQ5z/tRjU9f3wZLBUccEkTc98aJ8/Nvko75gNXymavQpmZ+yo3hW1+jLCUPKFRym
 Y+Hs3qBcFDTvrWRtf3IWygj4DabLUQswdjPED3B16fHmUa15XkGkQ7qQKX/324lJ6PDi
 XtOQ==
X-Gm-Message-State: AOJu0YwKzwr5qGN8Dviv/M1Sno6lBNMZCaUvpkDKEBbhoPitxlrOI1+V
 B1K49UD/yhWjCV3YU19nIXwzvoJrf0RgH2RQ07Lb9vvztA8++A+0foIUON+/xij2xDNtXRCQgDt
 kZGZPXHLlMEqrAXmSFQqf+ZE3kAqRbOM5STbNTUq0fIM7/R6TlduF9DjP
X-Gm-Gg: ASbGncvwBHViMiuZvT4KwflxpH1B47dyG42bADO97tsnBnin25hjxwI0GKn2Tbssmn1
 +tqeZ4TXd97LgoXczskPrZm8PCtFry18dfoH3ZmACA4eR5U4SZBNUIF4qlvQOn/c/8YWFbLO1Zs
 iMXHQD7hmih1lxXIASCAR0twyJSolEDqAuIt4/s+tWw6vBlMrxdieqE9rYF4wE7/sLH4loW4oHp
 9LdiBBqiWj/u7Pe+sDAj2kXPBl/gnfuaX1w9bAn2AqoSdulE/8Yhfa8i9POlXazw5fy/fRXHK3V
 PL+Yp5oYxFyBplUcK7odIeSYUGeP+nNF1eXU2M9a45scju6HjCmh
X-Google-Smtp-Source: AGHT+IGlnCMwKSJ+7R43nPhW//b3gvYQ42+NDlNFYwNp5Nlf2PNgdznQVVyr7KNjSRnGEHxokBcOtDarJ/Gj
X-Received: by 2002:a05:6902:2804:b0:e60:9c2e:896d with SMTP id
 3f1490d57ef6-e63e3be2554mr722813276.6.1741823148679; 
 Wed, 12 Mar 2025 16:45:48 -0700 (PDT)
Received: from postal.iol.unh.edu (postal.iol.unh.edu.
 [2606:4100:3880:1234::84]) by smtp-relay.gmail.com with ESMTPS id
 3f1490d57ef6-e63e54ea1bcsm3298276.26.2025.03.12.16.45.48
 (version=TLS1_2 cipher=ECDHE-ECDSA-AES128-GCM-SHA256 bits=128/128);
 Wed, 12 Mar 2025 16:45:48 -0700 (PDT)
X-Relaying-Domain: iol.unh.edu
Date: Wed, 12 Mar 2025 16:45:48 -0700 (PDT)
Message-ID: <67d21cac.250a0220.2eb620.034cSMTPIN_ADDED_MISSING@mx.google.com>
Received: from [172.17.0.3] (unknown [172.18.0.217])
 by postal.iol.unh.edu (Postfix) with ESMTP id 204696052471;
 Wed, 12 Mar 2025 19:45:48 -0400 (EDT)
Subject: |SUCCESS| pw152348 [PATCH] net/intel: using common functions in idpf
From: dpdklab@iol.unh.edu
To: Test Report <test-report@dpdk.org>
Cc: dpdk-test-reports@iol.unh.edu
In-Reply-To: <20250312155351.409879-1-shaiq.wani@intel.com>
References: <20250312155351.409879-1-shaiq.wani@intel.com>
Content-Type: text/plain
X-BeenThere: test-report@dpdk.org
X-Mailman-Version: 2.1.29
Precedence: list
List-Id: automatic DPDK test reports <test-report.dpdk.org>
List-Unsubscribe: <https://mails.dpdk.org/options/test-report>,
 <mailto:test-report-request@dpdk.org?subject=unsubscribe>
List-Archive: <http://mails.dpdk.org/archives/test-report/>
List-Post: <mailto:test-report@dpdk.org>
List-Help: <mailto:test-report-request@dpdk.org?subject=help>
List-Subscribe: <https://mails.dpdk.org/listinfo/test-report>,
 <mailto:test-report-request@dpdk.org?subject=subscribe>
Errors-To: test-report-bounces@dpdk.org

Test-Label: iol-unit-arm64-testing
Test-Status: SUCCESS
http://dpdk.org/patch/152348

_Testing PASS_

Submitter: Shaiq Wani <shaiq.wani@intel.com>
Date: Wednesday, March 12 2025 15:53:51 
DPDK git baseline: Repo:dpdk
  Branch: master
  CommitID:e4ef869b27976696648133fd46fb40f3f163fdf3

152348 --> testing pass

Upstream job id: Generic-Unit-Test-DPDK#323985

Test environment and result as below:

+-----------------------------+----------------+--------------+------------------------------+---------------------------+
|         Environment         | dpdk_unit_test | lpm_autotest | cryptodev_sw_snow3g_autotest | cryptodev_sw_zuc_autotest |
+=============================+================+==============+==============================+===========================+
| CentOS Stream 10 (ARM)      | PASS           | SKIPPED      | SKIPPED                      | SKIPPED                   |
+-----------------------------+----------------+--------------+------------------------------+---------------------------+
| CentOS Stream 9 (ARM)       | PASS           | SKIPPED      | SKIPPED                      | SKIPPED                   |
+-----------------------------+----------------+--------------+------------------------------+---------------------------+
| Fedora 40 (ARM)             | PASS           | SKIPPED      | SKIPPED                      | SKIPPED                   |
+-----------------------------+----------------+--------------+------------------------------+---------------------------+
| Debian 12 (arm)             | PASS           | SKIPPED      | PASS                         | PASS                      |
+-----------------------------+----------------+--------------+------------------------------+---------------------------+
| Fedora 41 (ARM Clang)       | PASS           | SKIPPED      | SKIPPED                      | SKIPPED                   |
+-----------------------------+----------------+--------------+------------------------------+---------------------------+
| Fedora 40 (ARM Clang)       | PASS           | SKIPPED      | SKIPPED                      | SKIPPED                   |
+-----------------------------+----------------+--------------+------------------------------+---------------------------+
| Ubuntu 20.04 (ARM)          | PASS           | SKIPPED      | SKIPPED                      | SKIPPED                   |
+-----------------------------+----------------+--------------+------------------------------+---------------------------+
| Fedora 41 (ARM)             | PASS           | SKIPPED      | SKIPPED                      | SKIPPED                   |
+-----------------------------+----------------+--------------+------------------------------+---------------------------+
| RHEL9 (ARM)                 | PASS           | SKIPPED      | SKIPPED                      | SKIPPED                   |
+-----------------------------+----------------+--------------+------------------------------+---------------------------+
| Ubuntu 24.04 (ARM)          | PASS           | SKIPPED      | SKIPPED                      | SKIPPED                   |
+-----------------------------+----------------+--------------+------------------------------+---------------------------+
| Ubuntu 22.04 (ARM)          | PASS           | SKIPPED      | SKIPPED                      | SKIPPED                   |
+-----------------------------+----------------+--------------+------------------------------+---------------------------+
| 32-bit Ubuntu 22.04.4 (ARM) | PASS           | SKIPPED      | SKIPPED                      | SKIPPED                   |
+-----------------------------+----------------+--------------+------------------------------+---------------------------+
| Ubuntu 20.04 ARM SVE        | SKIPPED        | PASS         | SKIPPED                      | SKIPPED                   |
+-----------------------------+----------------+--------------+------------------------------+---------------------------+


CentOS Stream 10 (ARM)
	Kernel: Depends on container host
	Compiler: gcc 14.2.1 20241104 (Red Hat 14.2.1-6)

CentOS Stream 9 (ARM)
	Kernel: Depends on container host
	Compiler: gcc 11.5.0 20240719 (Red Hat 11.5.0-2)

Fedora 40 (ARM)
	Kernel: Depends on container host
	Compiler: gcc 14.2.1 20240912 (Red Hat 14.2.1-3)

Debian 12 (arm)
	Kernel: Depends on container host
	Compiler: gcc (Debian 12.2.0-14) 12.2.0

Fedora 41 (ARM Clang)
	Kernel: Depends on container host
	Compiler: clang 19.1.5 (Fedora 19.1.5-1.fc41)

Fedora 40 (ARM Clang)
	Kernel: Depends on container host
	Compiler: clang 18.1.8 (Fedora 18.1.8-1.fc40)

Ubuntu 20.04 (ARM)
	Kernel: Depends on container host
	Compiler: gcc (Ubuntu 9.4.0-1ubuntu1~20.04.2) 9.4.0

Fedora 41 (ARM)
	Kernel: Depends on container host
	Compiler: gcc 14.2.1 20240912 (Red Hat 14.2.1-3)

RHEL9 (ARM)
	Kernel: Depends on container host
	Compiler: gcc 11.5.0 20240719 (Red Hat 11.5.0-2)

Ubuntu 24.04 (ARM)
	Kernel: Depends on container host
	Compiler: gcc (Ubuntu 13.3.0-6ubuntu2~24.04) 13.3.0

Ubuntu 22.04 (ARM)
	Kernel: Depends on container host
	Compiler: gcc (Ubuntu 11.4.0-1ubuntu1~22.04) 11.4.0

32-bit Ubuntu 22.04.4 (ARM)
	Kernel: 5.15.83+ aarch64
	Compiler: gcc (Ubuntu 11.4.0-1ubuntu1~22.04) 11.4.0

Ubuntu 20.04 ARM SVE
	Kernel: Depends on container host
	Compiler: gcc (Ubuntu 10.5.0-1ubuntu1~20.04) 10.5.0

To view detailed results, visit:
https://lab.dpdk.org/results/dashboard/patchsets/32810/

UNH-IOL DPDK Community Lab

To manage your email subscriptions, visit: 
https://lab.dpdk.org/results/dashboard/preferences/subscriptions/