From mboxrd@z Thu Jan  1 00:00:00 1970
Return-Path: <test-report-bounces@dpdk.org>
Received: from mails.dpdk.org (mails.dpdk.org [217.70.189.124])
	by inbox.dpdk.org (Postfix) with ESMTP id D49B946392
	for <public@inbox.dpdk.org>; Thu, 13 Mar 2025 02:00:34 +0100 (CET)
Received: from mails.dpdk.org (localhost [127.0.0.1])
	by mails.dpdk.org (Postfix) with ESMTP id BD32340B94;
	Thu, 13 Mar 2025 02:00:34 +0100 (CET)
Received: from mail-qv1-f98.google.com (mail-qv1-f98.google.com
 [209.85.219.98]) by mails.dpdk.org (Postfix) with ESMTP id 4794F402BB
 for <test-report@dpdk.org>; Thu, 13 Mar 2025 02:00:33 +0100 (CET)
Received: by mail-qv1-f98.google.com with SMTP id
 6a1803df08f44-6e8f43c1fa0so5156706d6.3
 for <test-report@dpdk.org>; Wed, 12 Mar 2025 18:00:33 -0700 (PDT)
DKIM-Signature: v=1; a=rsa-sha256; c=relaxed/relaxed;
 d=iol.unh.edu; s=unh-iol; t=1741827632; x=1742432432; darn=dpdk.org;
 h=references:in-reply-to:cc:to:from:subject:message-id:date:from:to
 :cc:subject:date:message-id:reply-to;
 bh=WlEDKTbYxGrra6i1gyxXZqMm7C38ShqZWZqMAGI+CGk=;
 b=D8v+EoWgHsJTQkUDI8Q0aSM69em/tXETeos9nJ/MW1j+i9IJNsEtHlqa0Rm9DDymR0
 vJpGbJ88jhiqpr0mYtXndzwIujnNTz0yDyDAgXvNO3AG2bUVtBr8ix68yDQvUB7DZrTL
 4rTXkVAzGM98JfwxyGiv1a4uRrpLIYdhmd6q0=
X-Google-DKIM-Signature: v=1; a=rsa-sha256; c=relaxed/relaxed;
 d=1e100.net; s=20230601; t=1741827632; x=1742432432;
 h=references:in-reply-to:cc:to:from:subject:message-id:date
 :x-gm-message-state:from:to:cc:subject:date:message-id:reply-to;
 bh=WlEDKTbYxGrra6i1gyxXZqMm7C38ShqZWZqMAGI+CGk=;
 b=or06vndKnejDM3mIBpAgEIXyzyLoBlX9iK82y1qQmXmcD8oPLN83UXvEb2qTUPRUbZ
 4eoF0/Lh4i/I0iu1kgPTSCbnWqdiO+9N83dOILlOsWkU/2VaBJH3/ROoF7H0y/ZT4cJc
 RTCL3gy9yvwLzgi6SBdeW8iB9y1I5qAuoiJgYRD05Llf1O31KBxKbbwkRSj6qf2u/uJz
 ZFB9FXuVhVbuZB1+IIdnL+2QWL4U1aRqew9AiyBVrDpcnZz8ETOpRNt6ramqgWc0HTJH
 8MZ1pBfyYypbEFo1d2YLZydULcPKgJAS/0ZU1ntdMHKli/3UP/mvvBHkZ0QSLOWNbFDD
 WQkw==
X-Gm-Message-State: AOJu0YyKXdRifBBRbZ/p3CYd9Kp/nmGPTQl0tZHJdOWQtiTEnQtFSGqr
 8x3ArSndCmFUvxv5qTL4AjOLMuo/YGLG8zVOilCIDL49MukMpYATr/MPdan4vn711F3m0pX7O2/
 OwRUmh8V0KrRco+ZD6cqaQH0ljJ2a4XXbAWdpkhm5
X-Gm-Gg: ASbGncs/ch4zCQxR+slnP2occuYtDv8NKHyK88rUl82mpwppJsgQUF6KkLtu70PUYHM
 /yZsHQ5mu18n3uqV13OFYN7tz1p4hX/HWCK/H6oSp0xO1Xyeksu2Kg+FLWiDh5RGFR7ZMOQXaiV
 ekme3Mnblcq7eHSjzu+PmZ65CR+PgL6PWKLlIZ81Bu1+DLiDglsxk0c3b2XPpUh+JeexDgPQ4nN
 e2KVICct0kcM9nD7a0y/kAiuuO0X5m5yOfnjr6s9Wf80BLJe7xAk0tb5d4PcYz+uXOndxevgZ/V
 556f7NtqKqBXaN22gMld+I2QitHhBnkzYE9hCmEp
X-Google-Smtp-Source: AGHT+IEa3seeCd2MSVR5IgKfi3opbG/WxeLAlg9zBeKht0W8uexcyDUjkxJNxfOdO/m0mSFfzDgH3FsruIB4
X-Received: by 2002:a0c:fc46:0:b0:6e8:fee2:aadf with SMTP id
 6a1803df08f44-6e9006752ebmr266638806d6.31.1741827632597; 
 Wed, 12 Mar 2025 18:00:32 -0700 (PDT)
Received: from postal.iol.unh.edu (postal.iol.unh.edu. [132.177.123.84])
 by smtp-relay.gmail.com with ESMTPS id
 6a1803df08f44-6eade1042absm174406d6.4.2025.03.12.18.00.32
 (version=TLS1_2 cipher=ECDHE-ECDSA-AES128-GCM-SHA256 bits=128/128);
 Wed, 12 Mar 2025 18:00:32 -0700 (PDT)
X-Relaying-Domain: iol.unh.edu
Date: Wed, 12 Mar 2025 18:00:32 -0700 (PDT)
Message-ID: <67d22e30.d40a0220.1d1f8a.1019SMTPIN_ADDED_MISSING@mx.google.com>
Received: from [172.17.0.3] (unknown [172.18.0.217])
 by postal.iol.unh.edu (Postfix) with ESMTP id 4455C6052471;
 Wed, 12 Mar 2025 21:00:32 -0400 (EDT)
Subject: |SUCCESS| pw152354-152362 [PATCH] [v3,9/9] net/ice: replace open cod
From: dpdklab@iol.unh.edu
To: Test Report <test-report@dpdk.org>
Cc: dpdk-test-reports@iol.unh.edu
In-Reply-To: <20250312231715.222149-10-stephen@networkplumber.org>
References: <20250312231715.222149-10-stephen@networkplumber.org>
Content-Type: text/plain
X-BeenThere: test-report@dpdk.org
X-Mailman-Version: 2.1.29
Precedence: list
List-Id: automatic DPDK test reports <test-report.dpdk.org>
List-Unsubscribe: <https://mails.dpdk.org/options/test-report>,
 <mailto:test-report-request@dpdk.org?subject=unsubscribe>
List-Archive: <http://mails.dpdk.org/archives/test-report/>
List-Post: <mailto:test-report@dpdk.org>
List-Help: <mailto:test-report-request@dpdk.org?subject=help>
List-Subscribe: <https://mails.dpdk.org/listinfo/test-report>,
 <mailto:test-report-request@dpdk.org?subject=subscribe>
Errors-To: test-report-bounces@dpdk.org

Test-Label: iol-abi-testing
Test-Status: SUCCESS
http://dpdk.org/patch/152362

_Testing PASS_

Submitter: Stephen Hemminger <stephen@networkplumber.org>
Date: Wednesday, March 12 2025 23:15:38 
DPDK git baseline: Repo:dpdk
  Branch: master
  CommitID:7d6c28c9199351805e693e9b8f58f60e6f51c2ab

152354-152362 --> testing pass

Upstream job id: Generic-DPDK-Compile-ABI#120153

Test environment and result as below:

+-------------------+----------+
|    Environment    | abi_test |
+===================+==========+
| Debian 12         | PASS     |
+-------------------+----------+
| Fedora 40 (Clang) | PASS     |
+-------------------+----------+
| Fedora 41 (Clang) | PASS     |
+-------------------+----------+
| CentOS Stream 10  | PASS     |
+-------------------+----------+
| Fedora 40         | PASS     |
+-------------------+----------+
| CentOS Stream 9   | PASS     |
+-------------------+----------+
| Fedora 41         | PASS     |
+-------------------+----------+
| openSUSE Leap 15  | PASS     |
+-------------------+----------+
| RHEL8             | PASS     |
+-------------------+----------+
| RHEL9             | PASS     |
+-------------------+----------+
| Ubuntu 22.04      | PASS     |
+-------------------+----------+
| Ubuntu 24.04      | PASS     |
+-------------------+----------+


Debian 12
	Kernel: Depends on container host
	Compiler: gcc (Debian 12.2.0-14) 12.2.0

Fedora 40 (Clang)
	Kernel: Depends on container host
	Compiler: clang 18.1.8 (Fedora 18.1.8-1.fc40)

Fedora 41 (Clang)
	Kernel: Depends on container host
	Compiler: clang 19.1.5 (Fedora 19.1.5-1.fc41)

CentOS Stream 10
	Kernel: Depends on container host
	Compiler: gcc 14.2.1 20241104 (Red Hat 14.2.1-6)

Fedora 40
	Kernel: Depends on container host
	Compiler: gcc 14.2.1 20240912 (Red Hat 14.2.1-3)

CentOS Stream 9
	Kernel: Depends on container host
	Compiler: gcc 11.5.0 20240719 (Red Hat 11.5.0-2)

Fedora 41
	Kernel: Depends on container host
	Compiler: gcc 14.2.1 20240912 (Red Hat 14.2.1-3)

openSUSE Leap 15
	Kernel: Depends on container host
	Compiler: gcc (SUSE Linux) 7.5.0

RHEL8
	Kernel: Depends on container host
	Compiler: gcc 8.5.0 20210514 (Red Hat 8.5.0-22)

RHEL9
	Kernel: Depends on container host
	Compiler: gcc 11.5.0 20240719 (Red Hat 11.5.0-2)

Ubuntu 22.04
	Kernel: Depends on container host
	Compiler: gcc (Ubuntu 11.4.0-1ubuntu1~22.04) 11.4.0

Ubuntu 24.04
	Kernel: Depends on container host
	Compiler: gcc (Ubuntu 13.3.0-6ubuntu2~24.04) 13.3.0

To view detailed results, visit:
https://lab.dpdk.org/results/dashboard/patchsets/32814/

UNH-IOL DPDK Community Lab

To manage your email subscriptions, visit: 
https://lab.dpdk.org/results/dashboard/preferences/subscriptions/