From mboxrd@z Thu Jan  1 00:00:00 1970
Return-Path: <test-report-bounces@dpdk.org>
Received: from mails.dpdk.org (mails.dpdk.org [217.70.189.124])
	by inbox.dpdk.org (Postfix) with ESMTP id D6D604639A
	for <public@inbox.dpdk.org>; Thu, 13 Mar 2025 07:43:09 +0100 (CET)
Received: from mails.dpdk.org (localhost [127.0.0.1])
	by mails.dpdk.org (Postfix) with ESMTP id D083A40DFD;
	Thu, 13 Mar 2025 07:43:09 +0100 (CET)
Received: from mail-pl1-f226.google.com (mail-pl1-f226.google.com
 [209.85.214.226])
 by mails.dpdk.org (Postfix) with ESMTP id 9A8C240B94
 for <test-report@dpdk.org>; Thu, 13 Mar 2025 07:43:08 +0100 (CET)
Received: by mail-pl1-f226.google.com with SMTP id
 d9443c01a7336-223fb0f619dso11169375ad.1
 for <test-report@dpdk.org>; Wed, 12 Mar 2025 23:43:08 -0700 (PDT)
DKIM-Signature: v=1; a=rsa-sha256; c=relaxed/relaxed;
 d=iol.unh.edu; s=unh-iol; t=1741848188; x=1742452988; darn=dpdk.org;
 h=cc:to:from:subject:message-id:date:from:to:cc:subject:date
 :message-id:reply-to;
 bh=qL/nsWV+LY+VVpb0N+6SXhg/G6Qpj57zNXO6tkNGkgU=;
 b=MtbAv9h7IwNzTKv0DEEMii3wUh2WpDvabS29FkY89u+XMa7hapIHTfo7lW8SCp1Wv+
 1lTCLPukudXJtMUhXH4g2NZ53h8yKYuXKg65OZbAd2q6SrWgv63WBPaRyaLZjLlRGUKz
 dcpyrTSrsOumFLToHsysPjRSuGU11pR9gajEI=
X-Google-DKIM-Signature: v=1; a=rsa-sha256; c=relaxed/relaxed;
 d=1e100.net; s=20230601; t=1741848188; x=1742452988;
 h=cc:to:from:subject:message-id:date:x-gm-message-state:from:to:cc
 :subject:date:message-id:reply-to;
 bh=qL/nsWV+LY+VVpb0N+6SXhg/G6Qpj57zNXO6tkNGkgU=;
 b=KBg22+SVRPnAwpl4bF+sc2QzaMDeHAm4fQnBfcjUNkw9B0mn7M1ktgniaLD47zVtRp
 JfUEbMTVr8yWzteh8+ZfznkB/LHTB2MmTbrKVcp4OZ9ILkY4GiZczr7vbHa29LEr8jWT
 gwq9Scvo+Vo6qpFBuuuQGfpKcM7SjrumgnGYLExWG03ydJlBXc3YNiu3mP3vOrj+z+e2
 mbsrmhrkox0CPE33tVpfTQU1qCN3oswIgDAg5NZ/jSVInFY8GPa0nGZFz8MvlpnSkR+p
 axt/48uBnbJCazboO83Hkl6+BcMJhr1SOiWuVUqNbVfgYyycR0XiycjUIPNQR2VVrHw4
 b7YQ==
X-Gm-Message-State: AOJu0YxxwX0+6sUhMxJplWVFaJsZFl066GhCP3QvLPteAyYthVIbVpYA
 C1CUSdHpVEADp7gIo476BeDFISJfW8AUgm+7HmY4ZrgPwwOZzU91xX3LpPUFoNmYtb6DyVHKVUg
 kjyKz/yGtww30s50yqK58Hij0JUXja7NepJHklW0wL8eB6Vgl
X-Gm-Gg: ASbGncvTlmHtBYB/qGrw+MAB6hGiwWArMRlu2S43f0aLO2C4dul9lG4BsXHIRr6DvU3
 uBX5d7WmJmg9v9wSAI9aJ9c99cGT0ix7StbiU4oLxeTx8qs/Dd4ckz6QPPlmJStOTm4OP0V/nli
 v8g6YTfdhv+lA3i94prLQCNEh3WHzlk4qk2ea/Nx1Qta/uD8wOC6nIBdjiupJ+W96JSG2XVcMIk
 JvH+J9N8S8WyivvNaH/bmsJZDUJdUXYN3IWWj7pxtemV5WKS4l22LBXpJW3jpyxpzzp4ritlHiV
 J1V3q2zoXRW639XjFhnW675qDJ0hiAuchU23b25jOpCPKuBokzEf
X-Google-Smtp-Source: AGHT+IGp45T57NE+UhJPZi9YyYoLAVg6G0fnSoj/aAcQ53xqKzWrl4Ae9rW8q93r3ywwVtF+oTSO02Nz539H
X-Received: by 2002:a17:902:c411:b0:224:de2:7fd0 with SMTP id
 d9443c01a7336-22592e44aa7mr118667045ad.25.1741848187787; 
 Wed, 12 Mar 2025 23:43:07 -0700 (PDT)
Received: from postal.iol.unh.edu (postal.iol.unh.edu.
 [2606:4100:3880:1234::84]) by smtp-relay.gmail.com with ESMTPS id
 d9443c01a7336-225c6c0e066sm278215ad.112.2025.03.12.23.43.07
 (version=TLS1_2 cipher=ECDHE-ECDSA-AES128-GCM-SHA256 bits=128/128);
 Wed, 12 Mar 2025 23:43:07 -0700 (PDT)
X-Relaying-Domain: iol.unh.edu
Date: Wed, 12 Mar 2025 23:43:07 -0700 (PDT)
Message-ID: <67d27e7b.170a0220.1a1e7d.1a0dSMTPIN_ADDED_MISSING@mx.google.com>
Received: from [172.21.0.5] (unknown [172.18.0.240])
 by postal.iol.unh.edu (Postfix) with ESMTP id E5A6D6052471;
 Thu, 13 Mar 2025 02:43:06 -0400 (EDT)
Subject: |SUCCESS| [GIT MASTER] c66daa12e76d7b4912cfb7109a761856a7a873ab
From: dpdklab@iol.unh.edu
To: Test Report <test-report@dpdk.org>
Cc: dpdk-test-reports@iol.unh.edu, Xueming Li <xuemingl@nvidia.com>,
 Christian Ehrhardt <christian.ehrhardt@canonical.com>,
 Kevin Traynor <ktraynor@redhat.com>, Luca Boccassi <bluca@debian.org>
Content-Type: text/plain
X-BeenThere: test-report@dpdk.org
X-Mailman-Version: 2.1.29
Precedence: list
List-Id: automatic DPDK test reports <test-report.dpdk.org>
List-Unsubscribe: <https://mails.dpdk.org/options/test-report>,
 <mailto:test-report-request@dpdk.org?subject=unsubscribe>
List-Archive: <http://mails.dpdk.org/archives/test-report/>
List-Post: <mailto:test-report@dpdk.org>
List-Help: <mailto:test-report-request@dpdk.org?subject=help>
List-Subscribe: <https://mails.dpdk.org/listinfo/test-report>,
 <mailto:test-report-request@dpdk.org?subject=subscribe>
Errors-To: test-report-bounces@dpdk.org

_Testing PASS_

Branch: tags/v23.11

c66daa12e76d7b4912cfb7109a761856a7a873ab --> testing pass

Upstream job id: Generic-DPDK-Compile-ABI#120177

Test environment and result as below:

+-------------------+----------+
|    Environment    | abi_test |
+===================+==========+
| CentOS Stream 9   | PASS     |
+-------------------+----------+
| Fedora 40 (Clang) | PASS     |
+-------------------+----------+
| Fedora 40         | PASS     |
+-------------------+----------+
| Fedora 41 (Clang) | PASS     |
+-------------------+----------+
| Fedora 41         | PASS     |
+-------------------+----------+
| openSUSE Leap 15  | PASS     |
+-------------------+----------+
| RHEL8             | PASS     |
+-------------------+----------+
| RHEL9             | PASS     |
+-------------------+----------+
| Ubuntu 24.04      | PASS     |
+-------------------+----------+
| CentOS Stream 10  | PASS     |
+-------------------+----------+
| Debian 12         | PASS     |
+-------------------+----------+
| Ubuntu 22.04      | PASS     |
+-------------------+----------+


CentOS Stream 9
	Kernel: Depends on container host
	Compiler: gcc 11.5.0 20240719 (Red Hat 11.5.0-2)

Fedora 40 (Clang)
	Kernel: Depends on container host
	Compiler: clang 18.1.8 (Fedora 18.1.8-1.fc40)

Fedora 40
	Kernel: Depends on container host
	Compiler: gcc 14.2.1 20240912 (Red Hat 14.2.1-3)

Fedora 41 (Clang)
	Kernel: Depends on container host
	Compiler: clang 19.1.5 (Fedora 19.1.5-1.fc41)

Fedora 41
	Kernel: Depends on container host
	Compiler: gcc 14.2.1 20240912 (Red Hat 14.2.1-3)

openSUSE Leap 15
	Kernel: Depends on container host
	Compiler: gcc (SUSE Linux) 7.5.0

RHEL8
	Kernel: Depends on container host
	Compiler: gcc 8.5.0 20210514 (Red Hat 8.5.0-22)

RHEL9
	Kernel: Depends on container host
	Compiler: gcc 11.5.0 20240719 (Red Hat 11.5.0-2)

Ubuntu 24.04
	Kernel: Depends on container host
	Compiler: gcc (Ubuntu 13.3.0-6ubuntu2~24.04) 13.3.0

CentOS Stream 10
	Kernel: Depends on container host
	Compiler: gcc 14.2.1 20241104 (Red Hat 14.2.1-6)

Debian 12
	Kernel: Depends on container host
	Compiler: gcc (Debian 12.2.0-14) 12.2.0

Ubuntu 22.04
	Kernel: Depends on container host
	Compiler: gcc (Ubuntu 11.4.0-1ubuntu1~22.04) 11.4.0

To view detailed results, visit:
https://lab.dpdk.org/results/dashboard/tarballs/32944/

UNH-IOL DPDK Community Lab

To manage your email subscriptions, visit: 
https://lab.dpdk.org/results/dashboard/preferences/subscriptions/