From mboxrd@z Thu Jan  1 00:00:00 1970
Return-Path: <test-report-bounces@dpdk.org>
Received: from mails.dpdk.org (mails.dpdk.org [217.70.189.124])
	by inbox.dpdk.org (Postfix) with ESMTP id 58DE74639F
	for <public@inbox.dpdk.org>; Thu, 13 Mar 2025 11:20:04 +0100 (CET)
Received: from mails.dpdk.org (localhost [127.0.0.1])
	by mails.dpdk.org (Postfix) with ESMTP id 4488940EAB;
	Thu, 13 Mar 2025 11:20:04 +0100 (CET)
Received: from mail-qv1-f97.google.com (mail-qv1-f97.google.com
 [209.85.219.97]) by mails.dpdk.org (Postfix) with ESMTP id 316B740E49
 for <test-report@dpdk.org>; Thu, 13 Mar 2025 11:20:02 +0100 (CET)
Received: by mail-qv1-f97.google.com with SMTP id
 6a1803df08f44-6e8efefec89so7381216d6.3
 for <test-report@dpdk.org>; Thu, 13 Mar 2025 03:20:02 -0700 (PDT)
DKIM-Signature: v=1; a=rsa-sha256; c=relaxed/relaxed;
 d=iol.unh.edu; s=unh-iol; t=1741861201; x=1742466001; darn=dpdk.org;
 h=cc:to:from:subject:message-id:date:from:to:cc:subject:date
 :message-id:reply-to;
 bh=ux1QYUGhrgyl0T+JDQh8oSo79vODOQsl7RPofC7P7+o=;
 b=AlI3RiMO0mjQB7g/yv7ahQb6tv/HwuqkxHEviontE6CBn4IK6pc3v/tYyo0KTscjQG
 9LTMneNAEgfWWhLLGx/IBav360MywFFb2p0IxpxY3azHVuQTF0Ni5qlTrj+yGkCbKZVe
 q9JI+If+YuQvaCDG4RvqKdqOB/cYA1UbH877E=
X-Google-DKIM-Signature: v=1; a=rsa-sha256; c=relaxed/relaxed;
 d=1e100.net; s=20230601; t=1741861201; x=1742466001;
 h=cc:to:from:subject:message-id:date:x-gm-message-state:from:to:cc
 :subject:date:message-id:reply-to;
 bh=ux1QYUGhrgyl0T+JDQh8oSo79vODOQsl7RPofC7P7+o=;
 b=SjEmCEXNHLt4DGPIJ81AkC/jhy9hydk4Q38vIhXa0RRQas3ljIjINc4F5BRjwnlmWY
 KzsIKGZHcWtJbivmEjOjaanYL0A7pq3u/fnhVP4kp5q+T1qF5oBsMC8yRHvTC7zEc6/k
 h2gnzMvxmp5l7+wf8NFsDpIBB8HZQExZEkiBuV96OiBZEQDP8AmrwZK+4pxtsEMMPs5t
 kODN4X+FZHpDv3IC/pqPtuXoNT4Nm1kuUaDYJT4rxvnVRqAVijpZ1srURZ272F2wiQib
 1c7ZxdKpP4B0ZLZVYw/CxGgwqIN2WqgIXF8CoybGm/y0KBO4jSISYCGHV5tf5isaJJAu
 0Ehg==
X-Gm-Message-State: AOJu0YyHPTSOEy1N/6UFlIWbo5VzW85HUBmSDe7VS3ZVp6oLWi8o29bS
 CxHWy3eZlKUHrDXv6OJiDmdIzv3s4LGZWMDQ0ifn/uW5cCKm0gC12iMV9C8hQUnrAVxshoJ4ryH
 C+ORpy5xUI1cAlnudb93kiq6XCZY7NKKNIiyaZMos8whBjytS
X-Gm-Gg: ASbGncvHsohs1vJSnNbTt3mdB7xdiH7G4xNLDGBBQMrpPij9tDNEUU1y0hzLPh4HI+m
 PMagl+Mt1CRNJtV7rxowTeuCJqH8Idh0NR/wOxKSWw96eCULAV4V11zO4JjrvaeDLLDN/+3/yFI
 MiMYSCMbcdrQKtxyvjTQZw+ANnHTiuTCjgKod2GcDbGv2BkYXvTJ+ECS1WR8NBibqjeX0Ahe/+L
 U+7o6TdKNc4mWQ9RXzxGnOo4XJUczywyXQPwb2XkDgV9g5LEDc5AvEsVKvnWEz2KnWPtkWFMp3O
 tc7Ru3bT6RwQiHRHLtZdDjQKnynnolViSnuVAjjNJw/Ts1egoSLG
X-Google-Smtp-Source: AGHT+IFHjQQDyW4fBGpR+OZB/Kl6WrPxbJOPKQK/eEOTnsej8SPaTsz3Ha1RpEQBCvHjg+0K5kKfwNEVl+KY
X-Received: by 2002:a05:6214:e6d:b0:6e4:6ee1:a282 with SMTP id
 6a1803df08f44-6ea2dd145d1mr180461636d6.18.1741861201538; 
 Thu, 13 Mar 2025 03:20:01 -0700 (PDT)
Received: from postal.iol.unh.edu (postal.iol.unh.edu.
 [2606:4100:3880:1234::84]) by smtp-relay.gmail.com with ESMTPS id
 6a1803df08f44-6eade105670sm547796d6.5.2025.03.13.03.20.01
 (version=TLS1_2 cipher=ECDHE-ECDSA-AES128-GCM-SHA256 bits=128/128);
 Thu, 13 Mar 2025 03:20:01 -0700 (PDT)
X-Relaying-Domain: iol.unh.edu
Date: Thu, 13 Mar 2025 03:20:01 -0700 (PDT)
Message-ID: <67d2b151.d40a0220.37a363.348dSMTPIN_ADDED_MISSING@mx.google.com>
Received: from [172.17.0.5] (unknown [172.18.0.217])
 by postal.iol.unh.edu (Postfix) with ESMTP id 403A96052471;
 Thu, 13 Mar 2025 06:20:01 -0400 (EDT)
Subject: |SUCCESS| [GIT MASTER] c66daa12e76d7b4912cfb7109a761856a7a873ab
From: dpdklab@iol.unh.edu
To: Test Report <test-report@dpdk.org>
Cc: dpdk-test-reports@iol.unh.edu, Xueming Li <xuemingl@nvidia.com>,
 Christian Ehrhardt <christian.ehrhardt@canonical.com>,
 Kevin Traynor <ktraynor@redhat.com>, Luca Boccassi <bluca@debian.org>
Content-Type: text/plain
X-BeenThere: test-report@dpdk.org
X-Mailman-Version: 2.1.29
Precedence: list
List-Id: automatic DPDK test reports <test-report.dpdk.org>
List-Unsubscribe: <https://mails.dpdk.org/options/test-report>,
 <mailto:test-report-request@dpdk.org?subject=unsubscribe>
List-Archive: <http://mails.dpdk.org/archives/test-report/>
List-Post: <mailto:test-report@dpdk.org>
List-Help: <mailto:test-report-request@dpdk.org?subject=help>
List-Subscribe: <https://mails.dpdk.org/listinfo/test-report>,
 <mailto:test-report-request@dpdk.org?subject=subscribe>
Errors-To: test-report-bounces@dpdk.org

_Testing PASS_

Branch: tags/v23.11

c66daa12e76d7b4912cfb7109a761856a7a873ab --> testing pass

Upstream job id: Windows-Compile-DPDK-Native#27322

Test environment and result as below:

+---------------------+--------------------+-------------------+------------------+-------------------+-------------------------+----------------------+
|     Environment     | dpdk_meson_compile | dpdk_compile_spdk | dpdk_compile_ovs | dpdk_msvc_compile | dpdk_llvm_clang_compile | dpdk_mingw64_compile |
+=====================+====================+===================+==================+===================+=========================+======================+
| CentOS Stream 9     | PASS               | PASS              | SKIPPED          | SKIPPED           | SKIPPED                 | SKIPPED              |
+---------------------+--------------------+-------------------+------------------+-------------------+-------------------------+----------------------+
| CentOS Stream 10    | PASS               | SKIPPED           | SKIPPED          | SKIPPED           | SKIPPED                 | SKIPPED              |
+---------------------+--------------------+-------------------+------------------+-------------------+-------------------------+----------------------+
| Debian 12           | PASS               | PASS              | SKIPPED          | SKIPPED           | SKIPPED                 | SKIPPED              |
+---------------------+--------------------+-------------------+------------------+-------------------+-------------------------+----------------------+
| Fedora 40 (Clang)   | PASS               | PASS              | SKIPPED          | SKIPPED           | SKIPPED                 | SKIPPED              |
+---------------------+--------------------+-------------------+------------------+-------------------+-------------------------+----------------------+
| Fedora 40           | PASS               | PASS              | SKIPPED          | SKIPPED           | SKIPPED                 | SKIPPED              |
+---------------------+--------------------+-------------------+------------------+-------------------+-------------------------+----------------------+
| Fedora 41 (Clang)   | PASS               | PASS              | PASS             | SKIPPED           | SKIPPED                 | SKIPPED              |
+---------------------+--------------------+-------------------+------------------+-------------------+-------------------------+----------------------+
| Fedora 41           | PASS               | PASS              | PASS             | SKIPPED           | SKIPPED                 | SKIPPED              |
+---------------------+--------------------+-------------------+------------------+-------------------+-------------------------+----------------------+
| openSUSE Leap 15    | PASS               | SKIPPED           | SKIPPED          | SKIPPED           | SKIPPED                 | SKIPPED              |
+---------------------+--------------------+-------------------+------------------+-------------------+-------------------------+----------------------+
| RHEL8               | PASS               | SKIPPED           | SKIPPED          | SKIPPED           | SKIPPED                 | SKIPPED              |
+---------------------+--------------------+-------------------+------------------+-------------------+-------------------------+----------------------+
| FreeBSD 13.4        | PASS               | SKIPPED           | SKIPPED          | SKIPPED           | SKIPPED                 | SKIPPED              |
+---------------------+--------------------+-------------------+------------------+-------------------+-------------------------+----------------------+
| Ubuntu 20.04        | PASS               | SKIPPED           | SKIPPED          | SKIPPED           | SKIPPED                 | SKIPPED              |
+---------------------+--------------------+-------------------+------------------+-------------------+-------------------------+----------------------+
| Ubuntu 22.04        | PASS               | PASS              | SKIPPED          | SKIPPED           | SKIPPED                 | SKIPPED              |
+---------------------+--------------------+-------------------+------------------+-------------------+-------------------------+----------------------+
| Ubuntu 24.04        | PASS               | PASS              | PASS             | SKIPPED           | SKIPPED                 | SKIPPED              |
+---------------------+--------------------+-------------------+------------------+-------------------+-------------------------+----------------------+
| Alpine              | PASS               | SKIPPED           | SKIPPED          | SKIPPED           | SKIPPED                 | SKIPPED              |
+---------------------+--------------------+-------------------+------------------+-------------------+-------------------------+----------------------+
| FreeBSD 14.2        | PASS               | SKIPPED           | SKIPPED          | SKIPPED           | SKIPPED                 | SKIPPED              |
+---------------------+--------------------+-------------------+------------------+-------------------+-------------------------+----------------------+
| RHEL9               | PASS               | SKIPPED           | SKIPPED          | SKIPPED           | SKIPPED                 | SKIPPED              |
+---------------------+--------------------+-------------------+------------------+-------------------+-------------------------+----------------------+
| Windows Server 2022 | SKIPPED            | SKIPPED           | SKIPPED          | PASS              | PASS                    | PASS                 |
+---------------------+--------------------+-------------------+------------------+-------------------+-------------------------+----------------------+


CentOS Stream 9
	Kernel: Depends on container host
	Compiler: gcc 11.5.0 20240719 (Red Hat 11.5.0-2)

CentOS Stream 10
	Kernel: Depends on container host
	Compiler: gcc 14.2.1 20241104 (Red Hat 14.2.1-6)

Debian 12
	Kernel: Depends on container host
	Compiler: gcc (Debian 12.2.0-14) 12.2.0

Fedora 40 (Clang)
	Kernel: Depends on container host
	Compiler: clang 18.1.8 (Fedora 18.1.8-1.fc40)

Fedora 40
	Kernel: Depends on container host
	Compiler: gcc 14.2.1 20240912 (Red Hat 14.2.1-3)

Fedora 41 (Clang)
	Kernel: Depends on container host
	Compiler: clang 19.1.5 (Fedora 19.1.5-1.fc41)

Fedora 41
	Kernel: Depends on container host
	Compiler: gcc 14.2.1 20240912 (Red Hat 14.2.1-3)

openSUSE Leap 15
	Kernel: Depends on container host
	Compiler: gcc (SUSE Linux) 7.5.0

RHEL8
	Kernel: Depends on container host
	Compiler: gcc 8.5.0 20210514 (Red Hat 8.5.0-22)

FreeBSD 13.4
	Kernel: 13.4-RELEASE-p1
	Compiler: clang 18.1.6

Ubuntu 20.04
	Kernel: Depends on container host
	Compiler: gcc (Ubuntu 9.4.0-1ubuntu1~20.04.2) 9.4.0

Ubuntu 22.04
	Kernel: Depends on container host
	Compiler: gcc (Ubuntu 11.4.0-1ubuntu1~22.04) 11.4.0

Ubuntu 24.04
	Kernel: Depends on container host
	Compiler: gcc (Ubuntu 13.3.0-6ubuntu2~24.04) 13.3.0

Alpine
	Kernel: Depends on container host
	Compiler: gcc (Alpine 14.2.0) 14.2.0

FreeBSD 14.2
	Kernel: 14.2-RELEASE
	Compiler: clang 18.1.6

RHEL9
	Kernel: Depends on container host
	Compiler: gcc 11.5.0 20240719 (Red Hat 11.5.0-2)

Windows Server 2022
	Kernel: 10.0.20348.2031
	Compiler: clang 15.0.7, gcc 14.1.0 (MinGW), and MSVC VS 19.39.33521

To view detailed results, visit:
https://lab.dpdk.org/results/dashboard/tarballs/32944/

UNH-IOL DPDK Community Lab

To manage your email subscriptions, visit: 
https://lab.dpdk.org/results/dashboard/preferences/subscriptions/