From mboxrd@z Thu Jan  1 00:00:00 1970
Return-Path: <test-report-bounces@dpdk.org>
Received: from mails.dpdk.org (mails.dpdk.org [217.70.189.124])
	by inbox.dpdk.org (Postfix) with ESMTP id 1359B4639F
	for <public@inbox.dpdk.org>; Thu, 13 Mar 2025 11:41:12 +0100 (CET)
Received: from mails.dpdk.org (localhost [127.0.0.1])
	by mails.dpdk.org (Postfix) with ESMTP id E8B1140EAB;
	Thu, 13 Mar 2025 11:41:11 +0100 (CET)
Received: from mail-io1-f100.google.com (mail-io1-f100.google.com
 [209.85.166.100])
 by mails.dpdk.org (Postfix) with ESMTP id 04D6740E49
 for <test-report@dpdk.org>; Thu, 13 Mar 2025 11:41:10 +0100 (CET)
Received: by mail-io1-f100.google.com with SMTP id
 ca18e2360f4ac-85dac9728cdso22060239f.0
 for <test-report@dpdk.org>; Thu, 13 Mar 2025 03:41:09 -0700 (PDT)
DKIM-Signature: v=1; a=rsa-sha256; c=relaxed/relaxed;
 d=iol.unh.edu; s=unh-iol; t=1741862469; x=1742467269; darn=dpdk.org;
 h=references:in-reply-to:cc:to:from:subject:message-id:date:from:to
 :cc:subject:date:message-id:reply-to;
 bh=ikkd4YFHoUWYh2pB9B9kaFT5VSeMbF/OCAx9lsmAh7A=;
 b=M4jSsLbl5ZJbm1f7laGuXCrUqCRc+1WW6uTgRDwYnQ+b6lxEvRRPwqWajUW8GJoaqh
 TkaBXW0wNoulyUWyHZjy4ri3Pd3OXr76KGOhqQRShfpjliK3jw16l/Fcz8gnimpdZHOT
 zZ4UTR9EuJt9seUEh4p1ed/aAbRd2de8gTqyQ=
X-Google-DKIM-Signature: v=1; a=rsa-sha256; c=relaxed/relaxed;
 d=1e100.net; s=20230601; t=1741862469; x=1742467269;
 h=references:in-reply-to:cc:to:from:subject:message-id:date
 :x-gm-message-state:from:to:cc:subject:date:message-id:reply-to;
 bh=ikkd4YFHoUWYh2pB9B9kaFT5VSeMbF/OCAx9lsmAh7A=;
 b=Vm7i8/8bIAPaXTqv3wYUkWv9WfB3u53fn2oBdqHaHW4NT4shbpF1ZYkC9U679kUDTJ
 lYdJ3vKq/sdEixdLRTZDD7VO3oQzXU/MH3q4158GFZei5asbU1AQtOOXc8xBI3Gs01uj
 OdQklrwes5eJ3/O+M/S/nzDETI0144XEwvN1LtTAk7nTOliLfZh/NCwqw3VHi/Hbt3Ou
 NXEOmzd0quFtRYtdVjWqGTQPDJOQz3SbjqieQ3Pvgy/KC/FoPDikjVzu1CtbIamCL126
 gVo4ZaJ1ugcELjtvHJLyLjQiFZyKSL3FoGFJpKxV6KIyqpR4T/Q28bSnwf18Erc7NgTh
 VteA==
X-Gm-Message-State: AOJu0YzqBgdCaQTsr3czPCAvmpRihH6z3WhCkDon8CK3xsBhAK7urXx2
 Tq3JivaqeSR0jp4NJfhFrtXHlNnLTGYMHCv99bI4ih/J19W5QHNarsNROw6giU1FoR6BJBreK2O
 pjSJpv0Hlf1gcG4kJGYxT4X4ebc7fe6FJJJk4FqLZA0ByoEvrEaeOGc9R
X-Gm-Gg: ASbGncs32UZ2YlkcxoLgwmvy3KKyWOD1ZV0U0WZM+B88upcRvF14CHZR0brnFwAbXrn
 /nbpYtM4nJ6UF+4evzfCFgOlIuNGbXwjV4z/jvitPMN0Fn1RIIpxPTz9JCYIRlC1yur/kii3ulR
 LK/kesI8Fe4X2VmvkUOYgwCgVKMouweyvsfZnFn0s8/fXc0okzcvLIjQKKvqpDuh0X4czBajoGb
 6T7D9zkV/a2FojLoC1rzEcxGGeDwkMwW16HrlacpTsC5o7eXsYST8Qa6/WghiQ3hmQ2uAtQHxmQ
 eYyJp7xba37JRaxghpUtv7V0C4fL6t1aN3/DOHuFW1Q9L3imlOmE
X-Google-Smtp-Source: AGHT+IFjGTrFE9RwQ+2W636s4560hsvCdJrQ+WwGEFp0mIc7yz+kECKbIi5wiLKfmG9PqqOfPToCsOBqslwp
X-Received: by 2002:a05:6e02:1aa5:b0:3d3:dcc4:a58e with SMTP id
 e9e14a558f8ab-3d44196903cmr286454095ab.8.1741862469238; 
 Thu, 13 Mar 2025 03:41:09 -0700 (PDT)
Received: from postal.iol.unh.edu (postal.iol.unh.edu.
 [2606:4100:3880:1234::84]) by smtp-relay.gmail.com with ESMTPS id
 e9e14a558f8ab-3d47a66ed8fsm517355ab.17.2025.03.13.03.41.09
 (version=TLS1_2 cipher=ECDHE-ECDSA-AES128-GCM-SHA256 bits=128/128);
 Thu, 13 Mar 2025 03:41:09 -0700 (PDT)
X-Relaying-Domain: iol.unh.edu
Date: Thu, 13 Mar 2025 03:41:09 -0700 (PDT)
Message-ID: <67d2b645.050a0220.11af92.2f67SMTPIN_ADDED_MISSING@mx.google.com>
Received: from [172.17.0.6] (unknown [172.18.0.217])
 by postal.iol.unh.edu (Postfix) with ESMTP id B687B6052471;
 Thu, 13 Mar 2025 06:41:08 -0400 (EDT)
Subject: |SUCCESS| pw152363-152368 [PATCH] [RFC,7/7] app/testpmd: replace com
From: dpdklab@iol.unh.edu
To: Test Report <test-report@dpdk.org>
Cc: dpdk-test-reports@iol.unh.edu
In-Reply-To: <20250312232739.228295-8-stephen@networkplumber.org>
References: <20250312232739.228295-8-stephen@networkplumber.org>
Content-Type: text/plain
X-BeenThere: test-report@dpdk.org
X-Mailman-Version: 2.1.29
Precedence: list
List-Id: automatic DPDK test reports <test-report.dpdk.org>
List-Unsubscribe: <https://mails.dpdk.org/options/test-report>,
 <mailto:test-report-request@dpdk.org?subject=unsubscribe>
List-Archive: <http://mails.dpdk.org/archives/test-report/>
List-Post: <mailto:test-report@dpdk.org>
List-Help: <mailto:test-report-request@dpdk.org?subject=help>
List-Subscribe: <https://mails.dpdk.org/listinfo/test-report>,
 <mailto:test-report-request@dpdk.org?subject=subscribe>
Errors-To: test-report-bounces@dpdk.org

Test-Label: iol-unit-arm64-testing
Test-Status: SUCCESS
http://dpdk.org/patch/152368

_Testing PASS_

Submitter: Stephen Hemminger <stephen@networkplumber.org>
Date: Wednesday, March 12 2025 23:27:04 
DPDK git baseline: Repo:dpdk
  Branch: master
  CommitID:7d6c28c9199351805e693e9b8f58f60e6f51c2ab

152363-152368 --> testing pass

Upstream job id: Generic-Unit-Test-DPDK#324159

Test environment and result as below:

+-----------------------------+----------------+------------------------------+---------------------------+--------------+
|         Environment         | dpdk_unit_test | cryptodev_sw_snow3g_autotest | cryptodev_sw_zuc_autotest | lpm_autotest |
+=============================+================+==============================+===========================+==============+
| 32-bit Ubuntu 22.04.4 (ARM) | PASS           | SKIPPED                      | SKIPPED                   | SKIPPED      |
+-----------------------------+----------------+------------------------------+---------------------------+--------------+
| CentOS Stream 9 (ARM)       | PASS           | SKIPPED                      | SKIPPED                   | SKIPPED      |
+-----------------------------+----------------+------------------------------+---------------------------+--------------+
| CentOS Stream 10 (ARM)      | PASS           | SKIPPED                      | SKIPPED                   | SKIPPED      |
+-----------------------------+----------------+------------------------------+---------------------------+--------------+
| Debian 12 (arm)             | PASS           | PASS                         | PASS                      | SKIPPED      |
+-----------------------------+----------------+------------------------------+---------------------------+--------------+
| Fedora 40 (ARM)             | PASS           | SKIPPED                      | SKIPPED                   | SKIPPED      |
+-----------------------------+----------------+------------------------------+---------------------------+--------------+
| Fedora 40 (ARM Clang)       | PASS           | SKIPPED                      | SKIPPED                   | SKIPPED      |
+-----------------------------+----------------+------------------------------+---------------------------+--------------+
| Fedora 41 (ARM)             | PASS           | SKIPPED                      | SKIPPED                   | SKIPPED      |
+-----------------------------+----------------+------------------------------+---------------------------+--------------+
| RHEL9 (ARM)                 | PASS           | SKIPPED                      | SKIPPED                   | SKIPPED      |
+-----------------------------+----------------+------------------------------+---------------------------+--------------+
| Fedora 41 (ARM Clang)       | PASS           | SKIPPED                      | SKIPPED                   | SKIPPED      |
+-----------------------------+----------------+------------------------------+---------------------------+--------------+
| Ubuntu 20.04 (ARM)          | PASS           | SKIPPED                      | SKIPPED                   | SKIPPED      |
+-----------------------------+----------------+------------------------------+---------------------------+--------------+
| Ubuntu 24.04 (ARM)          | PASS           | SKIPPED                      | SKIPPED                   | SKIPPED      |
+-----------------------------+----------------+------------------------------+---------------------------+--------------+
| Ubuntu 22.04 (ARM)          | PASS           | SKIPPED                      | SKIPPED                   | SKIPPED      |
+-----------------------------+----------------+------------------------------+---------------------------+--------------+
| Ubuntu 20.04 ARM SVE        | SKIPPED        | SKIPPED                      | SKIPPED                   | PASS         |
+-----------------------------+----------------+------------------------------+---------------------------+--------------+


32-bit Ubuntu 22.04.4 (ARM)
	Kernel: 5.15.83+ aarch64
	Compiler: gcc (Ubuntu 11.4.0-1ubuntu1~22.04) 11.4.0

CentOS Stream 9 (ARM)
	Kernel: Depends on container host
	Compiler: gcc 11.5.0 20240719 (Red Hat 11.5.0-2)

CentOS Stream 10 (ARM)
	Kernel: Depends on container host
	Compiler: gcc 14.2.1 20241104 (Red Hat 14.2.1-6)

Debian 12 (arm)
	Kernel: Depends on container host
	Compiler: gcc (Debian 12.2.0-14) 12.2.0

Fedora 40 (ARM)
	Kernel: Depends on container host
	Compiler: gcc 14.2.1 20240912 (Red Hat 14.2.1-3)

Fedora 40 (ARM Clang)
	Kernel: Depends on container host
	Compiler: clang 18.1.8 (Fedora 18.1.8-1.fc40)

Fedora 41 (ARM)
	Kernel: Depends on container host
	Compiler: gcc 14.2.1 20240912 (Red Hat 14.2.1-3)

RHEL9 (ARM)
	Kernel: Depends on container host
	Compiler: gcc 11.5.0 20240719 (Red Hat 11.5.0-2)

Fedora 41 (ARM Clang)
	Kernel: Depends on container host
	Compiler: clang 19.1.5 (Fedora 19.1.5-1.fc41)

Ubuntu 20.04 (ARM)
	Kernel: Depends on container host
	Compiler: gcc (Ubuntu 9.4.0-1ubuntu1~20.04.2) 9.4.0

Ubuntu 24.04 (ARM)
	Kernel: Depends on container host
	Compiler: gcc (Ubuntu 13.3.0-6ubuntu2~24.04) 13.3.0

Ubuntu 22.04 (ARM)
	Kernel: Depends on container host
	Compiler: gcc (Ubuntu 11.4.0-1ubuntu1~22.04) 11.4.0

Ubuntu 20.04 ARM SVE
	Kernel: Depends on container host
	Compiler: gcc (Ubuntu 10.5.0-1ubuntu1~20.04) 10.5.0

To view detailed results, visit:
https://lab.dpdk.org/results/dashboard/patchsets/32815/

UNH-IOL DPDK Community Lab

To manage your email subscriptions, visit: 
https://lab.dpdk.org/results/dashboard/preferences/subscriptions/