From mboxrd@z Thu Jan  1 00:00:00 1970
Return-Path: <test-report-bounces@dpdk.org>
Received: from mails.dpdk.org (mails.dpdk.org [217.70.189.124])
	by inbox.dpdk.org (Postfix) with ESMTP id 93EAC46374
	for <public@inbox.dpdk.org>; Thu, 13 Mar 2025 12:06:08 +0100 (CET)
Received: from mails.dpdk.org (localhost [127.0.0.1])
	by mails.dpdk.org (Postfix) with ESMTP id 9547740EE3;
	Thu, 13 Mar 2025 12:06:08 +0100 (CET)
Received: from mail-pj1-f99.google.com (mail-pj1-f99.google.com
 [209.85.216.99]) by mails.dpdk.org (Postfix) with ESMTP id 3A50340EAB
 for <test-report@dpdk.org>; Thu, 13 Mar 2025 12:06:07 +0100 (CET)
Received: by mail-pj1-f99.google.com with SMTP id
 98e67ed59e1d1-2fe9759e5c1so1434477a91.0
 for <test-report@dpdk.org>; Thu, 13 Mar 2025 04:06:07 -0700 (PDT)
DKIM-Signature: v=1; a=rsa-sha256; c=relaxed/relaxed;
 d=iol.unh.edu; s=unh-iol; t=1741863966; x=1742468766; darn=dpdk.org;
 h=references:in-reply-to:cc:to:from:subject:message-id:date:from:to
 :cc:subject:date:message-id:reply-to;
 bh=gB11T+4zgIfUSJDnrmRz9BYfd2utIYsrPM+U7ej2NX0=;
 b=FfnbuIpq46GLjm3rXr+6HrZ4aMCHmK61QULlgsq+N45eQBDBay2syXaNxFzG6nAF3k
 SQV98L6t83yyrxmsuDX3q/rj54zfor8p0y71gW5y+j0D+bzkv0n7tmr6bnjdhX3aKC9E
 GKyWR5hL9P9EKle2hH4tm7wC0ToapmwRHq6bI=
X-Google-DKIM-Signature: v=1; a=rsa-sha256; c=relaxed/relaxed;
 d=1e100.net; s=20230601; t=1741863966; x=1742468766;
 h=references:in-reply-to:cc:to:from:subject:message-id:date
 :x-gm-message-state:from:to:cc:subject:date:message-id:reply-to;
 bh=gB11T+4zgIfUSJDnrmRz9BYfd2utIYsrPM+U7ej2NX0=;
 b=Opdd2+sp6y2TaeqdDyF1K+ZthuYsJB0cZnhjDOTAEB2nbjGrIqz/wiahqGVuXRSvUF
 oqOyt2kgB6/tdM27n1pUw5hf6dWwJOLbkNoTtSr7qBBH5EiRP8nYaRikBE5Bl92GxkKf
 W2BE9jlaFw962/412LUS5EkM+0oSHfmVMDuVe99CZ52puvZdBH1K5ANBhzym7lN3efHA
 odtaeHb6GCxo3/F80vkKRTyP7VhzTAUt7xxs6hXhgpzC/heFHxLaQ8RMIMi6COqN+4lG
 OFhU91t0qjZoW/m7bC88mor77TElyIpDFk0VW0NX9mEM9kqEK0FG2t+MLS+Y/ckKxX39
 wPBA==
X-Gm-Message-State: AOJu0Ywj4KUozNmWn89yw3MtxRlAsm/9gQizSCkbohrPkwTGPyNmKJrM
 bc8JDJUrBXe2cmkDCFV9zL3MpwWjO+87qOgopkW1xgaUi5x6Tb3VH4wrqvveO3mA/8RfypxBslr
 x9TtbG8BW/7ouNH5n3SWDdgskljrvsNglbpPjtQR9
X-Gm-Gg: ASbGncvjWaImCqvRVyn5bTlC25tzrXvFgLqqOzpfYbUmZ5k621o7qL9xek7fst1O48p
 eiw/PSGde/2jbwX0C6PIXS/98C9SPxNRnVWUzR0lMDmBVSZYKCiwEs5w7Q7GZ4jrg19Ch2dMAyC
 dStc878q2Uzi7w+LYlL1dRngnZbsYdCgBSKZ6JsvK3fXdO8gJMCsAFPn2NlaNYogyTaBOx+lPkW
 7hZF1sjFsqurdvg9k+ZlqS3yS7cVyILBXJQoBjGdK5RgzEZVMFiq2Tn58eR4kXOelNzcvQGUq5X
 C3QWoQeODd510C8Fl3pjegXbfTnbpMPN9cLOxMp8
X-Google-Smtp-Source: AGHT+IGPBTsqB7u4U1TuH4XIpt2xFngPZFRbvl3n617uQcizkowKB9guiEy/nV3NoWY2qIw1Vr2+KrrkdO4y
X-Received: by 2002:a17:90b:528a:b0:2ff:6e72:b8e2 with SMTP id
 98e67ed59e1d1-300ff37051bmr13260284a91.31.1741863966178; 
 Thu, 13 Mar 2025 04:06:06 -0700 (PDT)
Received: from postal.iol.unh.edu (postal.iol.unh.edu. [132.177.123.84])
 by smtp-relay.gmail.com with ESMTPS id
 d9443c01a7336-225c6b76805sm418105ad.62.2025.03.13.04.06.06
 (version=TLS1_2 cipher=ECDHE-ECDSA-AES128-GCM-SHA256 bits=128/128);
 Thu, 13 Mar 2025 04:06:06 -0700 (PDT)
X-Relaying-Domain: iol.unh.edu
Date: Thu, 13 Mar 2025 04:06:06 -0700 (PDT)
Message-ID: <67d2bc1e.170a0220.2d6e48.26fdSMTPIN_ADDED_MISSING@mx.google.com>
Received: from [172.21.0.6] (unknown [172.18.0.240])
 by postal.iol.unh.edu (Postfix) with ESMTP id 460136052471;
 Thu, 13 Mar 2025 07:06:05 -0400 (EDT)
Subject: |SUCCESS| pw152363-152368 [PATCH] [RFC,7/7] app/testpmd: replace com
From: dpdklab@iol.unh.edu
To: Test Report <test-report@dpdk.org>
Cc: dpdk-test-reports@iol.unh.edu
In-Reply-To: <20250312232739.228295-8-stephen@networkplumber.org>
References: <20250312232739.228295-8-stephen@networkplumber.org>
Content-Type: text/plain
X-BeenThere: test-report@dpdk.org
X-Mailman-Version: 2.1.29
Precedence: list
List-Id: automatic DPDK test reports <test-report.dpdk.org>
List-Unsubscribe: <https://mails.dpdk.org/options/test-report>,
 <mailto:test-report-request@dpdk.org?subject=unsubscribe>
List-Archive: <http://mails.dpdk.org/archives/test-report/>
List-Post: <mailto:test-report@dpdk.org>
List-Help: <mailto:test-report-request@dpdk.org?subject=help>
List-Subscribe: <https://mails.dpdk.org/listinfo/test-report>,
 <mailto:test-report-request@dpdk.org?subject=subscribe>
Errors-To: test-report-bounces@dpdk.org

Test-Label: iol-unit-arm64-testing
Test-Status: SUCCESS
http://dpdk.org/patch/152368

_Testing PASS_

Submitter: Stephen Hemminger <stephen@networkplumber.org>
Date: Wednesday, March 12 2025 23:27:04 
DPDK git baseline: Repo:dpdk
  Branch: master
  CommitID:7d6c28c9199351805e693e9b8f58f60e6f51c2ab

152363-152368 --> testing pass

Upstream job id: Generic-Unit-Test-DPDK#324178

Test environment and result as below:

+-----------------------------+----------------+------------------------------+--------------+---------------------------+
|         Environment         | dpdk_unit_test | cryptodev_sw_snow3g_autotest | lpm_autotest | cryptodev_sw_zuc_autotest |
+=============================+================+==============================+==============+===========================+
| CentOS Stream 10 (ARM)      | PASS           | SKIPPED                      | SKIPPED      | SKIPPED                   |
+-----------------------------+----------------+------------------------------+--------------+---------------------------+
| CentOS Stream 9 (ARM)       | PASS           | SKIPPED                      | SKIPPED      | SKIPPED                   |
+-----------------------------+----------------+------------------------------+--------------+---------------------------+
| Fedora 40 (ARM)             | PASS           | SKIPPED                      | SKIPPED      | SKIPPED                   |
+-----------------------------+----------------+------------------------------+--------------+---------------------------+
| Debian 12 (arm)             | PASS           | PASS                         | SKIPPED      | PASS                      |
+-----------------------------+----------------+------------------------------+--------------+---------------------------+
| Fedora 41 (ARM)             | PASS           | SKIPPED                      | SKIPPED      | SKIPPED                   |
+-----------------------------+----------------+------------------------------+--------------+---------------------------+
| Fedora 40 (ARM Clang)       | PASS           | SKIPPED                      | SKIPPED      | SKIPPED                   |
+-----------------------------+----------------+------------------------------+--------------+---------------------------+
| Fedora 41 (ARM Clang)       | PASS           | SKIPPED                      | SKIPPED      | SKIPPED                   |
+-----------------------------+----------------+------------------------------+--------------+---------------------------+
| RHEL9 (ARM)                 | PASS           | SKIPPED                      | SKIPPED      | SKIPPED                   |
+-----------------------------+----------------+------------------------------+--------------+---------------------------+
| Ubuntu 20.04 (ARM)          | PASS           | SKIPPED                      | SKIPPED      | SKIPPED                   |
+-----------------------------+----------------+------------------------------+--------------+---------------------------+
| Ubuntu 22.04 (ARM)          | PASS           | SKIPPED                      | SKIPPED      | SKIPPED                   |
+-----------------------------+----------------+------------------------------+--------------+---------------------------+
| Ubuntu 24.04 (ARM)          | PASS           | SKIPPED                      | SKIPPED      | SKIPPED                   |
+-----------------------------+----------------+------------------------------+--------------+---------------------------+
| 32-bit Ubuntu 22.04.4 (ARM) | PASS           | SKIPPED                      | SKIPPED      | SKIPPED                   |
+-----------------------------+----------------+------------------------------+--------------+---------------------------+
| Ubuntu 20.04 ARM SVE        | SKIPPED        | SKIPPED                      | PASS         | SKIPPED                   |
+-----------------------------+----------------+------------------------------+--------------+---------------------------+


CentOS Stream 10 (ARM)
	Kernel: Depends on container host
	Compiler: gcc 14.2.1 20241104 (Red Hat 14.2.1-6)

CentOS Stream 9 (ARM)
	Kernel: Depends on container host
	Compiler: gcc 11.5.0 20240719 (Red Hat 11.5.0-2)

Fedora 40 (ARM)
	Kernel: Depends on container host
	Compiler: gcc 14.2.1 20240912 (Red Hat 14.2.1-3)

Debian 12 (arm)
	Kernel: Depends on container host
	Compiler: gcc (Debian 12.2.0-14) 12.2.0

Fedora 41 (ARM)
	Kernel: Depends on container host
	Compiler: gcc 14.2.1 20240912 (Red Hat 14.2.1-3)

Fedora 40 (ARM Clang)
	Kernel: Depends on container host
	Compiler: clang 18.1.8 (Fedora 18.1.8-1.fc40)

Fedora 41 (ARM Clang)
	Kernel: Depends on container host
	Compiler: clang 19.1.5 (Fedora 19.1.5-1.fc41)

RHEL9 (ARM)
	Kernel: Depends on container host
	Compiler: gcc 11.5.0 20240719 (Red Hat 11.5.0-2)

Ubuntu 20.04 (ARM)
	Kernel: Depends on container host
	Compiler: gcc (Ubuntu 9.4.0-1ubuntu1~20.04.2) 9.4.0

Ubuntu 22.04 (ARM)
	Kernel: Depends on container host
	Compiler: gcc (Ubuntu 11.4.0-1ubuntu1~22.04) 11.4.0

Ubuntu 24.04 (ARM)
	Kernel: Depends on container host
	Compiler: gcc (Ubuntu 13.3.0-6ubuntu2~24.04) 13.3.0

32-bit Ubuntu 22.04.4 (ARM)
	Kernel: 5.15.83+ aarch64
	Compiler: gcc (Ubuntu 11.4.0-1ubuntu1~22.04) 11.4.0

Ubuntu 20.04 ARM SVE
	Kernel: Depends on container host
	Compiler: gcc (Ubuntu 10.5.0-1ubuntu1~20.04) 10.5.0

To view detailed results, visit:
https://lab.dpdk.org/results/dashboard/patchsets/32815/

UNH-IOL DPDK Community Lab

To manage your email subscriptions, visit: 
https://lab.dpdk.org/results/dashboard/preferences/subscriptions/