From mboxrd@z Thu Jan 1 00:00:00 1970 Return-Path: Received: from mails.dpdk.org (mails.dpdk.org [217.70.189.124]) by inbox.dpdk.org (Postfix) with ESMTP id 5D556463A5 for ; Thu, 13 Mar 2025 15:07:01 +0100 (CET) Received: from mails.dpdk.org (localhost [127.0.0.1]) by mails.dpdk.org (Postfix) with ESMTP id 593C641104; Thu, 13 Mar 2025 15:07:01 +0100 (CET) Received: from mail-pl1-f226.google.com (mail-pl1-f226.google.com [209.85.214.226]) by mails.dpdk.org (Postfix) with ESMTP id 203C541101 for ; Thu, 13 Mar 2025 15:07:00 +0100 (CET) Received: by mail-pl1-f226.google.com with SMTP id d9443c01a7336-223f4c06e9fso18541795ad.1 for ; Thu, 13 Mar 2025 07:07:00 -0700 (PDT) DKIM-Signature: v=1; a=rsa-sha256; c=relaxed/relaxed; d=iol.unh.edu; s=unh-iol; t=1741874819; x=1742479619; darn=dpdk.org; h=references:in-reply-to:cc:to:from:subject:message-id:date:from:to :cc:subject:date:message-id:reply-to; bh=MKus/scI6kEMvxAMP3vZ8RQsfyZc00fXkoy3e0SHBTQ=; b=d/NI90RB24x5g3M32VdYikZxxDwQf009QwNNMi0Q/eFCwSnCuo1cIjH1HHdDH9yxRS hvzIsf9HzZhPFgpCbZvsTxPlDeqpATbDV66X9RMDFeuMwgyHy6RAD7j1YC583DHY3fpW BEWzb5XBHrb78vepPMHlrc+7K4F5NVSyEu+rA= X-Google-DKIM-Signature: v=1; a=rsa-sha256; c=relaxed/relaxed; d=1e100.net; s=20230601; t=1741874819; x=1742479619; h=references:in-reply-to:cc:to:from:subject:message-id:date :x-gm-message-state:from:to:cc:subject:date:message-id:reply-to; bh=MKus/scI6kEMvxAMP3vZ8RQsfyZc00fXkoy3e0SHBTQ=; b=rHU1Iw2A3wMxzDMnTlS6PH6ykPpaDsH1kkYUghyBY1HsnQpHq9pDtz3b8KXJE2mxve SmFQLyVA8ZY4V9q+8omFISY8pHph0vuIrtGwexgnqg8GMHxC0Q2xaK4EhRDrkWa6v96U FJqs5hXokiy7pd34F7xToAcJG3KDrN4ROanASpXx6v1QWCzz4eAXkjH44hT6AEuaSG0M N7hEbDAhYg/weY0rdMzXoGtVsrZ1amecnVl09Q9ygf+/r3IBA/rNVaD2JJXz54e8SwQf Pr68kSgi0mScExMI1AfhH6u09tSTmREki+QVLgpvLwawUvUDU7VZwJjctzDaj27Y4GPX 5W8g== X-Gm-Message-State: AOJu0Yw6e7rbD3vxBEYHR12Eus4cgKqRuuj8B9uUdHfZvGeYiTmvFXBh jy/vnm54glELb8aHc1cI4kJwUeYKcyJc+pebn2dTcjBmCL0S4fYUB9CoyjphMBs5jr/kZiRYhTN XzZinSwMvMMxvvRujuZDyWc98oI3W0ow7UjDbsL6jrDPv5TZ5ssknK3H1 X-Gm-Gg: ASbGncvFJOg40RwYm2q5umHL7a8Vni6cRx3RGXovZKeokEWSMBCo90CEKRGpizcSgGK xV1f/KjcihFjRinVSpp5yhVFRGYufBMFwSMCdppATdXS0h1CcLMJcGBya9r8/uNOkGPZD6EBhzu 95GPX+4SttG9XJO4RYvZPPqZ3SekpDwqWzLpaZafKxykW4HP702qOffZKebM8NoptGVDMmGfYOy LyrqtyRSXVuN+p+JxQzBk/4ev7RtPiyvsUWLzy7kW/ThSh9IsGvOzA9b+bd8mI4nFdrdstd13F0 Iuz8HrsiqLBYgDEoa7Xf51SULgRVHthd469BqJ9LCSh0pzpceD3X X-Google-Smtp-Source: AGHT+IF+cyGPue3tXp1jwUOJ6rJtR5URiAOn9CPBPUGL4B5orkJfIGSsenqd6X5UmW2uBHjYSuVJFepOrrcX X-Received: by 2002:a17:903:285:b0:223:3eed:f680 with SMTP id d9443c01a7336-225c66aa20fmr41999505ad.18.1741874819202; Thu, 13 Mar 2025 07:06:59 -0700 (PDT) Received: from postal.iol.unh.edu (postal.iol.unh.edu. [2606:4100:3880:1234::84]) by smtp-relay.gmail.com with ESMTPS id d9443c01a7336-225c6b760f9sm594685ad.56.2025.03.13.07.06.59 (version=TLS1_2 cipher=ECDHE-ECDSA-AES128-GCM-SHA256 bits=128/128); Thu, 13 Mar 2025 07:06:59 -0700 (PDT) X-Relaying-Domain: iol.unh.edu Date: Thu, 13 Mar 2025 07:06:59 -0700 (PDT) Message-ID: <67d2e683.170a0220.3a3701.37c1SMTPIN_ADDED_MISSING@mx.google.com> Received: from [172.21.0.5] (unknown [172.18.0.240]) by postal.iol.unh.edu (Postfix) with ESMTP id 3CE0F6052471; Thu, 13 Mar 2025 10:06:56 -0400 (EDT) Subject: |SUCCESS| pw152374-152375 [PATCH] [2/2] net/mlx5: fix GENEVE parser From: dpdklab@iol.unh.edu To: Test Report Cc: dpdk-test-reports@iol.unh.edu In-Reply-To: <20250313083351.25559-2-getelson@nvidia.com> References: <20250313083351.25559-2-getelson@nvidia.com> Content-Type: text/plain X-BeenThere: test-report@dpdk.org X-Mailman-Version: 2.1.29 Precedence: list List-Id: automatic DPDK test reports List-Unsubscribe: , List-Archive: List-Post: List-Help: List-Subscribe: , Errors-To: test-report-bounces@dpdk.org Test-Label: iol-compile-amd64-testing Test-Status: SUCCESS http://dpdk.org/patch/152375 _Testing PASS_ Submitter: Gregory Etelson Date: Thursday, March 13 2025 08:33:51 DPDK git baseline: Repo:dpdk Branch: master CommitID:3d88504a3bb4d2022d4d55b099829d6dd0a97723 152374-152375 --> testing pass Upstream job id: Generic-DPDK-Compile-Meson#371889 Test environment and result as below: +-----------------------------------+--------------------+-------------------+------------------+-------------------+ | Environment | dpdk_meson_compile | dpdk_compile_spdk | dpdk_compile_ovs | dpdk_msvc_compile | +===================================+====================+===================+==================+===================+ | CentOS Stream 9 | PASS | PASS | SKIPPED | SKIPPED | +-----------------------------------+--------------------+-------------------+------------------+-------------------+ | Fedora 40 (Clang) | PASS | PASS | SKIPPED | SKIPPED | +-----------------------------------+--------------------+-------------------+------------------+-------------------+ | CentOS Stream 10 | PASS | SKIPPED | SKIPPED | SKIPPED | +-----------------------------------+--------------------+-------------------+------------------+-------------------+ | Debian 12 | PASS | PASS | SKIPPED | SKIPPED | +-----------------------------------+--------------------+-------------------+------------------+-------------------+ | Fedora 40 | PASS | PASS | SKIPPED | SKIPPED | +-----------------------------------+--------------------+-------------------+------------------+-------------------+ | Fedora 41 | PASS | PASS | PASS | SKIPPED | +-----------------------------------+--------------------+-------------------+------------------+-------------------+ | Fedora 41 (Clang) | PASS | PASS | PASS | SKIPPED | +-----------------------------------+--------------------+-------------------+------------------+-------------------+ | RHEL8 | PASS | SKIPPED | SKIPPED | SKIPPED | +-----------------------------------+--------------------+-------------------+------------------+-------------------+ | RHEL9 | PASS | SKIPPED | SKIPPED | SKIPPED | +-----------------------------------+--------------------+-------------------+------------------+-------------------+ | Ubuntu 20.04 | PASS | SKIPPED | SKIPPED | SKIPPED | +-----------------------------------+--------------------+-------------------+------------------+-------------------+ | Ubuntu 22.04 | PASS | PASS | SKIPPED | SKIPPED | +-----------------------------------+--------------------+-------------------+------------------+-------------------+ | Alpine | PASS | SKIPPED | SKIPPED | SKIPPED | +-----------------------------------+--------------------+-------------------+------------------+-------------------+ | Ubuntu 24.04 32 Bit Cross Compile | PASS | SKIPPED | SKIPPED | SKIPPED | +-----------------------------------+--------------------+-------------------+------------------+-------------------+ | FreeBSD 13.4 | PASS | SKIPPED | SKIPPED | SKIPPED | +-----------------------------------+--------------------+-------------------+------------------+-------------------+ | FreeBSD 14.2 | PASS | SKIPPED | SKIPPED | SKIPPED | +-----------------------------------+--------------------+-------------------+------------------+-------------------+ | Ubuntu 24.04 | PASS | PASS | PASS | SKIPPED | +-----------------------------------+--------------------+-------------------+------------------+-------------------+ | Windows Server 2022 | SKIPPED | SKIPPED | SKIPPED | PASS | +-----------------------------------+--------------------+-------------------+------------------+-------------------+ CentOS Stream 9 Kernel: Depends on container host Compiler: gcc 11.5.0 20240719 (Red Hat 11.5.0-2) Fedora 40 (Clang) Kernel: Depends on container host Compiler: clang 18.1.8 (Fedora 18.1.8-1.fc40) CentOS Stream 10 Kernel: Depends on container host Compiler: gcc 14.2.1 20241104 (Red Hat 14.2.1-6) Debian 12 Kernel: Depends on container host Compiler: gcc (Debian 12.2.0-14) 12.2.0 Fedora 40 Kernel: Depends on container host Compiler: gcc 14.2.1 20240912 (Red Hat 14.2.1-3) Fedora 41 Kernel: Depends on container host Compiler: gcc 14.2.1 20240912 (Red Hat 14.2.1-3) Fedora 41 (Clang) Kernel: Depends on container host Compiler: clang 19.1.5 (Fedora 19.1.5-1.fc41) RHEL8 Kernel: Depends on container host Compiler: gcc 8.5.0 20210514 (Red Hat 8.5.0-22) RHEL9 Kernel: Depends on container host Compiler: gcc 11.5.0 20240719 (Red Hat 11.5.0-2) Ubuntu 20.04 Kernel: Depends on container host Compiler: gcc (Ubuntu 9.4.0-1ubuntu1~20.04.2) 9.4.0 Ubuntu 22.04 Kernel: Depends on container host Compiler: gcc (Ubuntu 11.4.0-1ubuntu1~22.04) 11.4.0 Alpine Kernel: Depends on container host Compiler: gcc (Alpine 14.2.0) 14.2.0 Ubuntu 24.04 32 Bit Cross Compile Kernel: Depends on container host Compiler: gcc (Ubuntu 13.3.0-6ubuntu2~24.04) 13.3.0 FreeBSD 13.4 Kernel: 13.4-RELEASE-p1 Compiler: clang 18.1.6 FreeBSD 14.2 Kernel: 14.2-RELEASE Compiler: clang 18.1.6 Ubuntu 24.04 Kernel: Depends on container host Compiler: gcc (Ubuntu 13.3.0-6ubuntu2~24.04) 13.3.0 Windows Server 2022 Kernel: 10.0.20348.2031 Compiler: clang 15.0.7, gcc 14.1.0 (MinGW), and MSVC VS 19.39.33521 To view detailed results, visit: https://lab.dpdk.org/results/dashboard/patchsets/32819/ UNH-IOL DPDK Community Lab To manage your email subscriptions, visit: https://lab.dpdk.org/results/dashboard/preferences/subscriptions/