From mboxrd@z Thu Jan 1 00:00:00 1970 Return-Path: Received: from mails.dpdk.org (mails.dpdk.org [217.70.189.124]) by inbox.dpdk.org (Postfix) with ESMTP id 45FFA463A6 for ; Thu, 13 Mar 2025 17:12:12 +0100 (CET) Received: from mails.dpdk.org (localhost [127.0.0.1]) by mails.dpdk.org (Postfix) with ESMTP id 23AFD41141; Thu, 13 Mar 2025 17:12:12 +0100 (CET) Received: from mail-pl1-f226.google.com (mail-pl1-f226.google.com [209.85.214.226]) by mails.dpdk.org (Postfix) with ESMTP id D7AB240ED3 for ; Thu, 13 Mar 2025 17:12:10 +0100 (CET) Received: by mail-pl1-f226.google.com with SMTP id d9443c01a7336-225b5448519so22606425ad.0 for ; Thu, 13 Mar 2025 09:12:10 -0700 (PDT) DKIM-Signature: v=1; a=rsa-sha256; c=relaxed/relaxed; d=iol.unh.edu; s=unh-iol; t=1741882330; x=1742487130; darn=dpdk.org; h=references:in-reply-to:cc:to:from:subject:message-id:date:from:to :cc:subject:date:message-id:reply-to; bh=yA4/4r0Gz1ExUECg1YxZYhADJVX6ewlGAVInqtOH2uU=; b=PsjOrApVGBJqAAtM/WbTIT7o53R7jmuE2iRpNBSToohiwhrPMsq0WEObvfrAVPUOGj /9SYEGKApLnFG7KtlwInmFE4/a/bcKygEMb3Ix5OWlJ+UkBWLM8ihitJ0Na9OoZ1QlUT hqsouf3NxAjsbfiid7pA/m96WjGrHJ/8sV/3E= X-Google-DKIM-Signature: v=1; a=rsa-sha256; c=relaxed/relaxed; d=1e100.net; s=20230601; t=1741882330; x=1742487130; h=references:in-reply-to:cc:to:from:subject:message-id:date :x-gm-message-state:from:to:cc:subject:date:message-id:reply-to; bh=yA4/4r0Gz1ExUECg1YxZYhADJVX6ewlGAVInqtOH2uU=; b=fo9X+cuOoWu1aZtpXMAL0L0AqEhtLfJbjPwP851dLHPZhnLReeewRB7DZtqDboF6v6 9isD0UDJ7Tdz5oPvSBiOF9Ubg5ZQZNrynYeAtXX1/FvpRxnZ9tZFCg4bP0AFTbkP7nlw 9LkuFSxYfV4g5cS3MOZE9Ngl8g+CBjRmSgaMLUmctRLt8wB1BeWwlxNVJU0jf3mGC7DG KnemWxtpdYBxdSh4itCtu/+/dqrBAm+bzSLaQrvUzldTp8y6Eg2C+rUfMuXpNzNg4s/I psqivpPenTW22N15vyg7BHAnnEa83YXdCQAxGCq3S/h20gHbdb1l12uP6ydeU/LEthIj Ep/g== X-Gm-Message-State: AOJu0YxPTuFt4BKYg/+OBU3h5ucuN+wOxMaYgNEr1HgaNtzpfzaVjbew DbKXqSdLeVxuVU9gJlbZ7Ru6tVIUpwIP74G+fkkM2nKktbplqxF51O8bHsPzzYrC/+LERYvkS/H x8NW7hRN6IGWiXQP2/RDMkVNZxQ62bBjYs0LWWmmOneF3WutcLJ0zyzhd X-Gm-Gg: ASbGncs0UL8lybpc8Z30nN9EFahodYQyTwYmEOIXxLXVbgQi9cJz3f8IeGEralPZ/7A 5qMpLKC70GHRMUC7QmEDbbXQazwM9LwXRVtOQAw0xScuMSgQGcoOloAPmYZw1MjI2Q/RZrlLIgS xWarsLtcDl2z/2u6R/xw7quWG8Nr0QODdtkfXln9lO3pmxV5m9ZVCgKWxmBcNELXtpeLgqdlxGj jUTXgx3ymN3FWcyXN0XW1bJ93z+HsM+8Ctrbl3dsQDtLaN/F5qrGNiJVa1V2XudWXNJCZhPxdtJ QItH33qOEcJbeHl0dInKVhgLOGWOyrvRHa3+2QFMn4SthngG9mnP X-Google-Smtp-Source: AGHT+IHaU06W66bWnuY4VQNUdRJcGyVKM+PjBIUxMm0jdluuH5HOcul30wnlhMub0rW2XW5ueAh0qUmdd3ub X-Received: by 2002:a17:903:2347:b0:21f:988d:5756 with SMTP id d9443c01a7336-225dd8cb8ffmr1049135ad.42.1741882329936; Thu, 13 Mar 2025 09:12:09 -0700 (PDT) Received: from postal.iol.unh.edu (postal.iol.unh.edu. [2606:4100:3880:1234::84]) by smtp-relay.gmail.com with ESMTPS id d9443c01a7336-225c6b3b61fsm636815ad.17.2025.03.13.09.12.09 (version=TLS1_2 cipher=ECDHE-ECDSA-AES128-GCM-SHA256 bits=128/128); Thu, 13 Mar 2025 09:12:09 -0700 (PDT) X-Relaying-Domain: iol.unh.edu Date: Thu, 13 Mar 2025 09:12:09 -0700 (PDT) Message-ID: <67d303d9.170a0220.d2ec.3ba9SMTPIN_ADDED_MISSING@mx.google.com> Received: from [172.17.0.3] (unknown [172.18.0.217]) by postal.iol.unh.edu (Postfix) with ESMTP id 21F586052471; Thu, 13 Mar 2025 12:12:09 -0400 (EDT) Subject: |SUCCESS| pw152376-152378 [PATCH] [RFC,3/3] eal: allow automatic map From: dpdklab@iol.unh.edu To: Test Report Cc: dpdk-test-reports@iol.unh.edu In-Reply-To: <20250313113829.1480907-4-bruce.richardson@intel.com> References: <20250313113829.1480907-4-bruce.richardson@intel.com> Content-Type: text/plain X-BeenThere: test-report@dpdk.org X-Mailman-Version: 2.1.29 Precedence: list List-Id: automatic DPDK test reports List-Unsubscribe: , List-Archive: List-Post: List-Help: List-Subscribe: , Errors-To: test-report-bounces@dpdk.org Test-Label: iol-unit-arm64-testing Test-Status: SUCCESS http://dpdk.org/patch/152378 _Testing PASS_ Submitter: Bruce Richardson Date: Thursday, March 13 2025 11:38:29 DPDK git baseline: Repo:dpdk Branch: master CommitID:7d6c28c9199351805e693e9b8f58f60e6f51c2ab 152376-152378 --> testing pass Upstream job id: Generic-Unit-Test-DPDK#324272 Test environment and result as below: +-----------------------------+----------------+---------------------------+------------------------------+--------------+ | Environment | dpdk_unit_test | cryptodev_sw_zuc_autotest | cryptodev_sw_snow3g_autotest | lpm_autotest | +=============================+================+===========================+==============================+==============+ | 32-bit Ubuntu 22.04.4 (ARM) | PASS | SKIPPED | SKIPPED | SKIPPED | +-----------------------------+----------------+---------------------------+------------------------------+--------------+ | CentOS Stream 10 (ARM) | PASS | SKIPPED | SKIPPED | SKIPPED | +-----------------------------+----------------+---------------------------+------------------------------+--------------+ | Debian 12 (arm) | PASS | PASS | PASS | SKIPPED | +-----------------------------+----------------+---------------------------+------------------------------+--------------+ | CentOS Stream 9 (ARM) | PASS | SKIPPED | SKIPPED | SKIPPED | +-----------------------------+----------------+---------------------------+------------------------------+--------------+ | Fedora 40 (ARM Clang) | PASS | SKIPPED | SKIPPED | SKIPPED | +-----------------------------+----------------+---------------------------+------------------------------+--------------+ | Fedora 40 (ARM) | PASS | SKIPPED | SKIPPED | SKIPPED | +-----------------------------+----------------+---------------------------+------------------------------+--------------+ | Ubuntu 20.04 (ARM) | PASS | SKIPPED | SKIPPED | SKIPPED | +-----------------------------+----------------+---------------------------+------------------------------+--------------+ | Fedora 41 (ARM) | PASS | SKIPPED | SKIPPED | SKIPPED | +-----------------------------+----------------+---------------------------+------------------------------+--------------+ | Fedora 41 (ARM Clang) | PASS | SKIPPED | SKIPPED | SKIPPED | +-----------------------------+----------------+---------------------------+------------------------------+--------------+ | RHEL9 (ARM) | PASS | SKIPPED | SKIPPED | SKIPPED | +-----------------------------+----------------+---------------------------+------------------------------+--------------+ | Ubuntu 24.04 (ARM) | PASS | SKIPPED | SKIPPED | SKIPPED | +-----------------------------+----------------+---------------------------+------------------------------+--------------+ | Ubuntu 22.04 (ARM) | PASS | SKIPPED | SKIPPED | SKIPPED | +-----------------------------+----------------+---------------------------+------------------------------+--------------+ | Ubuntu 20.04 ARM SVE | SKIPPED | SKIPPED | SKIPPED | PASS | +-----------------------------+----------------+---------------------------+------------------------------+--------------+ 32-bit Ubuntu 22.04.4 (ARM) Kernel: 5.15.83+ aarch64 Compiler: gcc (Ubuntu 11.4.0-1ubuntu1~22.04) 11.4.0 CentOS Stream 10 (ARM) Kernel: Depends on container host Compiler: gcc 14.2.1 20241104 (Red Hat 14.2.1-6) Debian 12 (arm) Kernel: Depends on container host Compiler: gcc (Debian 12.2.0-14) 12.2.0 CentOS Stream 9 (ARM) Kernel: Depends on container host Compiler: gcc 11.5.0 20240719 (Red Hat 11.5.0-2) Fedora 40 (ARM Clang) Kernel: Depends on container host Compiler: clang 18.1.8 (Fedora 18.1.8-1.fc40) Fedora 40 (ARM) Kernel: Depends on container host Compiler: gcc 14.2.1 20240912 (Red Hat 14.2.1-3) Ubuntu 20.04 (ARM) Kernel: Depends on container host Compiler: gcc (Ubuntu 9.4.0-1ubuntu1~20.04.2) 9.4.0 Fedora 41 (ARM) Kernel: Depends on container host Compiler: gcc 14.2.1 20240912 (Red Hat 14.2.1-3) Fedora 41 (ARM Clang) Kernel: Depends on container host Compiler: clang 19.1.5 (Fedora 19.1.5-1.fc41) RHEL9 (ARM) Kernel: Depends on container host Compiler: gcc 11.5.0 20240719 (Red Hat 11.5.0-2) Ubuntu 24.04 (ARM) Kernel: Depends on container host Compiler: gcc (Ubuntu 13.3.0-6ubuntu2~24.04) 13.3.0 Ubuntu 22.04 (ARM) Kernel: Depends on container host Compiler: gcc (Ubuntu 11.4.0-1ubuntu1~22.04) 11.4.0 Ubuntu 20.04 ARM SVE Kernel: Depends on container host Compiler: gcc (Ubuntu 10.5.0-1ubuntu1~20.04) 10.5.0 To view detailed results, visit: https://lab.dpdk.org/results/dashboard/patchsets/32820/ UNH-IOL DPDK Community Lab To manage your email subscriptions, visit: https://lab.dpdk.org/results/dashboard/preferences/subscriptions/