From mboxrd@z Thu Jan  1 00:00:00 1970
Return-Path: <test-report-bounces@dpdk.org>
Received: from mails.dpdk.org (mails.dpdk.org [217.70.189.124])
	by inbox.dpdk.org (Postfix) with ESMTP id 7913B46374
	for <public@inbox.dpdk.org>; Thu, 13 Mar 2025 17:56:00 +0100 (CET)
Received: from mails.dpdk.org (localhost [127.0.0.1])
	by mails.dpdk.org (Postfix) with ESMTP id 65A684114B;
	Thu, 13 Mar 2025 17:56:00 +0100 (CET)
Received: from mail-il1-f225.google.com (mail-il1-f225.google.com
 [209.85.166.225])
 by mails.dpdk.org (Postfix) with ESMTP id 952D041141
 for <test-report@dpdk.org>; Thu, 13 Mar 2025 17:55:59 +0100 (CET)
Received: by mail-il1-f225.google.com with SMTP id
 e9e14a558f8ab-3d45503af24so9727025ab.2
 for <test-report@dpdk.org>; Thu, 13 Mar 2025 09:55:59 -0700 (PDT)
DKIM-Signature: v=1; a=rsa-sha256; c=relaxed/relaxed;
 d=iol.unh.edu; s=unh-iol; t=1741884959; x=1742489759; darn=dpdk.org;
 h=references:in-reply-to:cc:to:from:subject:message-id:date:from:to
 :cc:subject:date:message-id:reply-to;
 bh=vkk+xZndszryYdtTZSwcKxWr5uHMr8p07jAh3IjyOjo=;
 b=e+G7P4eVn0sQrePKVTSGv9b9rw1AJKBNggCDSOYA6/6M5KhKdp4m1ngrzmYNJqaYzG
 y86C/p1E2wFGoTdHdOVaKaOvfMX8C6f5kHT4V/w5qphrtPU8weWlulj0NNcKk0+mPK5U
 wavW2Qk6ttCHlaZ54BdhOD5gSx6MXxhY4zB6o=
X-Google-DKIM-Signature: v=1; a=rsa-sha256; c=relaxed/relaxed;
 d=1e100.net; s=20230601; t=1741884959; x=1742489759;
 h=references:in-reply-to:cc:to:from:subject:message-id:date
 :x-gm-message-state:from:to:cc:subject:date:message-id:reply-to;
 bh=vkk+xZndszryYdtTZSwcKxWr5uHMr8p07jAh3IjyOjo=;
 b=WZGtxcWUBdWQ9OfPZ11VyyfOcYFPBaEVtvAgtA8P2V5Sogj3tvY+tBHfJUso4Hz1a+
 ywYtJ8UQUtwmAXefT7iIVltUEjbNQ05eCRTu79kGHTj1dw13vFYJFwYDtqIcVltRYm4Z
 0UeAQmRzQ+CaxTWMFq5KJGk5U+3dbmQX7zatXVRKDCsm3UOR7zdWPdmb3zdUxhaj+dnT
 dpHECBWJ5RIUeluiFd03wR4Z0PCD6hKA5j65Qos874X/fa7o4ZGgO8c32nnCoTf7x0E5
 rdmgfRKEALzwO9zUQtLj0tCW1lEl5lMl3t03LDXCwcLgkCTi1mSNLwaR9RmxfC7MfGFr
 g8pQ==
X-Gm-Message-State: AOJu0Yz18vVs/bC6y0V4uZ/oLvoB9ohAgmhQfCdgaDC1L+JXUCKX++9B
 pDFQ7hU2oR/LQ71qAHTiC+fZi67DaChazOn2hpQVEbjFbfXwoNE19te3VQ+VbRy8X+2aN2orbsi
 taZS9r6e5rgXs5jAQPbXyXkhoiGh82r3fCOhaLR9B
X-Gm-Gg: ASbGnctrWj/Qf9ylAsWilpGQjQSVR9B2bdOnbLzHu7w/zalAbP/wd5i5AwTJEgndOSA
 g/E7fAzg4111SKAR0EeaXdhjb4rSppO5wzugxfO6y067vYYi2VeJb521CgcoMPVsVJo9Jkjo7pW
 BVw6x23Mo36rk4gHCTnSLmAUWz99jTZZpWRPHlABmARaOu8kZHO2rxExJ1xF+eaqY1RtorCHy7s
 U0syS3UluYi2v20IrDqQhw8D+rjZSegiKVM+pKJivi/8Dac97Ai0YhFEb6QyYxOlnEtRcJO0E83
 phKakK6oq02x0TuyfVolf5wVppdAKnKIsomPi4Yf
X-Google-Smtp-Source: AGHT+IEBrqCzlvZKUoMKPD8HIknxLwneGNaaOjDSrso0Ls4iGeTo37w0BehLUQaS/RLD4qeKZmn1NApMr+LQ
X-Received: by 2002:a05:6e02:52a:b0:3d4:6fb7:3a36 with SMTP id
 e9e14a558f8ab-3d46fb73ae8mr73158675ab.20.1741884958909; 
 Thu, 13 Mar 2025 09:55:58 -0700 (PDT)
Received: from postal.iol.unh.edu (postal.iol.unh.edu. [132.177.123.84])
 by smtp-relay.gmail.com with ESMTPS id
 e9e14a558f8ab-3d47a6845c8sm806295ab.35.2025.03.13.09.55.58
 (version=TLS1_2 cipher=ECDHE-ECDSA-AES128-GCM-SHA256 bits=128/128);
 Thu, 13 Mar 2025 09:55:58 -0700 (PDT)
X-Relaying-Domain: iol.unh.edu
Date: Thu, 13 Mar 2025 09:55:58 -0700 (PDT)
Message-ID: <67d30e1e.050a0220.3b5c8c.4a33SMTPIN_ADDED_MISSING@mx.google.com>
Received: from [172.17.0.3] (unknown [172.18.0.217])
 by postal.iol.unh.edu (Postfix) with ESMTP id 88A266052471;
 Thu, 13 Mar 2025 12:55:58 -0400 (EDT)
Subject: |SUCCESS| pw152374-152375 [PATCH] [2/2] net/mlx5: fix GENEVE parser 
From: dpdklab@iol.unh.edu
To: Test Report <test-report@dpdk.org>
Cc: dpdk-test-reports@iol.unh.edu
In-Reply-To: <20250313083351.25559-2-getelson@nvidia.com>
References: <20250313083351.25559-2-getelson@nvidia.com>
Content-Type: text/plain
X-BeenThere: test-report@dpdk.org
X-Mailman-Version: 2.1.29
Precedence: list
List-Id: automatic DPDK test reports <test-report.dpdk.org>
List-Unsubscribe: <https://mails.dpdk.org/options/test-report>,
 <mailto:test-report-request@dpdk.org?subject=unsubscribe>
List-Archive: <http://mails.dpdk.org/archives/test-report/>
List-Post: <mailto:test-report@dpdk.org>
List-Help: <mailto:test-report-request@dpdk.org?subject=help>
List-Subscribe: <https://mails.dpdk.org/listinfo/test-report>,
 <mailto:test-report-request@dpdk.org?subject=subscribe>
Errors-To: test-report-bounces@dpdk.org

Test-Label: iol-sample-apps-testing
Test-Status: SUCCESS
http://dpdk.org/patch/152375

_Testing PASS_

Submitter: Gregory Etelson <getelson@nvidia.com>
Date: Thursday, March 13 2025 08:33:51 
DPDK git baseline: Repo:dpdk
  Branch: master
  CommitID:3d88504a3bb4d2022d4d55b099829d6dd0a97723

152374-152375 --> testing pass

Upstream job id: ACVP-FIPS-testing#9266

Test environment and result as below:

+--------------------+----------------------+----------------------+
|    Environment     | compressdev_zlib_pmd | dpdk_fips_validation |
+====================+======================+======================+
| Ubuntu 22.04 (ARM) | PASS                 | SKIPPED              |
+--------------------+----------------------+----------------------+
| Ubuntu 22.04       | PASS                 | SKIPPED              |
+--------------------+----------------------+----------------------+
| Ubuntu 20.04       | SKIPPED              | PASS                 |
+--------------------+----------------------+----------------------+


Ubuntu 22.04 (ARM)
	Kernel: 5.15.0-97-generic
	Compiler: gcc gcc (Ubuntu 11.4.0-1ubuntu1~22.04) 11.4.0

Ubuntu 22.04
	Kernel: 5.15.0-100-generic
	Compiler: gcc gcc (Ubuntu 11.4.0-1ubuntu1~22.04) 11.4.0

Ubuntu 20.04
	Kernel: Depends on container host
	Compiler: gcc (Ubuntu 9.4.0-1ubuntu1~20.04.2) 9.4.0

To view detailed results, visit:
https://lab.dpdk.org/results/dashboard/patchsets/32819/

UNH-IOL DPDK Community Lab

To manage your email subscriptions, visit: 
https://lab.dpdk.org/results/dashboard/preferences/subscriptions/