From mboxrd@z Thu Jan 1 00:00:00 1970 Return-Path: Received: from mails.dpdk.org (mails.dpdk.org [217.70.189.124]) by inbox.dpdk.org (Postfix) with ESMTP id 6F189463A7 for ; Thu, 13 Mar 2025 18:27:26 +0100 (CET) Received: from mails.dpdk.org (localhost [127.0.0.1]) by mails.dpdk.org (Postfix) with ESMTP id 6A74F4279D; Thu, 13 Mar 2025 18:27:26 +0100 (CET) Received: from mail-ot1-f100.google.com (mail-ot1-f100.google.com [209.85.210.100]) by mails.dpdk.org (Postfix) with ESMTP id D0F2641141 for ; Thu, 13 Mar 2025 18:27:24 +0100 (CET) Received: by mail-ot1-f100.google.com with SMTP id 46e09a7af769-7272cc739f7so1263917a34.1 for ; Thu, 13 Mar 2025 10:27:24 -0700 (PDT) DKIM-Signature: v=1; a=rsa-sha256; c=relaxed/relaxed; d=iol.unh.edu; s=unh-iol; t=1741886844; x=1742491644; darn=dpdk.org; h=references:in-reply-to:cc:to:from:subject:message-id:date:from:to :cc:subject:date:message-id:reply-to; bh=hjoDPjDK5nW0t5brVI0+86+V7HlxbCCcLBJ+67y+4LQ=; b=Jog+0mw6T7FCN2KPHMNKw66BcII5tTgRHbpfT9+uhbXX92vAbRdasleIkSwXr1miCt q8vfdX9hbon0JZBEwGMmfXvMRG2WH8jgkZ3v3fSjPRz2SPyT9rEx10CBqpn6FGq4eXkF U+/tEVTxIogDIbBMzzmQvrFa56T+Du+grOcA0= X-Google-DKIM-Signature: v=1; a=rsa-sha256; c=relaxed/relaxed; d=1e100.net; s=20230601; t=1741886844; x=1742491644; h=references:in-reply-to:cc:to:from:subject:message-id:date :x-gm-message-state:from:to:cc:subject:date:message-id:reply-to; bh=hjoDPjDK5nW0t5brVI0+86+V7HlxbCCcLBJ+67y+4LQ=; b=ZeRLgPIC6bLvYLYDhingaRp3gOYzzqgXX9/mxMMCIqf7octKeXAhMIoMux5t5TPFzu RaJWjey+sFBGWN4IAzfg4L+v8a088xC29JX+/djY2rXU98V8Dha2ytEpGtF2Bzp7lxLs JpqNfWIEJY6YEb5njj+YOBMW085kApVFB11TIA7ATaq6SfiNTUklHUG81ENO+gs6JgLe 33LsyfcNQn7R1HM5jkaIl27CW7mDd6yLmAa+8OZMVALIK7yGSCmA2xbsHnQq75xOZdul g0NiUnmJFjZ1S2LMGw+wqSY1Q7D/D5n2C8iHJDQxnIFJH9IAqfM7UWyFg+X9Y86J7jEj virQ== X-Gm-Message-State: AOJu0Yxf0T2tZl+boWOp8Ky1gOFhb61jdF+HfTdNP9YiJY+IiKecaTF6 wD7kPKWa8KgeoXqGPwP9CYt+Fxtb3u2TUQF4UniI4ltAJPj0Mohu9/1GxnNWpZqvAKL6VqoxiKs dzXHoYqRmfR/Fuq1j03dR5+/8HO54Skj5ru/np23enZqS4PpodXrxR9lR X-Gm-Gg: ASbGncvHboXMgBfRPpfGPzGufChj+cEBLAb2HYbWHgwBkIuuq8g6AOoXjh49Tqqf7Vy +NE79kBQ9AwnMBwNdHcc49bXmp1oKSDq+FGRrOEMB3m/bLPc/3ubMqfTvTYFih69RIZq2nWQwvp caxmHFmKo3bIUqRnXG7AcE5+HU1+vp7cBNfTe5e4SPoIzdzPwSBCfUlCZtVy9YcSADEwbs1rHkP ZHpeLGPCnAAGTD/7F3lL7fipcinwWeza9+teqGruDCAyqBCPQlL3I2TDhdnkak6Y7QTPRmDsIaO 9JoqlE8Nw3VJg7vSY+0nlFjJhVlc2fvby9ELRdzUyzbexNC4xWua X-Google-Smtp-Source: AGHT+IFL/RU61llNHaWgGT0Pzm93me272EdZ/62KhA2CE5E0nUSt2uKFBf8n6Q0pNjjpMPYSutvELbLVmFrl X-Received: by 2002:a05:6830:f86:b0:727:3587:fd1 with SMTP id 46e09a7af769-72bb1a84b00mr1993945a34.3.1741886843900; Thu, 13 Mar 2025 10:27:23 -0700 (PDT) Received: from postal.iol.unh.edu (postal.iol.unh.edu. [2606:4100:3880:1234::84]) by smtp-relay.gmail.com with ESMTPS id 46e09a7af769-72bb2678c05sm7281a34.2.2025.03.13.10.27.23 (version=TLS1_2 cipher=ECDHE-ECDSA-AES128-GCM-SHA256 bits=128/128); Thu, 13 Mar 2025 10:27:23 -0700 (PDT) X-Relaying-Domain: iol.unh.edu Date: Thu, 13 Mar 2025 10:27:23 -0700 (PDT) Message-ID: <67d3157b.050a0220.1194ee.0632SMTPIN_ADDED_MISSING@mx.google.com> Received: from [172.17.0.5] (unknown [172.18.0.217]) by postal.iol.unh.edu (Postfix) with ESMTP id 5B6886052471; Thu, 13 Mar 2025 13:27:23 -0400 (EDT) Subject: |SUCCESS| pw152376-152378 [PATCH] [RFC,3/3] eal: allow automatic map From: dpdklab@iol.unh.edu To: Test Report Cc: dpdk-test-reports@iol.unh.edu In-Reply-To: <20250313113829.1480907-4-bruce.richardson@intel.com> References: <20250313113829.1480907-4-bruce.richardson@intel.com> Content-Type: text/plain X-BeenThere: test-report@dpdk.org X-Mailman-Version: 2.1.29 Precedence: list List-Id: automatic DPDK test reports List-Unsubscribe: , List-Archive: List-Post: List-Help: List-Subscribe: , Errors-To: test-report-bounces@dpdk.org Test-Label: iol-sample-apps-testing Test-Status: SUCCESS http://dpdk.org/patch/152378 _Testing PASS_ Submitter: Bruce Richardson Date: Thursday, March 13 2025 11:38:29 DPDK git baseline: Repo:dpdk Branch: master CommitID:7d6c28c9199351805e693e9b8f58f60e6f51c2ab 152376-152378 --> testing pass Upstream job id: ACVP-FIPS-testing#9267 Test environment and result as below: +--------------------+----------------------+----------------------+ | Environment | compressdev_zlib_pmd | dpdk_fips_validation | +====================+======================+======================+ | Ubuntu 22.04 (ARM) | PASS | SKIPPED | +--------------------+----------------------+----------------------+ | Ubuntu 22.04 | PASS | SKIPPED | +--------------------+----------------------+----------------------+ | Ubuntu 20.04 | SKIPPED | PASS | +--------------------+----------------------+----------------------+ Ubuntu 22.04 (ARM) Kernel: 5.15.0-97-generic Compiler: gcc gcc (Ubuntu 11.4.0-1ubuntu1~22.04) 11.4.0 Ubuntu 22.04 Kernel: 5.15.0-100-generic Compiler: gcc gcc (Ubuntu 11.4.0-1ubuntu1~22.04) 11.4.0 Ubuntu 20.04 Kernel: Depends on container host Compiler: gcc (Ubuntu 9.4.0-1ubuntu1~20.04.2) 9.4.0 To view detailed results, visit: https://lab.dpdk.org/results/dashboard/patchsets/32820/ UNH-IOL DPDK Community Lab To manage your email subscriptions, visit: https://lab.dpdk.org/results/dashboard/preferences/subscriptions/