From mboxrd@z Thu Jan 1 00:00:00 1970 Return-Path: Received: from mails.dpdk.org (mails.dpdk.org [217.70.189.124]) by inbox.dpdk.org (Postfix) with ESMTP id 29CD5463A7 for ; Thu, 13 Mar 2025 18:32:59 +0100 (CET) Received: from mails.dpdk.org (localhost [127.0.0.1]) by mails.dpdk.org (Postfix) with ESMTP id 245714114B; Thu, 13 Mar 2025 18:32:59 +0100 (CET) Received: from mail-pl1-f227.google.com (mail-pl1-f227.google.com [209.85.214.227]) by mails.dpdk.org (Postfix) with ESMTP id B8C9141141 for ; Thu, 13 Mar 2025 18:32:57 +0100 (CET) Received: by mail-pl1-f227.google.com with SMTP id d9443c01a7336-223959039f4so27572885ad.3 for ; Thu, 13 Mar 2025 10:32:57 -0700 (PDT) DKIM-Signature: v=1; a=rsa-sha256; c=relaxed/relaxed; d=iol.unh.edu; s=unh-iol; t=1741887177; x=1742491977; darn=dpdk.org; h=references:in-reply-to:cc:to:from:subject:message-id:date:from:to :cc:subject:date:message-id:reply-to; bh=Q7lizS/RYR4suTogkcejfC+k7Fwo3jv2tg65UuLo1kY=; b=Vy+CmVtU1uQZuBu8oaByo59Fzul341fGcgi7PhwUKj88Qfo3Sv+JpVwrIRIpO7lrfe E1//Tw7Bd1mvmbBTFyOFjWCqlBPZbTF7nyii92QsueegW09gugaAuH01sxGk5nSYgJfm J2sxf+/mAH7B35S71mVvQ2BxVlkpTu58pnbcQ= X-Google-DKIM-Signature: v=1; a=rsa-sha256; c=relaxed/relaxed; d=1e100.net; s=20230601; t=1741887177; x=1742491977; h=references:in-reply-to:cc:to:from:subject:message-id:date :x-gm-message-state:from:to:cc:subject:date:message-id:reply-to; bh=Q7lizS/RYR4suTogkcejfC+k7Fwo3jv2tg65UuLo1kY=; b=lJpP8W2vUdUhCmJ5F/frAjYcV7IUZCOCSdGsWQhdhxOrdGt+jvRfyI0HsadTuLcM5P 3+WaYay9NUA/JRNMIjyAKGjPY41oPp+DvQejXQXmVMWGh4P1wa2RRbckW5wDIVH8b708 V6WKwf5uRe6XxpxMLoH+NReCkTY29EMEUTosayomqAr+9d+yCmBnRc5/vGBtbhbGlv7o t0SqlIiWZiHoFLb2/u1VIq/fMoeOIIrog6dKWwM/IzhMssfM0BvlQeRQw7F3U//Hwf39 3uv+S/RBgPISLLvCq6VVWc3t6j8xgIwEr/8df2ABGq0hffRHsQGfbNh5Oirml6fh8FPe DQow== X-Gm-Message-State: AOJu0YyWUCkv1E4NJKpQ6ELukoNUz420ZraPHbE3Q7tniPF6Y3lqntrg QIIiIyip8v8VBiE2C1oPpnXvy7ZubSKVCrACi/7zDBqApqR/3xaZLFzMpANUnFiIprtKLP5kjsE XKtYW2nSqaNGj3mJDZEWEGchvNyhK8DqtKj61zoItYcXoqtt8eMQESt4H X-Gm-Gg: ASbGncunDRk+xwcIed1G9QtkpnNcVpxdJdM6YZ25xp8/yKPooqj+Rj0HIqela7NHRjA Us5LA6k1zlNqshsByla8Z3BAl593KMD1Kku+3LZCVRiZlRxbJPhE39oNT1RbqugHFowAfsy7qUW 4Ehl2gKPNlVfPjD4KfVwE/EYdE/Ly7xKZhLyYAX+pcE+nKg4uxVAeH3PhsMN7jxErEdS+jGgJEC 0Qr9mf3XbOIybWo2dWh6eahU5Vw5Q9KTN5HQVwhAENcB3Nd/5hOcD0raYTg+IlTo6VY+7VlojC8 zhbvBMi+lELsrRhnZ5L3JWmKUF4XmrVHETAvfOxKEx9WMd3xg8vd X-Google-Smtp-Source: AGHT+IGMk+xQJUdK0BwKVSyYs1Kx0nlNH9pLcliZRvtCXzc8fu4fLTDt5l/stUsO95u2yyTdQD20aklfCPNg X-Received: by 2002:a17:902:e787:b0:223:3630:cd32 with SMTP id d9443c01a7336-225dd926d1emr4313245ad.53.1741887176874; Thu, 13 Mar 2025 10:32:56 -0700 (PDT) Received: from postal.iol.unh.edu (postal.iol.unh.edu. [2606:4100:3880:1234::84]) by smtp-relay.gmail.com with ESMTPS id d9443c01a7336-225c6c0e0bdsm675215ad.120.2025.03.13.10.32.56 (version=TLS1_2 cipher=ECDHE-ECDSA-AES128-GCM-SHA256 bits=128/128); Thu, 13 Mar 2025 10:32:56 -0700 (PDT) X-Relaying-Domain: iol.unh.edu Date: Thu, 13 Mar 2025 10:32:56 -0700 (PDT) Message-ID: <67d316c8.170a0220.388430.3db4SMTPIN_ADDED_MISSING@mx.google.com> Received: from [172.21.0.5] (unknown [172.18.0.240]) by postal.iol.unh.edu (Postfix) with ESMTP id 4DB9A6052471; Thu, 13 Mar 2025 13:32:56 -0400 (EDT) Subject: |SUCCESS| pw152376-152378 [PATCH] [RFC,3/3] eal: allow automatic map From: dpdklab@iol.unh.edu To: Test Report Cc: dpdk-test-reports@iol.unh.edu In-Reply-To: <20250313113829.1480907-4-bruce.richardson@intel.com> References: <20250313113829.1480907-4-bruce.richardson@intel.com> Content-Type: text/plain X-BeenThere: test-report@dpdk.org X-Mailman-Version: 2.1.29 Precedence: list List-Id: automatic DPDK test reports List-Unsubscribe: , List-Archive: List-Post: List-Help: List-Subscribe: , Errors-To: test-report-bounces@dpdk.org Test-Label: iol-compile-arm64-testing Test-Status: SUCCESS http://dpdk.org/patch/152378 _Testing PASS_ Submitter: Bruce Richardson Date: Thursday, March 13 2025 11:38:29 DPDK git baseline: Repo:dpdk Branch: master CommitID:7d6c28c9199351805e693e9b8f58f60e6f51c2ab 152376-152378 --> testing pass Upstream job id: Generic-DPDK-Compile-Meson#371941 Test environment and result as below: +----------------------------------------+--------------------+ | Environment | dpdk_meson_compile | +========================================+====================+ | RHEL9 (ARM) | PASS | +----------------------------------------+--------------------+ | Ubuntu 20.04 ARM GCC Cross Compile | PASS | +----------------------------------------+--------------------+ | Ubuntu 20.04 ARM SVE | PASS | +----------------------------------------+--------------------+ | Debian 12 with MUSDK | PASS | +----------------------------------------+--------------------+ | Fedora 40 (ARM) | PASS | +----------------------------------------+--------------------+ | Fedora 41 (ARM) | PASS | +----------------------------------------+--------------------+ | Fedora 41 (ARM Clang) | PASS | +----------------------------------------+--------------------+ | Ubuntu 20.04 (ARM) | PASS | +----------------------------------------+--------------------+ | Ubuntu 22.04 (ARM) | PASS | +----------------------------------------+--------------------+ | Ubuntu 24.04 (ARM) | PASS | +----------------------------------------+--------------------+ | CentOS Stream 9 (ARM) | PASS | +----------------------------------------+--------------------+ | CentOS Stream 10 (ARM) | PASS | +----------------------------------------+--------------------+ | Debian 12 (arm) | PASS | +----------------------------------------+--------------------+ | Ubuntu 20.04 ARM Clang Cross Compile | PASS | +----------------------------------------+--------------------+ | Ubuntu 20.04 aarch32 GCC Cross Compile | PASS | +----------------------------------------+--------------------+ | Fedora 40 (ARM Clang) | PASS | +----------------------------------------+--------------------+ RHEL9 (ARM) Kernel: Depends on container host Compiler: gcc 11.5.0 20240719 (Red Hat 11.5.0-2) Ubuntu 20.04 ARM GCC Cross Compile Kernel: Depends on container host Compiler: aarch64-linux-gnu-gcc (Ubuntu 9.4.0-1ubuntu1~20.04.2) 9.4.0 Ubuntu 20.04 ARM SVE Kernel: Depends on container host Compiler: gcc (Ubuntu 10.5.0-1ubuntu1~20.04) 10.5.0 Debian 12 with MUSDK Kernel: Depends on container host Compiler: gcc (Debian 12.2.0-14) 12.2.0 Fedora 40 (ARM) Kernel: Depends on container host Compiler: gcc 14.2.1 20240912 (Red Hat 14.2.1-3) Fedora 41 (ARM) Kernel: Depends on container host Compiler: gcc 14.2.1 20240912 (Red Hat 14.2.1-3) Fedora 41 (ARM Clang) Kernel: Depends on container host Compiler: clang 19.1.5 (Fedora 19.1.5-1.fc41) Ubuntu 20.04 (ARM) Kernel: Depends on container host Compiler: gcc (Ubuntu 9.4.0-1ubuntu1~20.04.2) 9.4.0 Ubuntu 22.04 (ARM) Kernel: Depends on container host Compiler: gcc (Ubuntu 11.4.0-1ubuntu1~22.04) 11.4.0 Ubuntu 24.04 (ARM) Kernel: Depends on container host Compiler: gcc (Ubuntu 13.3.0-6ubuntu2~24.04) 13.3.0 CentOS Stream 9 (ARM) Kernel: Depends on container host Compiler: gcc 11.5.0 20240719 (Red Hat 11.5.0-2) CentOS Stream 10 (ARM) Kernel: Depends on container host Compiler: gcc 14.2.1 20241104 (Red Hat 14.2.1-6) Debian 12 (arm) Kernel: Depends on container host Compiler: gcc (Debian 12.2.0-14) 12.2.0 Ubuntu 20.04 ARM Clang Cross Compile Kernel: Depends on container host Compiler: clang 10.0.0-4ubuntu1 Ubuntu 20.04 aarch32 GCC Cross Compile Kernel: Depends on container host Compiler: gcc 9.4.0 Fedora 40 (ARM Clang) Kernel: Depends on container host Compiler: clang 18.1.8 (Fedora 18.1.8-1.fc40) To view detailed results, visit: https://lab.dpdk.org/results/dashboard/patchsets/32820/ UNH-IOL DPDK Community Lab To manage your email subscriptions, visit: https://lab.dpdk.org/results/dashboard/preferences/subscriptions/