From mboxrd@z Thu Jan 1 00:00:00 1970 Return-Path: Received: from mails.dpdk.org (mails.dpdk.org [217.70.189.124]) by inbox.dpdk.org (Postfix) with ESMTP id D4602463A7 for ; Thu, 13 Mar 2025 19:03:51 +0100 (CET) Received: from mails.dpdk.org (localhost [127.0.0.1]) by mails.dpdk.org (Postfix) with ESMTP id CFA044114B; Thu, 13 Mar 2025 19:03:51 +0100 (CET) Received: from mail-pl1-f228.google.com (mail-pl1-f228.google.com [209.85.214.228]) by mails.dpdk.org (Postfix) with ESMTP id 643D241141 for ; Thu, 13 Mar 2025 19:03:50 +0100 (CET) Received: by mail-pl1-f228.google.com with SMTP id d9443c01a7336-22355618fd9so27114505ad.3 for ; Thu, 13 Mar 2025 11:03:50 -0700 (PDT) DKIM-Signature: v=1; a=rsa-sha256; c=relaxed/relaxed; d=iol.unh.edu; s=unh-iol; t=1741889029; x=1742493829; darn=dpdk.org; h=references:in-reply-to:cc:to:from:subject:message-id:date:from:to :cc:subject:date:message-id:reply-to; bh=lts/v8sNS1O2UkFszcMevnXdBr0qiavvGyie2uM8Fo4=; b=gSwYezMWa8qxP6gf4BxcmdBrriD/hhd8TrsxHPJEYOxO1ELKIZwrWy6JgGBHldq8F0 mWr68/C+CfalduFgcxBO8bUIwjIZDvnV+8T1l45vE7kkaSXOsUDc8HDkAN1iLp+2jzzI 1i3OSqI/CHR8a7cmco4WHjB8fmuujUnsbCJYY= X-Google-DKIM-Signature: v=1; a=rsa-sha256; c=relaxed/relaxed; d=1e100.net; s=20230601; t=1741889029; x=1742493829; h=references:in-reply-to:cc:to:from:subject:message-id:date :x-gm-message-state:from:to:cc:subject:date:message-id:reply-to; bh=lts/v8sNS1O2UkFszcMevnXdBr0qiavvGyie2uM8Fo4=; b=um/CMU62MPeaWf6ockgAM3ajybbg7mLKLyjmn6mP2wfqJJG+s9ldcZ91q8JvGRIXeL 2MxJhOZ71UnhpS/T3begLntZZGQ/l2zpdlfx5ISoqKA80j+I8+KKQLntib0UdQRe3Dzu F7eOB49e5W2VFdxCRzKPj/UmS8qRbl5YdVwVlLVjhULqAvoUQGw+W2jxtvDki7rKEN/n wwaBjC5+7MYEyP0hd+dMk6lsdsV04lHWOdhVoAZ4cc9wKnb/Cgi665N9pSLMdD8XPilV uTepy0HFuWeOHWNhY/gu/b2jNk3+7NXDBATCDGutugDPWWdiRQ8rSWODsGikAvdx8e0o LoRQ== X-Gm-Message-State: AOJu0YwqXCGIpmtg9SSOKbFGLciTxzbaz7e5q2sN61f38wPkCLPxSJ/r 6FmHo1XcsGCIPAwX8VrQLytU/t5odYypIkjG5ZCPZvJQjsf+e797CWsP3jV3oTI4DOjN820eGS0 6yB8o1JRDx36L4vhctEC9PKwwfbm6TBscFu118GGoHf7Sac9/hHxNsPUB X-Gm-Gg: ASbGncugjNUDFcYADaZ14MvF5pfYVgFZEs5cDLGctmdmysQCfgeCBTwz1BuX2p6XtPy isghzmrltFKCfijHZ631NQDp6o1tuGvkhmJNrqpjrjq9Zt1cQN4R3LFzJXB0k8tVgxR8+TEevyv uHe4A41gB5EvFpIqZDFGljeua9qakFOjuQmUtJb3AnVPDupGggUwfW5+GgO/H2+mlKtm4lTGlG3 yyg/JUid+rooEj5QvhLjZl6MTzgAj+FmNVpYeHLLMwor3KlvKyGQGa2QpMW0huawaeLQWOvPfJy 6WH2+ObDlewbrc3WXsJKrqbPa8/itzqwZs2XPzm4A+br5kvxfnAS X-Google-Smtp-Source: AGHT+IFyJ1XFZEBP8LL4AUcvK4Jt0l7TVHo3RJXsbFospp3ZBPBjAq3qt/fMXzB+IINwmXEtfC4vlBCG9r93 X-Received: by 2002:a17:902:cec6:b0:224:1074:63af with SMTP id d9443c01a7336-22593185125mr160120225ad.34.1741889029410; Thu, 13 Mar 2025 11:03:49 -0700 (PDT) Received: from postal.iol.unh.edu (postal.iol.unh.edu. [2606:4100:3880:1234::84]) by smtp-relay.gmail.com with ESMTPS id d9443c01a7336-225c6b3b9e0sm741295ad.4.2025.03.13.11.03.49 (version=TLS1_2 cipher=ECDHE-ECDSA-AES128-GCM-SHA256 bits=128/128); Thu, 13 Mar 2025 11:03:49 -0700 (PDT) X-Relaying-Domain: iol.unh.edu Date: Thu, 13 Mar 2025 11:03:49 -0700 (PDT) Message-ID: <67d31e05.170a0220.111b7f.45c0SMTPIN_ADDED_MISSING@mx.google.com> Received: from [172.21.0.7] (unknown [172.18.0.240]) by postal.iol.unh.edu (Postfix) with ESMTP id 9B1DA6052471; Thu, 13 Mar 2025 14:03:48 -0400 (EDT) Subject: |SUCCESS| pw152379 [PATCH] [v1] net/ntnic: fix incorrect initializat From: dpdklab@iol.unh.edu To: Test Report Cc: dpdk-test-reports@iol.unh.edu In-Reply-To: <20250313164204.858692-1-sil-plv@napatech.com> References: <20250313164204.858692-1-sil-plv@napatech.com> Content-Type: text/plain X-BeenThere: test-report@dpdk.org X-Mailman-Version: 2.1.29 Precedence: list List-Id: automatic DPDK test reports List-Unsubscribe: , List-Archive: List-Post: List-Help: List-Subscribe: , Errors-To: test-report-bounces@dpdk.org Test-Label: iol-unit-amd64-testing Test-Status: SUCCESS http://dpdk.org/patch/152379 _Testing PASS_ Submitter: Serhii Iliushyk Date: Thursday, March 13 2025 16:42:03 DPDK git baseline: Repo:dpdk Branch: master CommitID:f1ba1be33657c02df257dbe6e5741232bff7df1a 152379 --> testing pass Upstream job id: Generic-Unit-Test-DPDK#324294 Test environment and result as below: +-------------------+----------------+ | Environment | dpdk_unit_test | +===================+================+ | Debian 12 | PASS | +-------------------+----------------+ | CentOS Stream 10 | PASS | +-------------------+----------------+ | Fedora 40 | PASS | +-------------------+----------------+ | CentOS Stream 9 | PASS | +-------------------+----------------+ | Fedora 41 (Clang) | PASS | +-------------------+----------------+ | RHEL9 | PASS | +-------------------+----------------+ | Ubuntu 22.04 | PASS | +-------------------+----------------+ | Fedora 40 (Clang) | PASS | +-------------------+----------------+ | RHEL8 | PASS | +-------------------+----------------+ | Ubuntu 24.04 | PASS | +-------------------+----------------+ | Fedora 41 | PASS | +-------------------+----------------+ | Ubuntu 20.04 | PASS | +-------------------+----------------+ Debian 12 Kernel: Depends on container host Compiler: gcc (Debian 12.2.0-14) 12.2.0 CentOS Stream 10 Kernel: Depends on container host Compiler: gcc 14.2.1 20241104 (Red Hat 14.2.1-6) Fedora 40 Kernel: Depends on container host Compiler: gcc 14.2.1 20240912 (Red Hat 14.2.1-3) CentOS Stream 9 Kernel: Depends on container host Compiler: gcc 11.5.0 20240719 (Red Hat 11.5.0-2) Fedora 41 (Clang) Kernel: Depends on container host Compiler: clang 19.1.5 (Fedora 19.1.5-1.fc41) RHEL9 Kernel: Depends on container host Compiler: gcc 11.5.0 20240719 (Red Hat 11.5.0-2) Ubuntu 22.04 Kernel: Depends on container host Compiler: gcc (Ubuntu 11.4.0-1ubuntu1~22.04) 11.4.0 Fedora 40 (Clang) Kernel: Depends on container host Compiler: clang 18.1.8 (Fedora 18.1.8-1.fc40) RHEL8 Kernel: Depends on container host Compiler: gcc 8.5.0 20210514 (Red Hat 8.5.0-22) Ubuntu 24.04 Kernel: Depends on container host Compiler: gcc (Ubuntu 13.3.0-6ubuntu2~24.04) 13.3.0 Fedora 41 Kernel: Depends on container host Compiler: gcc 14.2.1 20240912 (Red Hat 14.2.1-3) Ubuntu 20.04 Kernel: Depends on container host Compiler: gcc (Ubuntu 9.4.0-1ubuntu1~20.04.2) 9.4.0 To view detailed results, visit: https://lab.dpdk.org/results/dashboard/patchsets/32821/ UNH-IOL DPDK Community Lab To manage your email subscriptions, visit: https://lab.dpdk.org/results/dashboard/preferences/subscriptions/