From mboxrd@z Thu Jan 1 00:00:00 1970 Return-Path: Received: from mails.dpdk.org (mails.dpdk.org [217.70.189.124]) by inbox.dpdk.org (Postfix) with ESMTP id 1CE52463A7 for ; Thu, 13 Mar 2025 19:25:17 +0100 (CET) Received: from mails.dpdk.org (localhost [127.0.0.1]) by mails.dpdk.org (Postfix) with ESMTP id 167F640671; Thu, 13 Mar 2025 19:25:17 +0100 (CET) Received: from mail-io1-f98.google.com (mail-io1-f98.google.com [209.85.166.98]) by mails.dpdk.org (Postfix) with ESMTP id F0BCF4066E for ; Thu, 13 Mar 2025 19:25:15 +0100 (CET) Received: by mail-io1-f98.google.com with SMTP id ca18e2360f4ac-85dac9728cdso36716039f.0 for ; Thu, 13 Mar 2025 11:25:15 -0700 (PDT) DKIM-Signature: v=1; a=rsa-sha256; c=relaxed/relaxed; d=iol.unh.edu; s=unh-iol; t=1741890315; x=1742495115; darn=dpdk.org; h=references:in-reply-to:cc:to:from:subject:message-id:date:from:to :cc:subject:date:message-id:reply-to; bh=KUPV2z9w3d0nukDCdDo0qmCmE4CRiVTnSYF2G3AkBXM=; b=ZFR0hhHNoQUO8ccgtS5BPIjvJcasarfXiZCHmWTIAv/KuLeJWtYvWmrBxGuOfHyqwp S3SIseOgtb3iX1l5WxBYXGB9DLdKvOabIUd8VEHwaaRCclyciGpQC7E1Ussn0kRUmSO4 dYPIipK3XLNlB/onAHpP0ZdDr5jTTw73o2Tho= X-Google-DKIM-Signature: v=1; a=rsa-sha256; c=relaxed/relaxed; d=1e100.net; s=20230601; t=1741890315; x=1742495115; h=references:in-reply-to:cc:to:from:subject:message-id:date :x-gm-message-state:from:to:cc:subject:date:message-id:reply-to; bh=KUPV2z9w3d0nukDCdDo0qmCmE4CRiVTnSYF2G3AkBXM=; b=vZGiVGIEu9CTjGe1Q4d/0ajb2pri5gldTSnrAkd+WccLHCkyFoNiaPfirixLb2pHTX JGsX+IQ/H6xKnUhzd+m96maOLwYIojiZpJ7E0ghZR6kuRRVmTwrR8YqA1rzzDkKphnNn PBvexHzvuKmcW2o5c8o24hxSeb2mWkkHCk+gmNngmC8ftQkgbcOjipRwNizuLb3k962/ RihcEbvcBc2uhIx+ToSjLxc8FUaeYCEvjNBosoC6xQFJvIZdT/LfhRjvsK4e4I5Jn6Wn AgRNqm1MxMxEGL+oV7Cnl2j2EAf8RtfXMugxBjw8FJ8TLnuKxPeCK8rnfZ1dO/GY70EB Qkzw== X-Gm-Message-State: AOJu0Yx80sKi2rrd8bNjYqaStcCB5p37tW4j5b+Wg2/2wo79+FmkS01n pXfuk65bR/2AxxxZYMlIe9MrRw+3FIGPfJWgS8KrlEkl1712jTD0SS14xCZzsDamNGbpvDmxcqh Adg5KwV3mYDfZH1OmifmPdxMqcd48WB4xZppJLLP/ X-Gm-Gg: ASbGncuWoOoUVucI4aao/L2funynL6TZiy7SN8uPUS+iiFQDd3N9+JbDYNxAAnvqUrB Dz0AHkHfRH9Kq0s9gV95jSOltSKkLH1QEKOTaY1FoKDjkOXAT5g6PQNfKhn+HzoiMbUC8pAgDAp miMdc1cXnjlm8zpzCSPC3D7BR0KRH9eeGDe193so3Hic2xjMBOGYP1H1dslkxclah8cg2IgyB9I XOLUJeTdjvydzZCSBe2JucnT96HXBCSHMIzvvXquiJ1WkmAAK8GBK9x2Y9SiDvQYNnm+lo54Fin 6JiKEFST++GSkLtqwgh7Z7imNAvmXs+hWggbkCqx X-Google-Smtp-Source: AGHT+IG5zjblSx/ZxarhAmNY7FH9n6opd95s/Z140BvQ928uuVPttc7R3TVHdSEYlfM5xqN1oP2J3qO8CRzu X-Received: by 2002:a05:6e02:1a83:b0:3d2:6768:c4fa with SMTP id e9e14a558f8ab-3d4817cd933mr9211305ab.21.1741890313796; Thu, 13 Mar 2025 11:25:13 -0700 (PDT) Received: from postal.iol.unh.edu (postal.iol.unh.edu. [132.177.123.84]) by smtp-relay.gmail.com with ESMTPS id e9e14a558f8ab-3d47a84300esm826285ab.58.2025.03.13.11.25.13 (version=TLS1_2 cipher=ECDHE-ECDSA-AES128-GCM-SHA256 bits=128/128); Thu, 13 Mar 2025 11:25:13 -0700 (PDT) X-Relaying-Domain: iol.unh.edu Date: Thu, 13 Mar 2025 11:25:13 -0700 (PDT) Message-ID: <67d32309.050a0220.28860b.4f36SMTPIN_ADDED_MISSING@mx.google.com> Received: from [172.17.0.4] (unknown [172.18.0.217]) by postal.iol.unh.edu (Postfix) with ESMTP id 4E06C6052472; Thu, 13 Mar 2025 14:25:13 -0400 (EDT) Subject: |SUCCESS| pw152379 [PATCH] [v1] net/ntnic: fix incorrect initializat From: dpdklab@iol.unh.edu To: Test Report Cc: dpdk-test-reports@iol.unh.edu In-Reply-To: <20250313164204.858692-1-sil-plv@napatech.com> References: <20250313164204.858692-1-sil-plv@napatech.com> Content-Type: text/plain X-BeenThere: test-report@dpdk.org X-Mailman-Version: 2.1.29 Precedence: list List-Id: automatic DPDK test reports List-Unsubscribe: , List-Archive: List-Post: List-Help: List-Subscribe: , Errors-To: test-report-bounces@dpdk.org Test-Label: iol-unit-amd64-testing Test-Status: SUCCESS http://dpdk.org/patch/152379 _Testing PASS_ Submitter: Serhii Iliushyk Date: Thursday, March 13 2025 16:42:03 DPDK git baseline: Repo:dpdk Branch: master CommitID:f1ba1be33657c02df257dbe6e5741232bff7df1a 152379 --> testing pass Upstream job id: Generic-VM-Unit-Test-DPDK#27587 Test environment and result as below: +---------------------+----------------+ | Environment | dpdk_unit_test | +=====================+================+ | Debian 12 | PASS | +---------------------+----------------+ | CentOS Stream 10 | PASS | +---------------------+----------------+ | Fedora 40 | PASS | +---------------------+----------------+ | CentOS Stream 9 | PASS | +---------------------+----------------+ | Fedora 41 (Clang) | PASS | +---------------------+----------------+ | RHEL9 | PASS | +---------------------+----------------+ | Ubuntu 22.04 | PASS | +---------------------+----------------+ | Fedora 40 (Clang) | PASS | +---------------------+----------------+ | RHEL8 | PASS | +---------------------+----------------+ | Ubuntu 24.04 | PASS | +---------------------+----------------+ | Fedora 41 | PASS | +---------------------+----------------+ | Ubuntu 20.04 | PASS | +---------------------+----------------+ | Windows Server 2022 | PASS | +---------------------+----------------+ Debian 12 Kernel: Depends on container host Compiler: gcc (Debian 12.2.0-14) 12.2.0 CentOS Stream 10 Kernel: Depends on container host Compiler: gcc 14.2.1 20241104 (Red Hat 14.2.1-6) Fedora 40 Kernel: Depends on container host Compiler: gcc 14.2.1 20240912 (Red Hat 14.2.1-3) CentOS Stream 9 Kernel: Depends on container host Compiler: gcc 11.5.0 20240719 (Red Hat 11.5.0-2) Fedora 41 (Clang) Kernel: Depends on container host Compiler: clang 19.1.5 (Fedora 19.1.5-1.fc41) RHEL9 Kernel: Depends on container host Compiler: gcc 11.5.0 20240719 (Red Hat 11.5.0-2) Ubuntu 22.04 Kernel: Depends on container host Compiler: gcc (Ubuntu 11.4.0-1ubuntu1~22.04) 11.4.0 Fedora 40 (Clang) Kernel: Depends on container host Compiler: clang 18.1.8 (Fedora 18.1.8-1.fc40) RHEL8 Kernel: Depends on container host Compiler: gcc 8.5.0 20210514 (Red Hat 8.5.0-22) Ubuntu 24.04 Kernel: Depends on container host Compiler: gcc (Ubuntu 13.3.0-6ubuntu2~24.04) 13.3.0 Fedora 41 Kernel: Depends on container host Compiler: gcc 14.2.1 20240912 (Red Hat 14.2.1-3) Ubuntu 20.04 Kernel: Depends on container host Compiler: gcc (Ubuntu 9.4.0-1ubuntu1~20.04.2) 9.4.0 Windows Server 2022 Kernel: 10.0.20348.2031 Compiler: clang 15.0.7, gcc 14.1.0 (MinGW), and MSVC VS 19.39.33521 To view detailed results, visit: https://lab.dpdk.org/results/dashboard/patchsets/32821/ UNH-IOL DPDK Community Lab To manage your email subscriptions, visit: https://lab.dpdk.org/results/dashboard/preferences/subscriptions/