From mboxrd@z Thu Jan 1 00:00:00 1970 Return-Path: Received: from mails.dpdk.org (mails.dpdk.org [217.70.189.124]) by inbox.dpdk.org (Postfix) with ESMTP id E5B01463A7 for ; Thu, 13 Mar 2025 19:32:16 +0100 (CET) Received: from mails.dpdk.org (localhost [127.0.0.1]) by mails.dpdk.org (Postfix) with ESMTP id DE77E40653; Thu, 13 Mar 2025 19:32:16 +0100 (CET) Received: from mail-pl1-f225.google.com (mail-pl1-f225.google.com [209.85.214.225]) by mails.dpdk.org (Postfix) with ESMTP id BBBCD402C3 for ; Thu, 13 Mar 2025 19:32:15 +0100 (CET) Received: by mail-pl1-f225.google.com with SMTP id d9443c01a7336-224171d6826so32529305ad.3 for ; Thu, 13 Mar 2025 11:32:15 -0700 (PDT) DKIM-Signature: v=1; a=rsa-sha256; c=relaxed/relaxed; d=iol.unh.edu; s=unh-iol; t=1741890735; x=1742495535; darn=dpdk.org; h=references:in-reply-to:cc:to:from:subject:message-id:date:from:to :cc:subject:date:message-id:reply-to; bh=8GAzM24/OXXsa7e6+SwUArCEbAmwN44na7W7hVp8WMM=; b=YpnhpfdHprm7v2n5+thESqS8pyE4p8iCbs8Gh+4Ka40n2ZKWN8TW9mE27G80ddxKDH MD52/BDdJXv5D0BJVjmcrl0SMtqhwIZd+Wy1LTBKpL5Ysv5ASOthTsJnts563Z44wWWJ h4B8/v2uCEai9IN/eN8znkHG6HQZQMByCj5JU= X-Google-DKIM-Signature: v=1; a=rsa-sha256; c=relaxed/relaxed; d=1e100.net; s=20230601; t=1741890735; x=1742495535; h=references:in-reply-to:cc:to:from:subject:message-id:date :x-gm-message-state:from:to:cc:subject:date:message-id:reply-to; bh=8GAzM24/OXXsa7e6+SwUArCEbAmwN44na7W7hVp8WMM=; b=DsqCJx4YtjIIU4ikSfV031tNhwiWOY9GmGkutNiph4iRJi8lq97dEs7yvKTzsSqSg+ CXcDw3amXQ41JHo2J4CL79bknmQ+rT90eOeUxZ9g+vAifjWea3ft5SEnPTTxAvx0Pf0O led6FQN1rz7hj527og3F2ygcS1hlJMjhOg/MF7wGjhhOgQCtXmKBNxta8oNrET56XNRW aolFZDBQoDQTRlJGqQjQVDZyUtKhjZ4qv8wxUKQgq59PDJSsHv8d68WLGHKqd9g/U/// m98yDnIH+ZP953o9XsNOrsbFHmI4KOD5dNeYl0/TnHoiAhZXehJr/B6sqiKMz7lHgFg8 sGQw== X-Gm-Message-State: AOJu0YyjzWMyC754bBT3U71DtqGgjiPx1u0cbGoBvN3th/u4x8D4dAno 9JUwBvh7ubZAJRQS69AugPVWuYZ/2kJ0yD1DI3DgHq54m2unzzkFC+hWZQEOkVd597AkqjrQWoi qxoIQCbW80mT7T2ixyL6GQuevXTrfwW1kNOF6/V3f X-Gm-Gg: ASbGncvFtnSODBEWzUVLq5TnXWxg8kYLrayEFunmTjfiwZ2fAd4DBjVi818j44x+/Pb FnTBgvbFp+ufHnSu8xghZqZfi1sY8XtjqZNXOrorBtGI0oZ1eo/1c9KcIDDEC3/2g2+p0amLMgh 5IOeQ/1Pnr2SqVRl26ORQp12ZQOYoAIjV2EFXKsOLDOZnKR8FCvk9CoP6YfAWfNV0adGL0HtLBU FyuqXI5kxLWk7WEZ32K2A3oEpO+0OP/cZ7Om1Usue3SA6w06o1beVS5OjtGPXuvmUGW1smENPHJ L+EhKMeA4W2O9rbkHuwxIFIkIBYWsYV8dQjwKN+u X-Google-Smtp-Source: AGHT+IEWKkBFiqmiJzHChdWr+vkpxWOD7Z7efyuoCRtjD39wJ38WsmlK4Tqn1jN5a7ysSCh7ScS2cnRqQdjc X-Received: by 2002:a17:903:2312:b0:224:1ce1:a3f4 with SMTP id d9443c01a7336-225dd8257bcmr7790715ad.1.1741890734817; Thu, 13 Mar 2025 11:32:14 -0700 (PDT) Received: from postal.iol.unh.edu (postal.iol.unh.edu. [132.177.123.84]) by smtp-relay.gmail.com with ESMTPS id d9443c01a7336-225c6c00b62sm748765ad.94.2025.03.13.11.32.14 (version=TLS1_2 cipher=ECDHE-ECDSA-AES128-GCM-SHA256 bits=128/128); Thu, 13 Mar 2025 11:32:14 -0700 (PDT) X-Relaying-Domain: iol.unh.edu Date: Thu, 13 Mar 2025 11:32:14 -0700 (PDT) Message-ID: <67d324ae.170a0220.227cee.4845SMTPIN_ADDED_MISSING@mx.google.com> Received: from [172.17.0.3] (unknown [172.18.0.217]) by postal.iol.unh.edu (Postfix) with ESMTP id 3504A6052471; Thu, 13 Mar 2025 14:32:14 -0400 (EDT) Subject: |SUCCESS| pw152379 [PATCH] [v1] net/ntnic: fix incorrect initializat From: dpdklab@iol.unh.edu To: Test Report Cc: dpdk-test-reports@iol.unh.edu In-Reply-To: <20250313164204.858692-1-sil-plv@napatech.com> References: <20250313164204.858692-1-sil-plv@napatech.com> Content-Type: text/plain X-BeenThere: test-report@dpdk.org X-Mailman-Version: 2.1.29 Precedence: list List-Id: automatic DPDK test reports List-Unsubscribe: , List-Archive: List-Post: List-Help: List-Subscribe: , Errors-To: test-report-bounces@dpdk.org Test-Label: iol-sample-apps-testing Test-Status: SUCCESS http://dpdk.org/patch/152379 _Testing PASS_ Submitter: Serhii Iliushyk Date: Thursday, March 13 2025 16:42:03 DPDK git baseline: Repo:dpdk Branch: master CommitID:f1ba1be33657c02df257dbe6e5741232bff7df1a 152379 --> testing pass Upstream job id: ACVP-FIPS-testing#9268 Test environment and result as below: +--------------------+----------------------+----------------------+ | Environment | compressdev_zlib_pmd | dpdk_fips_validation | +====================+======================+======================+ | Ubuntu 22.04 (ARM) | PASS | SKIPPED | +--------------------+----------------------+----------------------+ | Ubuntu 22.04 | PASS | SKIPPED | +--------------------+----------------------+----------------------+ | Ubuntu 20.04 | SKIPPED | PASS | +--------------------+----------------------+----------------------+ Ubuntu 22.04 (ARM) Kernel: 5.15.0-97-generic Compiler: gcc gcc (Ubuntu 11.4.0-1ubuntu1~22.04) 11.4.0 Ubuntu 22.04 Kernel: 5.15.0-100-generic Compiler: gcc gcc (Ubuntu 11.4.0-1ubuntu1~22.04) 11.4.0 Ubuntu 20.04 Kernel: Depends on container host Compiler: gcc (Ubuntu 9.4.0-1ubuntu1~20.04.2) 9.4.0 To view detailed results, visit: https://lab.dpdk.org/results/dashboard/patchsets/32821/ UNH-IOL DPDK Community Lab To manage your email subscriptions, visit: https://lab.dpdk.org/results/dashboard/preferences/subscriptions/