From mboxrd@z Thu Jan 1 00:00:00 1970 Return-Path: Received: from mails.dpdk.org (mails.dpdk.org [217.70.189.124]) by inbox.dpdk.org (Postfix) with ESMTP id 0F338463A7 for ; Thu, 13 Mar 2025 19:33:12 +0100 (CET) Received: from mails.dpdk.org (localhost [127.0.0.1]) by mails.dpdk.org (Postfix) with ESMTP id 0A84540653; Thu, 13 Mar 2025 19:33:12 +0100 (CET) Received: from mail-yw1-f227.google.com (mail-yw1-f227.google.com [209.85.128.227]) by mails.dpdk.org (Postfix) with ESMTP id 282FA402C3 for ; Thu, 13 Mar 2025 19:33:11 +0100 (CET) Received: by mail-yw1-f227.google.com with SMTP id 00721157ae682-6f74b78df93so13415757b3.0 for ; Thu, 13 Mar 2025 11:33:11 -0700 (PDT) DKIM-Signature: v=1; a=rsa-sha256; c=relaxed/relaxed; d=iol.unh.edu; s=unh-iol; t=1741890790; x=1742495590; darn=dpdk.org; h=references:in-reply-to:cc:to:from:subject:message-id:date:from:to :cc:subject:date:message-id:reply-to; bh=fkGMKN1sIjGsCl3PEeLWQ5AAeg0xOtu9fb5v1Zk8BL0=; b=Mhx8uxDFRZJ2hOkLZ4XWnEGCCuq3wG18vGo1jGO1ba8Ge28E+D1ILytz30vSyaHNqn 3uZI2mC1IB0sWh4qRuWaFXPNrETtPmvr7nC8DeVG4bZnPQ+gCQquOTapJg86ddJ69VRz Umh0MVtbZR2LzJbXAyEMbwMVl4dTZ1vJWgstU= X-Google-DKIM-Signature: v=1; a=rsa-sha256; c=relaxed/relaxed; d=1e100.net; s=20230601; t=1741890790; x=1742495590; h=references:in-reply-to:cc:to:from:subject:message-id:date :x-gm-message-state:from:to:cc:subject:date:message-id:reply-to; bh=fkGMKN1sIjGsCl3PEeLWQ5AAeg0xOtu9fb5v1Zk8BL0=; b=SL8Oz24dDjhGyIRkk3bh2YZyngJEs16Lp/0frzID++PL3Iw4n5CVc6QRItOrTUAqNW XOJQ2qP+ZTgFU9LsrkR8Ei83bqnaONAcFNVWrGw0vu9JHJzYNZNaOMzdRovhr7ZNfj+o T9mhpFItNRlhr6hDzQjwzHDpxuDLL+WTKgStrs/nZ6+DzYTaRTqiUHbgqTaqcnEz0en2 FO6f0MjAY4WXf1DSLFm+habDUe23YyaLNmS523IiUEcXFkcew2vycrA8oCpKR+p8795o KVarNeIdCF7wLaWmzU0UnsiXs/1BE9Ses56nXyx4+hIlLySC5nzBtenCm8EjzFjld9jV 76Kw== X-Gm-Message-State: AOJu0Ywo7sgsbwZ638tXEW/6izdgF6u4Oc3/hqj7muxhhcvf95DKX1Lk axUlVYrzUzvI600spsoW00vv9U+44yQP7E0IUFnIRkdK37cWD6EH6XVmHjDIsgrrGOZFqexgG2Y nI4W6PQ+BAJhbeSvefq+G/JGjee+Z3VrOEbaEiGMQOeIysdL5KB1bUKLv X-Gm-Gg: ASbGncu6PuHFuePH+62aZBhj+GI9KYkltUGdjmOtok4lt7UTf1SzpY/zcREdbNW/VTy tzAilfdsnUxK0MIFXR6PJ4DM75JXneIvbLYJzoq2excOURsO/CLs+7Q5BY0viAema8uOmMHv+3X okiuzu/NPIgrOss7+gP4E6KnqcdCDG3cjpR2+abtLBFcA2F1ygdQImwNwvJpL9aaZKL32VIFKTh cu9LJ8qNaA4QlX68niAb2BkKCP4KhnCApyP+Z/zdEvmSmbVVK1HOqeBdzcoqVCBncA5GqPU6T1g iorSU81diCzx5EoqXTF0zn+SaGqA6KAEZ8FHVV4DasTwJdz2Vnrm X-Google-Smtp-Source: AGHT+IEg7x1aTtkf0hwf8+SGV5jC440LlQzecpqkPpMYSBm/VPWWF2q4FocSv1YTDgqEFaMu5+A/zBYJluCS X-Received: by 2002:a05:690c:23ca:b0:6ef:7f89:d906 with SMTP id 00721157ae682-6ff420bad93mr8680027b3.33.1741890790580; Thu, 13 Mar 2025 11:33:10 -0700 (PDT) Received: from postal.iol.unh.edu (postal.iol.unh.edu. [2606:4100:3880:1234::84]) by smtp-relay.gmail.com with ESMTPS id 3f1490d57ef6-e63e53e31e3sm75736276.15.2025.03.13.11.33.10 (version=TLS1_2 cipher=ECDHE-ECDSA-AES128-GCM-SHA256 bits=128/128); Thu, 13 Mar 2025 11:33:10 -0700 (PDT) X-Relaying-Domain: iol.unh.edu Date: Thu, 13 Mar 2025 11:33:10 -0700 (PDT) Message-ID: <67d324e6.250a0220.181808.4616SMTPIN_ADDED_MISSING@mx.google.com> Received: from [172.17.0.3] (unknown [172.18.0.217]) by postal.iol.unh.edu (Postfix) with ESMTP id 3612E6052471; Thu, 13 Mar 2025 14:33:10 -0400 (EDT) Subject: |SUCCESS| pw152379 [PATCH] [v1] net/ntnic: fix incorrect initializat From: dpdklab@iol.unh.edu To: Test Report Cc: dpdk-test-reports@iol.unh.edu In-Reply-To: <20250313164204.858692-1-sil-plv@napatech.com> References: <20250313164204.858692-1-sil-plv@napatech.com> Content-Type: text/plain X-BeenThere: test-report@dpdk.org X-Mailman-Version: 2.1.29 Precedence: list List-Id: automatic DPDK test reports List-Unsubscribe: , List-Archive: List-Post: List-Help: List-Subscribe: , Errors-To: test-report-bounces@dpdk.org Test-Label: iol-abi-testing Test-Status: SUCCESS http://dpdk.org/patch/152379 _Testing PASS_ Submitter: Serhii Iliushyk Date: Thursday, March 13 2025 16:42:03 DPDK git baseline: Repo:dpdk Branch: master CommitID:f1ba1be33657c02df257dbe6e5741232bff7df1a 152379 --> testing pass Upstream job id: Generic-DPDK-Compile-ABI#120264 Test environment and result as below: +-------------------+----------+ | Environment | abi_test | +===================+==========+ | CentOS Stream 10 | PASS | +-------------------+----------+ | Fedora 40 (Clang) | PASS | +-------------------+----------+ | Debian 12 | PASS | +-------------------+----------+ | Fedora 41 (Clang) | PASS | +-------------------+----------+ | Fedora 40 | PASS | +-------------------+----------+ | Fedora 41 | PASS | +-------------------+----------+ | openSUSE Leap 15 | PASS | +-------------------+----------+ | RHEL8 | PASS | +-------------------+----------+ | Ubuntu 22.04 | PASS | +-------------------+----------+ | RHEL9 | PASS | +-------------------+----------+ | Ubuntu 24.04 | PASS | +-------------------+----------+ | CentOS Stream 9 | PASS | +-------------------+----------+ CentOS Stream 10 Kernel: Depends on container host Compiler: gcc 14.2.1 20241104 (Red Hat 14.2.1-6) Fedora 40 (Clang) Kernel: Depends on container host Compiler: clang 18.1.8 (Fedora 18.1.8-1.fc40) Debian 12 Kernel: Depends on container host Compiler: gcc (Debian 12.2.0-14) 12.2.0 Fedora 41 (Clang) Kernel: Depends on container host Compiler: clang 19.1.5 (Fedora 19.1.5-1.fc41) Fedora 40 Kernel: Depends on container host Compiler: gcc 14.2.1 20240912 (Red Hat 14.2.1-3) Fedora 41 Kernel: Depends on container host Compiler: gcc 14.2.1 20240912 (Red Hat 14.2.1-3) openSUSE Leap 15 Kernel: Depends on container host Compiler: gcc (SUSE Linux) 7.5.0 RHEL8 Kernel: Depends on container host Compiler: gcc 8.5.0 20210514 (Red Hat 8.5.0-22) Ubuntu 22.04 Kernel: Depends on container host Compiler: gcc (Ubuntu 11.4.0-1ubuntu1~22.04) 11.4.0 RHEL9 Kernel: Depends on container host Compiler: gcc 11.5.0 20240719 (Red Hat 11.5.0-2) Ubuntu 24.04 Kernel: Depends on container host Compiler: gcc (Ubuntu 13.3.0-6ubuntu2~24.04) 13.3.0 CentOS Stream 9 Kernel: Depends on container host Compiler: gcc 11.5.0 20240719 (Red Hat 11.5.0-2) To view detailed results, visit: https://lab.dpdk.org/results/dashboard/patchsets/32821/ UNH-IOL DPDK Community Lab To manage your email subscriptions, visit: https://lab.dpdk.org/results/dashboard/preferences/subscriptions/