From mboxrd@z Thu Jan 1 00:00:00 1970 Return-Path: Received: from mails.dpdk.org (mails.dpdk.org [217.70.189.124]) by inbox.dpdk.org (Postfix) with ESMTP id 403DC463A7 for ; Thu, 13 Mar 2025 19:55:46 +0100 (CET) Received: from mails.dpdk.org (localhost [127.0.0.1]) by mails.dpdk.org (Postfix) with ESMTP id 3B4104025A; Thu, 13 Mar 2025 19:55:46 +0100 (CET) Received: from mail-il1-f225.google.com (mail-il1-f225.google.com [209.85.166.225]) by mails.dpdk.org (Postfix) with ESMTP id 077D14014F for ; Thu, 13 Mar 2025 19:55:45 +0100 (CET) Received: by mail-il1-f225.google.com with SMTP id e9e14a558f8ab-3d4469b35e4so9242675ab.1 for ; Thu, 13 Mar 2025 11:55:44 -0700 (PDT) DKIM-Signature: v=1; a=rsa-sha256; c=relaxed/relaxed; d=iol.unh.edu; s=unh-iol; t=1741892144; x=1742496944; darn=dpdk.org; h=references:in-reply-to:cc:to:from:subject:message-id:date:from:to :cc:subject:date:message-id:reply-to; bh=6W3BlPdbOxvBx90P+wIsr4KWmJjpleopYA8SBPeyHoU=; b=PMWfu10MYbjEa5eIZA0yBN2elKlzvcCElYn6geHUFmC7wBVwqk7NKYppzCNH2WmNGh u6y9e3dfarsrBEpPZB7dJ3sTITZwkIgXsdsIF38EOaPP1BscMFRE/HJwcIkptfLNvwvn fl9jNtu4D2gB98veX1ORrtp7ZhCCRr3Rperjc= X-Google-DKIM-Signature: v=1; a=rsa-sha256; c=relaxed/relaxed; d=1e100.net; s=20230601; t=1741892144; x=1742496944; h=references:in-reply-to:cc:to:from:subject:message-id:date :x-gm-message-state:from:to:cc:subject:date:message-id:reply-to; bh=6W3BlPdbOxvBx90P+wIsr4KWmJjpleopYA8SBPeyHoU=; b=RWiJlwGIuZhPCyyYseF3ZqDZrZzY5pdHR4uHM/WsojJiIS9VD7AhbNI34mEbiF2ZeI 6p7AcFxnA1XlC5kfDE3Yx1I/gOgtG1CbWWZ5OtHxhtpLx66OWhOMLoIdRzMjmGELskRU NG/l5c1kGfDenuf4QU45mg+Gq/m7XWr1/ta+ueVB3Uy54dsMdRZA8uigMGZafa/bHYmG qo3HYR13NUJDHvTMO/FK2RUl6aPc/NaG9aTEpxzdvuuIDX0Uth54CDHgO6Uzn73YrVsi 3SjunCWmyDh0gadqHPC5pnD2u41Tq5LoWQQzkuY7xxgINfd2dXKLSyyXZVpx7We4bUoi V7Jg== X-Gm-Message-State: AOJu0YzKpCUYDKhJ51Vr2zQ//ZhvBvp/23fhYz1yxGMpyPih3JgzJ6D/ gNLv1DpHIHUa3/5Rfz9pWYQAQiJ4MlaYZn/eRJFcfgXkKfAWejWAuowfO7G8opSV60QUqIZmiLM XvRB9fOjooX6Yj/rTbA2KjyGN1YuDaagb4/TOJ5nn80pR7bhXYxgRLFn6 X-Gm-Gg: ASbGncu4PIjFFJo11c2Cru7+MXELYy3+XM6z9dFQelKmYiOCDlcbnBGK0mTDNbJ+Cty bmKVu6/pgesAbwJsso7xAwXCF069YvCFfx9xuJbenngPsVGaoLZ7UjUDXFQs7qe3iF5Bafn30wU 0qTMgkdHJyVPWmXrMILwS8j0beyZJi2C1+d4eSc0nINvcblHDOvD+Ss5bWaBaMspk9g89rTWT3m BGPIUha28hdldDGUMNrNTnoXebiGPAgskWkox5Y12mtz9cMtE6k1Fp3aoDUARDrLeZ09zYhR0jL fROjQ5VxFp1aMgciEOx6BkAmJ0u2vzCnWiUb0gqhU6rhWF6bd7Wd X-Google-Smtp-Source: AGHT+IGmwsp5e2pm/x/NJYhxE+Wszi98cIHLdgRcU3No9wXiRXzNUgiEmpt0EQSpXno1oFVt3bQpaxgRdlGs X-Received: by 2002:a05:6e02:3683:b0:3d2:b66b:94cd with SMTP id e9e14a558f8ab-3d46890bde3mr150832255ab.3.1741892144390; Thu, 13 Mar 2025 11:55:44 -0700 (PDT) Received: from postal.iol.unh.edu (postal.iol.unh.edu. [2606:4100:3880:1234::84]) by smtp-relay.gmail.com with ESMTPS id e9e14a558f8ab-3d47a64f60csm899865ab.10.2025.03.13.11.55.44 (version=TLS1_2 cipher=ECDHE-ECDSA-AES128-GCM-SHA256 bits=128/128); Thu, 13 Mar 2025 11:55:44 -0700 (PDT) X-Relaying-Domain: iol.unh.edu Date: Thu, 13 Mar 2025 11:55:44 -0700 (PDT) Message-ID: <67d32a30.050a0220.11b2d1.5788SMTPIN_ADDED_MISSING@mx.google.com> Received: from [172.21.0.5] (unknown [172.18.0.240]) by postal.iol.unh.edu (Postfix) with ESMTP id E3F706052471; Thu, 13 Mar 2025 14:55:43 -0400 (EDT) Subject: |SUCCESS| pw152379 [PATCH] [v1] net/ntnic: fix incorrect initializat From: dpdklab@iol.unh.edu To: Test Report Cc: dpdk-test-reports@iol.unh.edu In-Reply-To: <20250313164204.858692-1-sil-plv@napatech.com> References: <20250313164204.858692-1-sil-plv@napatech.com> Content-Type: text/plain X-BeenThere: test-report@dpdk.org X-Mailman-Version: 2.1.29 Precedence: list List-Id: automatic DPDK test reports List-Unsubscribe: , List-Archive: List-Post: List-Help: List-Subscribe: , Errors-To: test-report-bounces@dpdk.org Test-Label: iol-compile-amd64-testing Test-Status: SUCCESS http://dpdk.org/patch/152379 _Testing PASS_ Submitter: Serhii Iliushyk Date: Thursday, March 13 2025 16:42:03 DPDK git baseline: Repo:dpdk Branch: master CommitID:f1ba1be33657c02df257dbe6e5741232bff7df1a 152379 --> testing pass Upstream job id: Generic-DPDK-Compile-Meson#371950 Test environment and result as below: +-----------------------------------+--------------------+-------------------+------------------+-------------------+-------------------------+----------------------+ | Environment | dpdk_meson_compile | dpdk_compile_spdk | dpdk_compile_ovs | dpdk_msvc_compile | dpdk_llvm_clang_compile | dpdk_mingw64_compile | +===================================+====================+===================+==================+===================+=========================+======================+ | CentOS Stream 9 | PASS | PASS | SKIPPED | SKIPPED | SKIPPED | SKIPPED | +-----------------------------------+--------------------+-------------------+------------------+-------------------+-------------------------+----------------------+ | Debian 12 | PASS | PASS | SKIPPED | SKIPPED | SKIPPED | SKIPPED | +-----------------------------------+--------------------+-------------------+------------------+-------------------+-------------------------+----------------------+ | CentOS Stream 10 | PASS | SKIPPED | SKIPPED | SKIPPED | SKIPPED | SKIPPED | +-----------------------------------+--------------------+-------------------+------------------+-------------------+-------------------------+----------------------+ | Fedora 40 | PASS | PASS | SKIPPED | SKIPPED | SKIPPED | SKIPPED | +-----------------------------------+--------------------+-------------------+------------------+-------------------+-------------------------+----------------------+ | Fedora 40 (Clang) | PASS | PASS | SKIPPED | SKIPPED | SKIPPED | SKIPPED | +-----------------------------------+--------------------+-------------------+------------------+-------------------+-------------------------+----------------------+ | Fedora 41 | PASS | PASS | PASS | SKIPPED | SKIPPED | SKIPPED | +-----------------------------------+--------------------+-------------------+------------------+-------------------+-------------------------+----------------------+ | Ubuntu 20.04 | PASS | SKIPPED | SKIPPED | SKIPPED | SKIPPED | SKIPPED | +-----------------------------------+--------------------+-------------------+------------------+-------------------+-------------------------+----------------------+ | Ubuntu 22.04 | PASS | PASS | SKIPPED | SKIPPED | SKIPPED | SKIPPED | +-----------------------------------+--------------------+-------------------+------------------+-------------------+-------------------------+----------------------+ | RHEL9 | PASS | SKIPPED | SKIPPED | SKIPPED | SKIPPED | SKIPPED | +-----------------------------------+--------------------+-------------------+------------------+-------------------+-------------------------+----------------------+ | RHEL8 | PASS | SKIPPED | SKIPPED | SKIPPED | SKIPPED | SKIPPED | +-----------------------------------+--------------------+-------------------+------------------+-------------------+-------------------------+----------------------+ | openSUSE Leap 15 | PASS | SKIPPED | SKIPPED | SKIPPED | SKIPPED | SKIPPED | +-----------------------------------+--------------------+-------------------+------------------+-------------------+-------------------------+----------------------+ | Ubuntu 24.04 | PASS | PASS | PASS | SKIPPED | SKIPPED | SKIPPED | +-----------------------------------+--------------------+-------------------+------------------+-------------------+-------------------------+----------------------+ | Ubuntu 24.04 32 Bit Cross Compile | PASS | SKIPPED | SKIPPED | SKIPPED | SKIPPED | SKIPPED | +-----------------------------------+--------------------+-------------------+------------------+-------------------+-------------------------+----------------------+ | Alpine | PASS | SKIPPED | SKIPPED | SKIPPED | SKIPPED | SKIPPED | +-----------------------------------+--------------------+-------------------+------------------+-------------------+-------------------------+----------------------+ | FreeBSD 13.4 | PASS | SKIPPED | SKIPPED | SKIPPED | SKIPPED | SKIPPED | +-----------------------------------+--------------------+-------------------+------------------+-------------------+-------------------------+----------------------+ | FreeBSD 14.2 | PASS | SKIPPED | SKIPPED | SKIPPED | SKIPPED | SKIPPED | +-----------------------------------+--------------------+-------------------+------------------+-------------------+-------------------------+----------------------+ | Fedora 41 (Clang) | PASS | PASS | PASS | SKIPPED | SKIPPED | SKIPPED | +-----------------------------------+--------------------+-------------------+------------------+-------------------+-------------------------+----------------------+ | Windows Server 2022 | SKIPPED | SKIPPED | SKIPPED | PASS | PASS | PASS | +-----------------------------------+--------------------+-------------------+------------------+-------------------+-------------------------+----------------------+ CentOS Stream 9 Kernel: Depends on container host Compiler: gcc 11.5.0 20240719 (Red Hat 11.5.0-2) Debian 12 Kernel: Depends on container host Compiler: gcc (Debian 12.2.0-14) 12.2.0 CentOS Stream 10 Kernel: Depends on container host Compiler: gcc 14.2.1 20241104 (Red Hat 14.2.1-6) Fedora 40 Kernel: Depends on container host Compiler: gcc 14.2.1 20240912 (Red Hat 14.2.1-3) Fedora 40 (Clang) Kernel: Depends on container host Compiler: clang 18.1.8 (Fedora 18.1.8-1.fc40) Fedora 41 Kernel: Depends on container host Compiler: gcc 14.2.1 20240912 (Red Hat 14.2.1-3) Ubuntu 20.04 Kernel: Depends on container host Compiler: gcc (Ubuntu 9.4.0-1ubuntu1~20.04.2) 9.4.0 Ubuntu 22.04 Kernel: Depends on container host Compiler: gcc (Ubuntu 11.4.0-1ubuntu1~22.04) 11.4.0 RHEL9 Kernel: Depends on container host Compiler: gcc 11.5.0 20240719 (Red Hat 11.5.0-2) RHEL8 Kernel: Depends on container host Compiler: gcc 8.5.0 20210514 (Red Hat 8.5.0-22) openSUSE Leap 15 Kernel: Depends on container host Compiler: gcc (SUSE Linux) 7.5.0 Ubuntu 24.04 Kernel: Depends on container host Compiler: gcc (Ubuntu 13.3.0-6ubuntu2~24.04) 13.3.0 Ubuntu 24.04 32 Bit Cross Compile Kernel: Depends on container host Compiler: gcc (Ubuntu 13.3.0-6ubuntu2~24.04) 13.3.0 Alpine Kernel: Depends on container host Compiler: gcc (Alpine 14.2.0) 14.2.0 FreeBSD 13.4 Kernel: 13.4-RELEASE-p1 Compiler: clang 18.1.6 FreeBSD 14.2 Kernel: 14.2-RELEASE Compiler: clang 18.1.6 Fedora 41 (Clang) Kernel: Depends on container host Compiler: clang 19.1.5 (Fedora 19.1.5-1.fc41) Windows Server 2022 Kernel: 10.0.20348.2031 Compiler: clang 15.0.7, gcc 14.1.0 (MinGW), and MSVC VS 19.39.33521 To view detailed results, visit: https://lab.dpdk.org/results/dashboard/patchsets/32821/ UNH-IOL DPDK Community Lab To manage your email subscriptions, visit: https://lab.dpdk.org/results/dashboard/preferences/subscriptions/