From mboxrd@z Thu Jan  1 00:00:00 1970
Return-Path: <test-report-bounces@dpdk.org>
Received: from mails.dpdk.org (mails.dpdk.org [217.70.189.124])
	by inbox.dpdk.org (Postfix) with ESMTP id 0D190463A8
	for <public@inbox.dpdk.org>; Thu, 13 Mar 2025 20:24:38 +0100 (CET)
Received: from mails.dpdk.org (localhost [127.0.0.1])
	by mails.dpdk.org (Postfix) with ESMTP id 071764025D;
	Thu, 13 Mar 2025 20:24:38 +0100 (CET)
Received: from mail-pl1-f226.google.com (mail-pl1-f226.google.com
 [209.85.214.226])
 by mails.dpdk.org (Postfix) with ESMTP id 953244025A
 for <test-report@dpdk.org>; Thu, 13 Mar 2025 20:24:37 +0100 (CET)
Received: by mail-pl1-f226.google.com with SMTP id
 d9443c01a7336-225df540edcso519525ad.0
 for <test-report@dpdk.org>; Thu, 13 Mar 2025 12:24:37 -0700 (PDT)
DKIM-Signature: v=1; a=rsa-sha256; c=relaxed/relaxed;
 d=iol.unh.edu; s=unh-iol; t=1741893876; x=1742498676; darn=dpdk.org;
 h=references:in-reply-to:cc:to:from:subject:message-id:date:from:to
 :cc:subject:date:message-id:reply-to;
 bh=aPUP9sajcQqe4MAXpsGFzdD+5Ofa9Ozxrm7sXCL5nkQ=;
 b=GNZkfS0PmqG8QJRlTnzClEN2nHX97KcfBy8r9+xW5OErkG9HihZaYiP4gLbqxk6Uex
 HEepIEp6yn2NjaeKUsH5ahs/bEnkymvK7l3U6ULEo3wu1syEdoPpUnda2tanDyNQXive
 tCw2Q7wL2I9QELwZWsYwB+gnoMkLlhsbjkljw=
X-Google-DKIM-Signature: v=1; a=rsa-sha256; c=relaxed/relaxed;
 d=1e100.net; s=20230601; t=1741893876; x=1742498676;
 h=references:in-reply-to:cc:to:from:subject:message-id:date
 :x-gm-message-state:from:to:cc:subject:date:message-id:reply-to;
 bh=aPUP9sajcQqe4MAXpsGFzdD+5Ofa9Ozxrm7sXCL5nkQ=;
 b=dbnPrvB+z4e1Gv2MAsgULP4DQ986fkSGOKCqdnRXKntxg5DMStm1TS5FjJLFWz/kmM
 aZqQ+tCjP/+YI7Dtei7ut+hswlCpfRaS9DrbirsmBBRIndlteNXQBxSVEV5J7J1IWA2g
 Hog+1Aek+faWlfSSgvtRIpHVZAgOlfsTiym/LrqnCAxDkiSNKouW8cwsTgLIYRPkHOxR
 ZnEhyu/H870Dbh0FcYlb09+UooAAAhZtGfWu7Ibd975PElRKDK37N/AT64XqESP2xmAc
 W+V2/QxjvjmObZ7T4nqqRKfywK4Mwe9kncVQnOZESvlN2a2oO3m4zN35veDYI7v82//z
 N6Pw==
X-Gm-Message-State: AOJu0Yxk26/xZOC6dpSS78AgcppUvqFeZDQe1jdtShR0UhKi0jBpeetY
 1iUbKBw8JJae5+pEYK3eCMiig4PVg1baU3RP3QOKR0NpQsma7ZilS5J3Ess/BHdQM+IRUyUL+1W
 nGyRavuhDxUf/xCOVI61b9DC1Q5NF36kAN839e4RwIkfTNaY813yGRSev
X-Gm-Gg: ASbGncuzI5hm1Y0HYQ6bq6n2UI5VRtA4dR3yOoqn5wEn2+4E5VflDa3Cz9Pv9ajNARW
 29LXisSzSWJLsTqD0/XzKqxEPP+zXIW+1RWqahHNNBizffNd46pbPwEy4XUCk3USOoibSPwL++l
 EFhtzTtF1s+O0NLUi0PZsLGWfzXHEvUEaHaiGz62oDji4hGYiCMuaiqpFHzaMZxQ72lQj+KOL9X
 CHb39Gc8OLnHwZ3bRitZoxMMvEPnuGrlqoGyWAR+8wTF/eLHSCAv2FUFmN3aAYbfuZOn9a7PSG3
 rjxwPIdItVsOhHN+D0UlfQ77/gK+YJR3TpXE2WT9xkZz1XN3vKGD
X-Google-Smtp-Source: AGHT+IG5upXIYtGcbuQOAOO7NXSv5QtU49/pFXEVByjrmm8pKodRBifdgWLJmu33eeyNm0T3N/ojTMlO4IcO
X-Received: by 2002:a17:903:1b04:b0:215:58be:334e with SMTP id
 d9443c01a7336-225c6647c8emr50843815ad.10.1741893876567; 
 Thu, 13 Mar 2025 12:24:36 -0700 (PDT)
Received: from postal.iol.unh.edu (postal.iol.unh.edu.
 [2606:4100:3880:1234::84]) by smtp-relay.gmail.com with ESMTPS id
 d9443c01a7336-225c6c00d95sm731505ad.73.2025.03.13.12.24.36
 (version=TLS1_2 cipher=ECDHE-ECDSA-AES128-GCM-SHA256 bits=128/128);
 Thu, 13 Mar 2025 12:24:36 -0700 (PDT)
X-Relaying-Domain: iol.unh.edu
Date: Thu, 13 Mar 2025 12:24:36 -0700 (PDT)
Message-ID: <67d330f4.170a0220.19bdae.448bSMTPIN_ADDED_MISSING@mx.google.com>
Received: from [172.21.0.5] (unknown [172.18.0.240])
 by postal.iol.unh.edu (Postfix) with ESMTP id 125B06052471;
 Thu, 13 Mar 2025 15:24:36 -0400 (EDT)
Subject: |SUCCESS| pw152385 [PATCH] [v1] net/ntnic: fix incorrect initializat
From: dpdklab@iol.unh.edu
To: Test Report <test-report@dpdk.org>
Cc: dpdk-test-reports@iol.unh.edu
In-Reply-To: <20250313182859.1180826-1-sil-plv@napatech.com>
References: <20250313182859.1180826-1-sil-plv@napatech.com>
Content-Type: text/plain
X-BeenThere: test-report@dpdk.org
X-Mailman-Version: 2.1.29
Precedence: list
List-Id: automatic DPDK test reports <test-report.dpdk.org>
List-Unsubscribe: <https://mails.dpdk.org/options/test-report>,
 <mailto:test-report-request@dpdk.org?subject=unsubscribe>
List-Archive: <http://mails.dpdk.org/archives/test-report/>
List-Post: <mailto:test-report@dpdk.org>
List-Help: <mailto:test-report-request@dpdk.org?subject=help>
List-Subscribe: <https://mails.dpdk.org/listinfo/test-report>,
 <mailto:test-report-request@dpdk.org?subject=subscribe>
Errors-To: test-report-bounces@dpdk.org

Test-Label: iol-unit-amd64-testing
Test-Status: SUCCESS
http://dpdk.org/patch/152385

_Testing PASS_

Submitter: Serhii Iliushyk <sil-plv@napatech.com>
Date: Thursday, March 13 2025 18:28:59 
DPDK git baseline: Repo:dpdk
  Branch: master
  CommitID:f1ba1be33657c02df257dbe6e5741232bff7df1a

152385 --> testing pass

Upstream job id: Generic-Unit-Test-DPDK#324314

Test environment and result as below:

+---------------------+----------------+
|     Environment     | dpdk_unit_test |
+=====================+================+
| CentOS Stream 10    | PASS           |
+---------------------+----------------+
| Fedora 40 (Clang)   | PASS           |
+---------------------+----------------+
| CentOS Stream 9     | PASS           |
+---------------------+----------------+
| Debian 12           | PASS           |
+---------------------+----------------+
| RHEL9               | PASS           |
+---------------------+----------------+
| Fedora 41           | PASS           |
+---------------------+----------------+
| Fedora 40           | PASS           |
+---------------------+----------------+
| Fedora 41 (Clang)   | PASS           |
+---------------------+----------------+
| Ubuntu 22.04        | PASS           |
+---------------------+----------------+
| Ubuntu 20.04        | PASS           |
+---------------------+----------------+
| RHEL8               | PASS           |
+---------------------+----------------+
| Ubuntu 24.04        | PASS           |
+---------------------+----------------+
| Windows Server 2022 | PASS           |
+---------------------+----------------+


CentOS Stream 10
	Kernel: Depends on container host
	Compiler: gcc 14.2.1 20241104 (Red Hat 14.2.1-6)

Fedora 40 (Clang)
	Kernel: Depends on container host
	Compiler: clang 18.1.8 (Fedora 18.1.8-1.fc40)

CentOS Stream 9
	Kernel: Depends on container host
	Compiler: gcc 11.5.0 20240719 (Red Hat 11.5.0-2)

Debian 12
	Kernel: Depends on container host
	Compiler: gcc (Debian 12.2.0-14) 12.2.0

RHEL9
	Kernel: Depends on container host
	Compiler: gcc 11.5.0 20240719 (Red Hat 11.5.0-2)

Fedora 41
	Kernel: Depends on container host
	Compiler: gcc 14.2.1 20240912 (Red Hat 14.2.1-3)

Fedora 40
	Kernel: Depends on container host
	Compiler: gcc 14.2.1 20240912 (Red Hat 14.2.1-3)

Fedora 41 (Clang)
	Kernel: Depends on container host
	Compiler: clang 19.1.5 (Fedora 19.1.5-1.fc41)

Ubuntu 22.04
	Kernel: Depends on container host
	Compiler: gcc (Ubuntu 11.4.0-1ubuntu1~22.04) 11.4.0

Ubuntu 20.04
	Kernel: Depends on container host
	Compiler: gcc (Ubuntu 9.4.0-1ubuntu1~20.04.2) 9.4.0

RHEL8
	Kernel: Depends on container host
	Compiler: gcc 8.5.0 20210514 (Red Hat 8.5.0-22)

Ubuntu 24.04
	Kernel: Depends on container host
	Compiler: gcc (Ubuntu 13.3.0-6ubuntu2~24.04) 13.3.0

Windows Server 2022
	Kernel: 10.0.20348.2031
	Compiler: clang 15.0.7, gcc 14.1.0 (MinGW), and MSVC VS 19.39.33521

To view detailed results, visit:
https://lab.dpdk.org/results/dashboard/patchsets/32824/

UNH-IOL DPDK Community Lab

To manage your email subscriptions, visit: 
https://lab.dpdk.org/results/dashboard/preferences/subscriptions/