From mboxrd@z Thu Jan 1 00:00:00 1970 Return-Path: Received: from mails.dpdk.org (mails.dpdk.org [217.70.189.124]) by inbox.dpdk.org (Postfix) with ESMTP id 2E1AD463A8 for ; Thu, 13 Mar 2025 20:35:09 +0100 (CET) Received: from mails.dpdk.org (localhost [127.0.0.1]) by mails.dpdk.org (Postfix) with ESMTP id 26CC84025A; Thu, 13 Mar 2025 20:35:09 +0100 (CET) Received: from mail-pl1-f225.google.com (mail-pl1-f225.google.com [209.85.214.225]) by mails.dpdk.org (Postfix) with ESMTP id 77C4340144 for ; Thu, 13 Mar 2025 20:35:08 +0100 (CET) Received: by mail-pl1-f225.google.com with SMTP id d9443c01a7336-225a28a511eso26020515ad.1 for ; Thu, 13 Mar 2025 12:35:08 -0700 (PDT) DKIM-Signature: v=1; a=rsa-sha256; c=relaxed/relaxed; d=iol.unh.edu; s=unh-iol; t=1741894507; x=1742499307; darn=dpdk.org; h=references:in-reply-to:cc:to:from:subject:message-id:date:from:to :cc:subject:date:message-id:reply-to; bh=6jkfcP/wlTFnNui9XJoTXROon3fr5LYguuyHTQePn+0=; b=X2+8wp6ai4HxW9akAxh3Q+tzOrvNI+hGh+tTsH9AG6fYrD+QeKC3NePLTUpPQ0jQON I5NcbZmxXYkY5iaabkvalIzap4CcQKDMZwxC/R4n+hHC6Ii/MH3K5+F33jkY6luHSYL1 lzv+/Yiv/J0cs0dYv9+GxypP78IL96vJ1XP00= X-Google-DKIM-Signature: v=1; a=rsa-sha256; c=relaxed/relaxed; d=1e100.net; s=20230601; t=1741894507; x=1742499307; h=references:in-reply-to:cc:to:from:subject:message-id:date :x-gm-message-state:from:to:cc:subject:date:message-id:reply-to; bh=6jkfcP/wlTFnNui9XJoTXROon3fr5LYguuyHTQePn+0=; b=Dla7Pfbw/N/l17JiU/0VXiIx7TWk0QjSx28bvifQNOYq+tbYAWqRIl0f3RA2GM9Z/o 4hvFh95v/LLpmGFy7+cP0bsHuvtq1n0pZnYTT62Yzd41zMCSjoGhWa5mQGVDBlIbtnvu fYQwAGRRboN2MhLgs8qRJhWyP3uQDj1GYupffTJecgqnOJ2kBfbTZv3FYgg9JITQmXYC K3+wn2FfRFjZXTx+lcen0vtGcTj+mfo6UWCP7IKb/XaI3z3D4pzSWR+CG3oqqPAfN7pf K9ZCsXN+wqIMBE7DNDyNju9sjlwjyzUn5RohuHUrGYkqMVYb0LZD+wmDJ2SQNe++gypJ 7rKg== X-Gm-Message-State: AOJu0Yx7B7L9IU9Y5lfGt3Gaoo+hbU1vEvk+jldotfIyZr9vTrb6EVLK MGd2QpxtXg875Hgd3/ajLzhdT+kCrfaMHZ/D5Z92krCp5AhGMBUM7QAfIRC/VWOTO3xjOdpC/F4 Vt8p0qbYfkS3vf2OI0CQmvz6P/5sV9iP9Pir32HXjPfJfHQkrK/mbpqNh X-Gm-Gg: ASbGncsJ/7cktwF+xeyqlgiVpwN0FuFaQIpNFYOrF4F5dBIcdPIPxyi+vXioTgkcZHI yicJveHso9zfhxwPXIiFNhyd/DXJDcsHqMOp/2xIO59R/Yc4MWRv9SmtO9lx3+Vfvv2j9BzlfNl pFH1F0KblPqmhMns2nuRbx1gukT4zJicApD86AKDMeJ0zpPVr5BFQmcUsBIh6yplvX6MawW2vE8 MCI3xth7el9IQfLqXi6/s59X2oWtZiDe8U7nassIb2iRYXBg+a2YiciW98LHJADNZUOM8flyZdf N2cEekaEbwbC3riGFUObylO8CqaUi8d13xLTlQmj0TpS4LMjZ19U X-Google-Smtp-Source: AGHT+IECJS95f+pxdKfWN2e802J0S0b6oO5jLq7IBXjcOpqnQRWIoAxPEPXhBGJjM0iDt+48IdpiTr0HjXT2 X-Received: by 2002:a17:902:e890:b0:216:53fa:634f with SMTP id d9443c01a7336-225dd8e79d5mr11175395ad.48.1741894507632; Thu, 13 Mar 2025 12:35:07 -0700 (PDT) Received: from postal.iol.unh.edu (postal.iol.unh.edu. [2606:4100:3880:1234::84]) by smtp-relay.gmail.com with ESMTPS id d9443c01a7336-225c6b5dba3sm769265ad.31.2025.03.13.12.35.07 (version=TLS1_2 cipher=ECDHE-ECDSA-AES128-GCM-SHA256 bits=128/128); Thu, 13 Mar 2025 12:35:07 -0700 (PDT) X-Relaying-Domain: iol.unh.edu Date: Thu, 13 Mar 2025 12:35:07 -0700 (PDT) Message-ID: <67d3336b.170a0220.1a8475.48f1SMTPIN_ADDED_MISSING@mx.google.com> Received: from [172.21.0.5] (unknown [172.18.0.240]) by postal.iol.unh.edu (Postfix) with ESMTP id 10B096052471; Thu, 13 Mar 2025 15:35:07 -0400 (EDT) Subject: |SUCCESS| pw152379 [PATCH] [v1] net/ntnic: fix incorrect initializat From: dpdklab@iol.unh.edu To: Test Report Cc: dpdk-test-reports@iol.unh.edu In-Reply-To: <20250313164204.858692-1-sil-plv@napatech.com> References: <20250313164204.858692-1-sil-plv@napatech.com> Content-Type: text/plain X-BeenThere: test-report@dpdk.org X-Mailman-Version: 2.1.29 Precedence: list List-Id: automatic DPDK test reports List-Unsubscribe: , List-Archive: List-Post: List-Help: List-Subscribe: , Errors-To: test-report-bounces@dpdk.org Test-Label: iol-compile-arm64-testing Test-Status: SUCCESS http://dpdk.org/patch/152379 _Testing PASS_ Submitter: Serhii Iliushyk Date: Thursday, March 13 2025 16:42:03 DPDK git baseline: Repo:dpdk Branch: master CommitID:f1ba1be33657c02df257dbe6e5741232bff7df1a 152379 --> testing pass Upstream job id: Generic-DPDK-Compile-Meson#371965 Test environment and result as below: +----------------------------------------+--------------------+ | Environment | dpdk_meson_compile | +========================================+====================+ | RHEL9 (ARM) | PASS | +----------------------------------------+--------------------+ | Ubuntu 20.04 ARM SVE | PASS | +----------------------------------------+--------------------+ | Debian 12 with MUSDK | PASS | +----------------------------------------+--------------------+ | Fedora 40 (ARM Clang) | PASS | +----------------------------------------+--------------------+ | Fedora 40 (ARM) | PASS | +----------------------------------------+--------------------+ | Ubuntu 24.04 (ARM) | PASS | +----------------------------------------+--------------------+ | Fedora 41 (ARM) | PASS | +----------------------------------------+--------------------+ | Ubuntu 22.04 (ARM) | PASS | +----------------------------------------+--------------------+ | CentOS Stream 9 (ARM) | PASS | +----------------------------------------+--------------------+ | CentOS Stream 10 (ARM) | PASS | +----------------------------------------+--------------------+ | Debian 12 (arm) | PASS | +----------------------------------------+--------------------+ | Fedora 41 (ARM Clang) | PASS | +----------------------------------------+--------------------+ | Ubuntu 20.04 ARM Clang Cross Compile | PASS | +----------------------------------------+--------------------+ | Ubuntu 20.04 aarch32 GCC Cross Compile | PASS | +----------------------------------------+--------------------+ | Ubuntu 20.04 ARM GCC Cross Compile | PASS | +----------------------------------------+--------------------+ | Ubuntu 20.04 (ARM) | PASS | +----------------------------------------+--------------------+ RHEL9 (ARM) Kernel: Depends on container host Compiler: gcc 11.5.0 20240719 (Red Hat 11.5.0-2) Ubuntu 20.04 ARM SVE Kernel: Depends on container host Compiler: gcc (Ubuntu 10.5.0-1ubuntu1~20.04) 10.5.0 Debian 12 with MUSDK Kernel: Depends on container host Compiler: gcc (Debian 12.2.0-14) 12.2.0 Fedora 40 (ARM Clang) Kernel: Depends on container host Compiler: clang 18.1.8 (Fedora 18.1.8-1.fc40) Fedora 40 (ARM) Kernel: Depends on container host Compiler: gcc 14.2.1 20240912 (Red Hat 14.2.1-3) Ubuntu 24.04 (ARM) Kernel: Depends on container host Compiler: gcc (Ubuntu 13.3.0-6ubuntu2~24.04) 13.3.0 Fedora 41 (ARM) Kernel: Depends on container host Compiler: gcc 14.2.1 20240912 (Red Hat 14.2.1-3) Ubuntu 22.04 (ARM) Kernel: Depends on container host Compiler: gcc (Ubuntu 11.4.0-1ubuntu1~22.04) 11.4.0 CentOS Stream 9 (ARM) Kernel: Depends on container host Compiler: gcc 11.5.0 20240719 (Red Hat 11.5.0-2) CentOS Stream 10 (ARM) Kernel: Depends on container host Compiler: gcc 14.2.1 20241104 (Red Hat 14.2.1-6) Debian 12 (arm) Kernel: Depends on container host Compiler: gcc (Debian 12.2.0-14) 12.2.0 Fedora 41 (ARM Clang) Kernel: Depends on container host Compiler: clang 19.1.5 (Fedora 19.1.5-1.fc41) Ubuntu 20.04 ARM Clang Cross Compile Kernel: Depends on container host Compiler: clang 10.0.0-4ubuntu1 Ubuntu 20.04 aarch32 GCC Cross Compile Kernel: Depends on container host Compiler: gcc 9.4.0 Ubuntu 20.04 ARM GCC Cross Compile Kernel: Depends on container host Compiler: aarch64-linux-gnu-gcc (Ubuntu 9.4.0-1ubuntu1~20.04.2) 9.4.0 Ubuntu 20.04 (ARM) Kernel: Depends on container host Compiler: gcc (Ubuntu 9.4.0-1ubuntu1~20.04.2) 9.4.0 To view detailed results, visit: https://lab.dpdk.org/results/dashboard/patchsets/32821/ UNH-IOL DPDK Community Lab To manage your email subscriptions, visit: https://lab.dpdk.org/results/dashboard/preferences/subscriptions/