From mboxrd@z Thu Jan  1 00:00:00 1970
Return-Path: <test-report-bounces@dpdk.org>
Received: from mails.dpdk.org (mails.dpdk.org [217.70.189.124])
	by inbox.dpdk.org (Postfix) with ESMTP id E3F1A4639D
	for <public@inbox.dpdk.org>; Thu, 13 Mar 2025 23:35:50 +0100 (CET)
Received: from mails.dpdk.org (localhost [127.0.0.1])
	by mails.dpdk.org (Postfix) with ESMTP id BA92D4025D;
	Thu, 13 Mar 2025 23:35:50 +0100 (CET)
Received: from mail-pl1-f225.google.com (mail-pl1-f225.google.com
 [209.85.214.225])
 by mails.dpdk.org (Postfix) with ESMTP id B0E934025A
 for <test-report@dpdk.org>; Thu, 13 Mar 2025 23:35:49 +0100 (CET)
Received: by mail-pl1-f225.google.com with SMTP id
 d9443c01a7336-224171d6826so36865935ad.3
 for <test-report@dpdk.org>; Thu, 13 Mar 2025 15:35:49 -0700 (PDT)
DKIM-Signature: v=1; a=rsa-sha256; c=relaxed/relaxed;
 d=iol.unh.edu; s=unh-iol; t=1741905349; x=1742510149; darn=dpdk.org;
 h=references:in-reply-to:cc:to:from:subject:message-id:date:from:to
 :cc:subject:date:message-id:reply-to;
 bh=If5ChY01JCr/Eiv3PjbU1NWVtRlJsZRQr9BcTt7ozg0=;
 b=K8mW3xfM9F2HWTqUxBNMDWJ/gLFWQzW4qikpfpnC1zUgbvYzTsVJ3xgRVl6ig2lCDu
 hBD8646fqQMmVmgp1Gzu31N9I2XQEO4lWoKidNb0ssH0znGv7PjGA/fzQ+B+BAMBNK3L
 xyq1Wghi2q23gr5TdgBs5jLjgV2/6I5YS0kCw=
X-Google-DKIM-Signature: v=1; a=rsa-sha256; c=relaxed/relaxed;
 d=1e100.net; s=20230601; t=1741905349; x=1742510149;
 h=references:in-reply-to:cc:to:from:subject:message-id:date
 :x-gm-message-state:from:to:cc:subject:date:message-id:reply-to;
 bh=If5ChY01JCr/Eiv3PjbU1NWVtRlJsZRQr9BcTt7ozg0=;
 b=s1IM8QzxVBYlG8OkGpqLBtWokWb8JssHvd93s3ZRBR4YGJr4K81/RttMq+le9tf4Hz
 QReBhrwuerILLKZ35XPFdU8b5x0+r8EQJb9fpnHh02mNWCGV0gVgkHUyQGjAdp99Yjq9
 LYazSynVOWHXtACjWCHVMq6DX8lGB23qs8xuj4IJM20zJayN9ROTlDcHGyvZ5pseNOFO
 Gw2Mh3ijBHMgK86GdLMAT/dMc0lCdQXpGvdhb84qcNgZBkWwUCmPGve7kZnX1slz6fBm
 B8OIvxpGFMqmn8h4SBD5WpqackaG/ua4Rj/4SY0o6oYVmWVOhv1Wh3SBYrB+DfkCYQBe
 ZlgQ==
X-Gm-Message-State: AOJu0Yz8fmMq/GRHtc+EUHzCKopcuRvBYjpDmfHAQ1Y2LO30WamFhNfT
 fZ8ZoqDVo9EOJf6oLTMgM8yIcky0kkQC9T4LBNVUylrb7s0BpgA8DOg03yxj3AYFHH8y39UCbnK
 3uOjqS5DHT5sKwl4FAY+ngs8DV5mozIDDG9LrpUCbpcprNiZxgLOqTsjd
X-Gm-Gg: ASbGncvj74DCf+zfxuBs3+pkJ+7ADAfdQvnF/ibSEr84HdixbA0oK/JQsGi59LMpWK2
 zzaMHi7GqNeonEEbEVLoCJ6Y+NEQhrVP0koJvlL5QgW1qS+vW+Yj8Eo83Kksb8QaXluurSASP7v
 Wg+Q9lj0speE8ZVBOZpGQ8WihtFvF9/FH2wQrOLDfqogct9HabcKb4gOl+/ocSJ+7FdxK5a/AdM
 7cgzjFZqOzGkYwpBcpfR4gdCOyehckwd3YlzgHrLA7WK438Fys+yDtZfyRveAYEafCDAXNOfn2o
 e0NPz1ZZi1lrY2TLOSCtya1WaJSseEJOzdV1dhtEuVWD60qXCWZf
X-Google-Smtp-Source: AGHT+IGG8FrqWV1wOanCm/ZaKOXyIOSdmM9zlYTbkQN2oA1kUL7zFzo9a4Ddk+xUpKurHR1xE3BTDCpxD/2V
X-Received: by 2002:a17:902:e5cb:b0:21f:7a8b:d675 with SMTP id
 d9443c01a7336-225e0a62f94mr4152965ad.4.1741905348792; 
 Thu, 13 Mar 2025 15:35:48 -0700 (PDT)
Received: from postal.iol.unh.edu (postal.iol.unh.edu.
 [2606:4100:3880:1234::84]) by smtp-relay.gmail.com with ESMTPS id
 d9443c01a7336-225c6c0dffbsm948865ad.114.2025.03.13.15.35.48
 (version=TLS1_2 cipher=ECDHE-ECDSA-AES128-GCM-SHA256 bits=128/128);
 Thu, 13 Mar 2025 15:35:48 -0700 (PDT)
X-Relaying-Domain: iol.unh.edu
Date: Thu, 13 Mar 2025 15:35:48 -0700 (PDT)
Message-ID: <67d35dc4.170a0220.3285b0.5cd2SMTPIN_ADDED_MISSING@mx.google.com>
Received: from [172.21.0.6] (unknown [172.18.0.240])
 by postal.iol.unh.edu (Postfix) with ESMTP id 785F36052471;
 Thu, 13 Mar 2025 18:35:47 -0400 (EDT)
Subject: |SUCCESS| pw152382-152381 [PATCH] [v4,3/3] hash_readwrite_autotest: 
From: dpdklab@iol.unh.edu
To: Test Report <test-report@dpdk.org>
Cc: dpdk-test-reports@iol.unh.edu
In-Reply-To: <1741884706-21546-4-git-send-email-andremue@linux.microsoft.com>
References: <1741884706-21546-4-git-send-email-andremue@linux.microsoft.com>
Content-Type: text/plain
X-BeenThere: test-report@dpdk.org
X-Mailman-Version: 2.1.29
Precedence: list
List-Id: automatic DPDK test reports <test-report.dpdk.org>
List-Unsubscribe: <https://mails.dpdk.org/options/test-report>,
 <mailto:test-report-request@dpdk.org?subject=unsubscribe>
List-Archive: <http://mails.dpdk.org/archives/test-report/>
List-Post: <mailto:test-report@dpdk.org>
List-Help: <mailto:test-report-request@dpdk.org?subject=help>
List-Subscribe: <https://mails.dpdk.org/listinfo/test-report>,
 <mailto:test-report-request@dpdk.org?subject=subscribe>
Errors-To: test-report-bounces@dpdk.org

Test-Label: iol-sample-apps-testing
Test-Status: SUCCESS
http://dpdk.org/patch/152381

_Testing PASS_

Submitter: Andre Muezerie <andremue@linux.microsoft.com>
Date: Thursday, March 13 2025 16:51:46 
DPDK git baseline: Repo:dpdk
  Branch: master
  CommitID:7d6c28c9199351805e693e9b8f58f60e6f51c2ab

152382-152381 --> testing pass

Upstream job id: ACVP-FIPS-testing#9271

Test environment and result as below:

+--------------------+----------------------+----------------------+
|    Environment     | compressdev_zlib_pmd | dpdk_fips_validation |
+====================+======================+======================+
| Ubuntu 22.04 (ARM) | PASS                 | SKIPPED              |
+--------------------+----------------------+----------------------+
| Ubuntu 22.04       | PASS                 | SKIPPED              |
+--------------------+----------------------+----------------------+
| Ubuntu 20.04       | SKIPPED              | PASS                 |
+--------------------+----------------------+----------------------+


Ubuntu 22.04 (ARM)
	Kernel: 5.15.0-97-generic
	Compiler: gcc gcc (Ubuntu 11.4.0-1ubuntu1~22.04) 11.4.0

Ubuntu 22.04
	Kernel: 5.15.0-100-generic
	Compiler: gcc gcc (Ubuntu 11.4.0-1ubuntu1~22.04) 11.4.0

Ubuntu 20.04
	Kernel: Depends on container host
	Compiler: gcc (Ubuntu 9.4.0-1ubuntu1~20.04.2) 9.4.0

To view detailed results, visit:
https://lab.dpdk.org/results/dashboard/patchsets/32822/

UNH-IOL DPDK Community Lab

To manage your email subscriptions, visit: 
https://lab.dpdk.org/results/dashboard/preferences/subscriptions/