From mboxrd@z Thu Jan  1 00:00:00 1970
Return-Path: <test-report-bounces@dpdk.org>
Received: from mails.dpdk.org (mails.dpdk.org [217.70.189.124])
	by inbox.dpdk.org (Postfix) with ESMTP id 2D4D946389
	for <public@inbox.dpdk.org>; Fri, 14 Mar 2025 04:56:01 +0100 (CET)
Received: from mails.dpdk.org (localhost [127.0.0.1])
	by mails.dpdk.org (Postfix) with ESMTP id 119A840263;
	Fri, 14 Mar 2025 04:56:01 +0100 (CET)
Received: from mail-qv1-f97.google.com (mail-qv1-f97.google.com
 [209.85.219.97]) by mails.dpdk.org (Postfix) with ESMTP id 902CC4025D
 for <test-report@dpdk.org>; Fri, 14 Mar 2025 04:55:59 +0100 (CET)
Received: by mail-qv1-f97.google.com with SMTP id
 6a1803df08f44-6e8f43c1fa0so17923576d6.3
 for <test-report@dpdk.org>; Thu, 13 Mar 2025 20:55:59 -0700 (PDT)
DKIM-Signature: v=1; a=rsa-sha256; c=relaxed/relaxed;
 d=iol.unh.edu; s=unh-iol; t=1741924559; x=1742529359; darn=dpdk.org;
 h=references:in-reply-to:cc:to:from:subject:message-id:date:from:to
 :cc:subject:date:message-id:reply-to;
 bh=XB6NrhfYVeEomg5IIiga6zaScvwC8331cs6pPpukzZM=;
 b=DuHxVvJkd9TEjwGVLjMHMEZBIZcXkZOMFt6m5TVq+YnzWiW1GVWobA8azy6/e8qunX
 XvKghp52/9hH9sFd3cbUrpPoKkeSv+NOBQ/TwYn8loGnG1nN7EUgtDMXOBFDu8/prQ0J
 YdJtAWjyaO65uZSoboJ2iaXJ4htH1cRjgNjnE=
X-Google-DKIM-Signature: v=1; a=rsa-sha256; c=relaxed/relaxed;
 d=1e100.net; s=20230601; t=1741924559; x=1742529359;
 h=references:in-reply-to:cc:to:from:subject:message-id:date
 :x-gm-message-state:from:to:cc:subject:date:message-id:reply-to;
 bh=XB6NrhfYVeEomg5IIiga6zaScvwC8331cs6pPpukzZM=;
 b=MFclTP6eTrr/v8zRXSpH8IywrVO0iQODMImSxztmEuoq7SKuj8uQEpAq4K0jse3zhz
 fv0NT93ss3hnhLfZVvnqS0JdBiLgATjFrWL7BuvoqjjXeboGcvOsTvtFY/pDcU89iUpf
 JDhpZts0psHmzYEZb0YLw98EClaowrjrMHEP37M9LzkKeF/bYrKORWGfn5Ke+2R7/YZ8
 UOtIIYwWA2yuJQQOkHzRALfH/5U4xl21s2Cc2FbVz/Nf5vO9u0MaQOl/wNYC5+F1lfHd
 SnvfAoxUx8lehS/QrRBPMOpmGhf8r33pmTw2lZSra1ayzwBEmZOrhpbquou+6S9/aExf
 ORkw==
X-Gm-Message-State: AOJu0YxNGFTNjCqfEbsaekKLy9dyub29n5IAuJoiq5uHvHJSRx7WwY3U
 hXfvT4c4GZhWO2cRSPJBgMWNpjJilUaQ9BKFHxLeoINiixkE0dK1B5LFmKw3FbjVL0Q0apUqGCR
 Zk6t6X4eRzocoI8zYTJeEEGaUObXeN5H+SSnWNEA7z/FBwYOcGM9xEO9M
X-Gm-Gg: ASbGnctsguHwMvdxcYdM+bA9KyJ935mgo+WVy5WTJz87cKrdoZBGA7yufCeVtBYmJ6A
 akrSbTce9LwfClJLy6FMU/0SlTQDy/CqZjeI0WiUCVI8QuuPEIa7oBb5nomXmuOLUhJS0CjoyI9
 i5Kg3v/6Vv8Uvjv8ny5yX2Kwlwz/fpwH/l2zrPovdhfcAWRMQjxk/AbQ+0ocC4xsdKNK+M+U7Q5
 ofHjB2S2+BpwA/pO9cgFpA1RdU20pnjZCdyXLp5ZIY01ZQSVtgwSAOYE735P0aWnUP55xgGyP0z
 FOz5P9R6YhIbgDlRqLlMWuv/HGwf3KDaDREpXqQRxZGQI/6xM6B0
X-Google-Smtp-Source: AGHT+IEG/yNIQ6eq06ZfXqxtds2ypimBgvG4kCExcqxOTFc2e9O6MSZQPAhY9vUQ5rcoZbGAlJ2Fz4+L/pkY
X-Received: by 2002:a05:6214:e48:b0:6e8:9394:cbbe with SMTP id
 6a1803df08f44-6eaeaa2d10amr12377086d6.20.1741924558855; 
 Thu, 13 Mar 2025 20:55:58 -0700 (PDT)
Received: from postal.iol.unh.edu (postal.iol.unh.edu.
 [2606:4100:3880:1234::84]) by smtp-relay.gmail.com with ESMTPS id
 6a1803df08f44-6eade241d0csm1303466d6.67.2025.03.13.20.55.58
 (version=TLS1_2 cipher=ECDHE-ECDSA-AES128-GCM-SHA256 bits=128/128);
 Thu, 13 Mar 2025 20:55:58 -0700 (PDT)
X-Relaying-Domain: iol.unh.edu
Date: Thu, 13 Mar 2025 20:55:58 -0700 (PDT)
Message-ID: <67d3a8ce.050a0220.1ac6ca.8241SMTPIN_ADDED_MISSING@mx.google.com>
Received: from [172.17.0.3] (unknown [172.18.0.217])
 by postal.iol.unh.edu (Postfix) with ESMTP id 8E2CC6052471;
 Thu, 13 Mar 2025 23:55:58 -0400 (EDT)
Subject: |SUCCESS| pw152391-152400 [PATCH] [v4,10/10] net/ioring: add support
From: dpdklab@iol.unh.edu
To: Test Report <test-report@dpdk.org>
Cc: dpdk-test-reports@iol.unh.edu
In-Reply-To: <20250313215151.292944-11-stephen@networkplumber.org>
References: <20250313215151.292944-11-stephen@networkplumber.org>
Content-Type: text/plain
X-BeenThere: test-report@dpdk.org
X-Mailman-Version: 2.1.29
Precedence: list
List-Id: automatic DPDK test reports <test-report.dpdk.org>
List-Unsubscribe: <https://mails.dpdk.org/options/test-report>,
 <mailto:test-report-request@dpdk.org?subject=unsubscribe>
List-Archive: <http://mails.dpdk.org/archives/test-report/>
List-Post: <mailto:test-report@dpdk.org>
List-Help: <mailto:test-report-request@dpdk.org?subject=help>
List-Subscribe: <https://mails.dpdk.org/listinfo/test-report>,
 <mailto:test-report-request@dpdk.org?subject=subscribe>
Errors-To: test-report-bounces@dpdk.org

Test-Label: iol-compile-arm64-testing
Test-Status: SUCCESS
http://dpdk.org/patch/152400

_Testing PASS_

Submitter: Stephen Hemminger <stephen@networkplumber.org>
Date: Thursday, March 13 2025 21:51:01 
DPDK git baseline: Repo:dpdk
  Branch: master
  CommitID:f1ba1be33657c02df257dbe6e5741232bff7df1a

152391-152400 --> testing pass

Upstream job id: Generic-DPDK-Compile-Meson#372169

Test environment and result as below:

+----------------------------------------+--------------------+
|              Environment               | dpdk_meson_compile |
+========================================+====================+
| RHEL9 (ARM)                            | PASS               |
+----------------------------------------+--------------------+
| Ubuntu 20.04 ARM GCC Cross Compile     | PASS               |
+----------------------------------------+--------------------+
| Ubuntu 20.04 ARM SVE                   | PASS               |
+----------------------------------------+--------------------+
| Fedora 40 (ARM)                        | PASS               |
+----------------------------------------+--------------------+
| Fedora 40 (ARM Clang)                  | PASS               |
+----------------------------------------+--------------------+
| Fedora 41 (ARM)                        | PASS               |
+----------------------------------------+--------------------+
| Debian 12 with MUSDK                   | PASS               |
+----------------------------------------+--------------------+
| Ubuntu 20.04 (ARM)                     | PASS               |
+----------------------------------------+--------------------+
| Fedora 41 (ARM Clang)                  | PASS               |
+----------------------------------------+--------------------+
| Ubuntu 22.04 (ARM)                     | PASS               |
+----------------------------------------+--------------------+
| Ubuntu 24.04 (ARM)                     | PASS               |
+----------------------------------------+--------------------+
| CentOS Stream 10 (ARM)                 | PASS               |
+----------------------------------------+--------------------+
| CentOS Stream 9 (ARM)                  | PASS               |
+----------------------------------------+--------------------+
| Ubuntu 20.04 ARM Clang Cross Compile   | PASS               |
+----------------------------------------+--------------------+
| Debian 12 (arm)                        | PASS               |
+----------------------------------------+--------------------+
| Ubuntu 20.04 aarch32 GCC Cross Compile | PASS               |
+----------------------------------------+--------------------+


RHEL9 (ARM)
	Kernel: Depends on container host
	Compiler: gcc 11.5.0 20240719 (Red Hat 11.5.0-2)

Ubuntu 20.04 ARM GCC Cross Compile
	Kernel: Depends on container host
	Compiler: aarch64-linux-gnu-gcc (Ubuntu 9.4.0-1ubuntu1~20.04.2) 9.4.0

Ubuntu 20.04 ARM SVE
	Kernel: Depends on container host
	Compiler: gcc (Ubuntu 10.5.0-1ubuntu1~20.04) 10.5.0

Fedora 40 (ARM)
	Kernel: Depends on container host
	Compiler: gcc 14.2.1 20240912 (Red Hat 14.2.1-3)

Fedora 40 (ARM Clang)
	Kernel: Depends on container host
	Compiler: clang 18.1.8 (Fedora 18.1.8-1.fc40)

Fedora 41 (ARM)
	Kernel: Depends on container host
	Compiler: gcc 14.2.1 20240912 (Red Hat 14.2.1-3)

Debian 12 with MUSDK
	Kernel: Depends on container host
	Compiler: gcc (Debian 12.2.0-14) 12.2.0

Ubuntu 20.04 (ARM)
	Kernel: Depends on container host
	Compiler: gcc (Ubuntu 9.4.0-1ubuntu1~20.04.2) 9.4.0

Fedora 41 (ARM Clang)
	Kernel: Depends on container host
	Compiler: clang 19.1.5 (Fedora 19.1.5-1.fc41)

Ubuntu 22.04 (ARM)
	Kernel: Depends on container host
	Compiler: gcc (Ubuntu 11.4.0-1ubuntu1~22.04) 11.4.0

Ubuntu 24.04 (ARM)
	Kernel: Depends on container host
	Compiler: gcc (Ubuntu 13.3.0-6ubuntu2~24.04) 13.3.0

CentOS Stream 10 (ARM)
	Kernel: Depends on container host
	Compiler: gcc 14.2.1 20241104 (Red Hat 14.2.1-6)

CentOS Stream 9 (ARM)
	Kernel: Depends on container host
	Compiler: gcc 11.5.0 20240719 (Red Hat 11.5.0-2)

Ubuntu 20.04 ARM Clang Cross Compile
	Kernel: Depends on container host
	Compiler: clang 10.0.0-4ubuntu1

Debian 12 (arm)
	Kernel: Depends on container host
	Compiler: gcc (Debian 12.2.0-14) 12.2.0

Ubuntu 20.04 aarch32 GCC Cross Compile
	Kernel: Depends on container host
	Compiler: gcc 9.4.0

To view detailed results, visit:
https://lab.dpdk.org/results/dashboard/patchsets/32826/

UNH-IOL DPDK Community Lab

To manage your email subscriptions, visit: 
https://lab.dpdk.org/results/dashboard/preferences/subscriptions/