From mboxrd@z Thu Jan  1 00:00:00 1970
Return-Path: <test-report-bounces@dpdk.org>
Received: from mails.dpdk.org (mails.dpdk.org [217.70.189.124])
	by inbox.dpdk.org (Postfix) with ESMTP id 92C1C463CB
	for <public@inbox.dpdk.org>; Sat, 15 Mar 2025 09:12:26 +0100 (CET)
Received: from mails.dpdk.org (localhost [127.0.0.1])
	by mails.dpdk.org (Postfix) with ESMTP id 8F60640263;
	Sat, 15 Mar 2025 09:12:26 +0100 (CET)
Received: from mail-pj1-f98.google.com (mail-pj1-f98.google.com
 [209.85.216.98]) by mails.dpdk.org (Postfix) with ESMTP id 216D9400D6
 for <test-report@dpdk.org>; Sat, 15 Mar 2025 09:12:26 +0100 (CET)
Received: by mail-pj1-f98.google.com with SMTP id
 98e67ed59e1d1-2ff784dc055so661595a91.1
 for <test-report@dpdk.org>; Sat, 15 Mar 2025 01:12:26 -0700 (PDT)
DKIM-Signature: v=1; a=rsa-sha256; c=relaxed/relaxed;
 d=iol.unh.edu; s=unh-iol; t=1742026345; x=1742631145; darn=dpdk.org;
 h=cc:to:from:subject:message-id:date:from:to:cc:subject:date
 :message-id:reply-to;
 bh=Z989ZN0MAi4dS81PuhIz9idzOQfQnuN2aU2JTcypYLY=;
 b=ZZWJY/4NwSpE/IntRe3qU/YWdQp3MfMvfMh0gB/dY1YoecwiLKWdMr8Rx+6agIJrbK
 F1z4w4GfQLF8X+inOcEkEQrj9GCdkwiAwpS2iOMzKRwgVwV8owy/RCWkHV7pan+Ad1w4
 8KlvLgHPe75ipIANzRWxHoewwunDvkY9IMutY=
X-Google-DKIM-Signature: v=1; a=rsa-sha256; c=relaxed/relaxed;
 d=1e100.net; s=20230601; t=1742026345; x=1742631145;
 h=cc:to:from:subject:message-id:date:x-gm-message-state:from:to:cc
 :subject:date:message-id:reply-to;
 bh=Z989ZN0MAi4dS81PuhIz9idzOQfQnuN2aU2JTcypYLY=;
 b=TFN+1j6isUd0hEB265MGFZHMukwO0LxB4JXRpINvmo1PBLOtXm8k5uLL5HGOrn8fNU
 94ekW0Rp1C80EetqrZMmSbmbwiUd2k5IzYHZdyO8PEwREpOQClbPFMnCRJDNEPELAPpW
 O/Cp0cAkSKD33EN4dbyvCSe1wDQ4o7I6MkLLhMz+fAHwt4Q7GLnncegIYs8SaLyzWvI4
 HFP7/k6T0XYgO7rnN5a7wxdndeK0IV5LyOv/nh8v3/OuQzmVvICTsXk/oApAOarTswCX
 OLTYfReUq665Hz/O9vPKISZt/CZeEqf+/oogiEKcs2GTAoQma0l8VzCweOX8IAXj0aRR
 PenA==
X-Gm-Message-State: AOJu0Yz+29w7yZSzBZk/mB/P2X8mJP/juS/yeIQhxZcO5QjWYzBPe21y
 mZIUk9BY6FUQvzpC9A3bQ0k98459gzRu9Q1OeLXtymsgTxR/cNVYII71HrGjncHge2zXTx9tnYC
 SwGwdPRJw3ar1M6sZujUD9x2LNDaycvZzx5nhoACVlhf255Ik
X-Gm-Gg: ASbGnct+lW44bBrYEaBDD2By37JX/x/TbN3VzdIX5NFCQqjTshDDYlroaI4vufNXzhg
 YDrWCUNQv0gO911QASToZfEvSsNcwQNX3wO3f7cE3GuZztl+kE/37qPwLKOgxl2px/98CDIhBZb
 xmPO6eq+iug8+FpiA/Oyi3bBvWbld4F80RfVG9FT3zI19SMZbbKtgEOBpvFD3R0S1kQvZgOq3DP
 L5iishIMJ2PlUmH7a5pKbtFYM/C13F3dATL3wX4Rt1pFuT90e+oo/BT6W3n0As/dwsym72VW+zQ
 Qm/suoCyIKRAdxx20zacet/PhFyE1q24sApG552Hs+UWLs9/Q0KN
X-Google-Smtp-Source: AGHT+IGw6xZ1BMhlkeQibqJuUAjHd21FBs8mG0pTISwGZqaF74gs61JcczN+YC2KVB7LASUU3+NQ7eB8gGFZ
X-Received: by 2002:a17:90a:e70b:b0:2ee:f076:20fb with SMTP id
 98e67ed59e1d1-30151cefa35mr7528776a91.17.1742026345070; 
 Sat, 15 Mar 2025 01:12:25 -0700 (PDT)
Received: from postal.iol.unh.edu (postal.iol.unh.edu.
 [2606:4100:3880:1234::84]) by smtp-relay.gmail.com with ESMTPS id
 98e67ed59e1d1-301539fbe5bsm162162a91.7.2025.03.15.01.12.24
 (version=TLS1_2 cipher=ECDHE-ECDSA-AES128-GCM-SHA256 bits=128/128);
 Sat, 15 Mar 2025 01:12:25 -0700 (PDT)
X-Relaying-Domain: iol.unh.edu
Date: Sat, 15 Mar 2025 01:12:25 -0700 (PDT)
Message-ID: <67d53669.170a0220.24c890.919dSMTPIN_ADDED_MISSING@mx.google.com>
Received: from [172.17.0.3] (unknown [172.18.0.217])
 by postal.iol.unh.edu (Postfix) with ESMTP id 456926052471;
 Sat, 15 Mar 2025 04:12:24 -0400 (EDT)
Subject: |SUCCESS| [GIT MASTER] c66daa12e76d7b4912cfb7109a761856a7a873ab
From: dpdklab@iol.unh.edu
To: Test Report <test-report@dpdk.org>
Cc: dpdk-test-reports@iol.unh.edu, Xueming Li <xuemingl@nvidia.com>,
 Christian Ehrhardt <christian.ehrhardt@canonical.com>,
 Kevin Traynor <ktraynor@redhat.com>, Luca Boccassi <bluca@debian.org>
Content-Type: text/plain
X-BeenThere: test-report@dpdk.org
X-Mailman-Version: 2.1.29
Precedence: list
List-Id: automatic DPDK test reports <test-report.dpdk.org>
List-Unsubscribe: <https://mails.dpdk.org/options/test-report>,
 <mailto:test-report-request@dpdk.org?subject=unsubscribe>
List-Archive: <http://mails.dpdk.org/archives/test-report/>
List-Post: <mailto:test-report@dpdk.org>
List-Help: <mailto:test-report-request@dpdk.org?subject=help>
List-Subscribe: <https://mails.dpdk.org/listinfo/test-report>,
 <mailto:test-report-request@dpdk.org?subject=subscribe>
Errors-To: test-report-bounces@dpdk.org

_Testing PASS_

Branch: tags/v23.11

c66daa12e76d7b4912cfb7109a761856a7a873ab --> testing pass

Upstream job id: Generic-DPDK-Compile-Meson#372598

Test environment and result as below:

+------------------------------------+--------------------+
|            Environment             | dpdk_meson_compile |
+====================================+====================+
| RHEL9 (ARM)                        | PASS               |
+------------------------------------+--------------------+
| Ubuntu 20.04 ARM GCC Cross Compile | PASS               |
+------------------------------------+--------------------+
| Ubuntu 20.04 ARM SVE               | PASS               |
+------------------------------------+--------------------+
| Debian 12 with MUSDK               | PASS               |
+------------------------------------+--------------------+
| Fedora 40 (ARM)                    | PASS               |
+------------------------------------+--------------------+
| Fedora 40 (ARM Clang)              | PASS               |
+------------------------------------+--------------------+
| Fedora 41 (ARM)                    | PASS               |
+------------------------------------+--------------------+
| Ubuntu 20.04 (ARM)                 | PASS               |
+------------------------------------+--------------------+
| Ubuntu 24.04 (ARM)                 | PASS               |
+------------------------------------+--------------------+
| Ubuntu 22.04 (ARM)                 | PASS               |
+------------------------------------+--------------------+
| CentOS Stream 9 (ARM)              | PASS               |
+------------------------------------+--------------------+
| Debian 12 (arm)                    | PASS               |
+------------------------------------+--------------------+
| CentOS Stream 10 (ARM)             | PASS               |
+------------------------------------+--------------------+
| Fedora 41 (ARM Clang)              | PASS               |
+------------------------------------+--------------------+


RHEL9 (ARM)
	Kernel: Depends on container host
	Compiler: gcc 11.5.0 20240719 (Red Hat 11.5.0-2)

Ubuntu 20.04 ARM GCC Cross Compile
	Kernel: Depends on container host
	Compiler: aarch64-linux-gnu-gcc (Ubuntu 9.4.0-1ubuntu1~20.04.2) 9.4.0

Ubuntu 20.04 ARM SVE
	Kernel: Depends on container host
	Compiler: gcc (Ubuntu 10.5.0-1ubuntu1~20.04) 10.5.0

Debian 12 with MUSDK
	Kernel: Depends on container host
	Compiler: gcc (Debian 12.2.0-14) 12.2.0

Fedora 40 (ARM)
	Kernel: Depends on container host
	Compiler: gcc 14.2.1 20240912 (Red Hat 14.2.1-3)

Fedora 40 (ARM Clang)
	Kernel: Depends on container host
	Compiler: clang 18.1.8 (Fedora 18.1.8-1.fc40)

Fedora 41 (ARM)
	Kernel: Depends on container host
	Compiler: gcc 14.2.1 20240912 (Red Hat 14.2.1-3)

Ubuntu 20.04 (ARM)
	Kernel: Depends on container host
	Compiler: gcc (Ubuntu 9.4.0-1ubuntu1~20.04.2) 9.4.0

Ubuntu 24.04 (ARM)
	Kernel: Depends on container host
	Compiler: gcc (Ubuntu 13.3.0-6ubuntu2~24.04) 13.3.0

Ubuntu 22.04 (ARM)
	Kernel: Depends on container host
	Compiler: gcc (Ubuntu 11.4.0-1ubuntu1~22.04) 11.4.0

CentOS Stream 9 (ARM)
	Kernel: Depends on container host
	Compiler: gcc 11.5.0 20240719 (Red Hat 11.5.0-2)

Debian 12 (arm)
	Kernel: Depends on container host
	Compiler: gcc (Debian 12.2.0-14) 12.2.0

CentOS Stream 10 (ARM)
	Kernel: Depends on container host
	Compiler: gcc 14.2.1 20241104 (Red Hat 14.2.1-6)

Fedora 41 (ARM Clang)
	Kernel: Depends on container host
	Compiler: clang 19.1.5 (Fedora 19.1.5-1.fc41)

To view detailed results, visit:
https://lab.dpdk.org/results/dashboard/tarballs/32977/

UNH-IOL DPDK Community Lab

To manage your email subscriptions, visit: 
https://lab.dpdk.org/results/dashboard/preferences/subscriptions/