From mboxrd@z Thu Jan  1 00:00:00 1970
Return-Path: <test-report-bounces@dpdk.org>
Received: from mails.dpdk.org (mails.dpdk.org [217.70.189.124])
	by inbox.dpdk.org (Postfix) with ESMTP id 79A20463FD
	for <public@inbox.dpdk.org>; Mon, 17 Mar 2025 07:51:12 +0100 (CET)
Received: from mails.dpdk.org (localhost [127.0.0.1])
	by mails.dpdk.org (Postfix) with ESMTP id 4939B402BB;
	Mon, 17 Mar 2025 07:51:12 +0100 (CET)
Received: from mail-il1-f226.google.com (mail-il1-f226.google.com
 [209.85.166.226])
 by mails.dpdk.org (Postfix) with ESMTP id E99A340291
 for <test-report@dpdk.org>; Mon, 17 Mar 2025 07:51:10 +0100 (CET)
Received: by mail-il1-f226.google.com with SMTP id
 e9e14a558f8ab-3d445a722b9so22858595ab.3
 for <test-report@dpdk.org>; Sun, 16 Mar 2025 23:51:10 -0700 (PDT)
DKIM-Signature: v=1; a=rsa-sha256; c=relaxed/relaxed;
 d=iol.unh.edu; s=unh-iol; t=1742194270; x=1742799070; darn=dpdk.org;
 h=cc:to:from:subject:message-id:date:from:to:cc:subject:date
 :message-id:reply-to;
 bh=Sn8XMiXZWNOybJTlMM5+idd3/HOQOCBMxSWbPr4Cp6M=;
 b=BBz4wBr7N5QKtRnWs7oGfknalEhTJEv37ELj4QA485JetZ1WTMf0OtECMK/0wzB3A2
 JCxSTqWl5b5bTVjz5zYedn2Y1MDwTT7gd3IMWbcMOeSIEEvqyr6qEajF82EBSDQDIam7
 S4SjF/+J1rZN8qDbBAunDQI12a9O31XmGXPLM=
X-Google-DKIM-Signature: v=1; a=rsa-sha256; c=relaxed/relaxed;
 d=1e100.net; s=20230601; t=1742194270; x=1742799070;
 h=cc:to:from:subject:message-id:date:x-gm-message-state:from:to:cc
 :subject:date:message-id:reply-to;
 bh=Sn8XMiXZWNOybJTlMM5+idd3/HOQOCBMxSWbPr4Cp6M=;
 b=AbU7vQj34twkkaCHPM7LLXTq2XqxUYD694CPy+tU9BAMHdjWNeDHSgfE9Ea17KPEuu
 0A9ybzit/0xHIHWtyMaIE9paW7rudD584A7eS8Oc7UqkgjGo5SSblJMhoUvjkoViTJvB
 LfYYdr9IuLokpcfyDFLOfBBXwJg4N1XRsc1S6MMh1y/Ko8aZxiQuzrU30xCzCvYRqRVs
 6zb5wWSto5GA/Ql3oAH5GElvvHit+qkDS494X+YiSwUOSnhII3ltHTOk7OgCvVrRZH0w
 xwXkqDOwiXTYtIyCgRJuZWVOnTK3FAtQrkcSOwDO8/0Zrq1wZN0GZsfXduNJ0CKRhC0E
 K6vw==
X-Gm-Message-State: AOJu0Yxo36NkZFRTTdhK63p7nduFq0V3GMwScK3h90emdXkliyOjQvCE
 G0z3vKa0ew+1Iqqg1dDVQex7z7sKQ89+PXHTjCg5fpsppkgvCkLs5hcpg91DbVhsZZ4rn2tsff2
 +Tp8Oulmr5fMui2rxcHkNo/sd4yE962Fx
X-Gm-Gg: ASbGncvUx2SlcwNLQa7/hKKdCmvisRz9tbsq9xCb+3zMYpe/UYT1Lnxx0KcV4KwLOl+
 4wIH6qqGS8QERhMzMLqJPsFDSYuIGbUZg2+KQtSCxBZpV+UN5npbE2ew4EqI51KtY4us42b0hSF
 7322s14mp7UMwcup3nTpjkua/qucUauv5FaauRC31DqwA+zXAiZFxuEPgqA5tDEksfUa/aGDI50
 9Q4vQq4nZtBty5EBX/lI/pDhQUm5bkOLj1VnxCmjwGBs8Be1P/uQHWzOZdYYREAX6Q9Csrke5Id
 FE8smeyk9hs/etVeea4TnDtUe/yKcIgZhamUfh+a
X-Google-Smtp-Source: AGHT+IG5wJ0AxHWBsBMyplm6o2+U7vXPut26DRjnpnV+GFGsG5RhwF2fYW8YuUGqi8mqyYdBlUCZ8l6RsVkZ
X-Received: by 2002:a05:6e02:3f11:b0:3d3:f2cc:fb5 with SMTP id
 e9e14a558f8ab-3d4839f5c64mr141239055ab.2.1742194270219; 
 Sun, 16 Mar 2025 23:51:10 -0700 (PDT)
Received: from postal.iol.unh.edu (postal.iol.unh.edu. [132.177.123.84])
 by smtp-relay.gmail.com with ESMTPS id
 e9e14a558f8ab-3d47a66f06bsm4032765ab.20.2025.03.16.23.51.10
 (version=TLS1_2 cipher=ECDHE-ECDSA-AES128-GCM-SHA256 bits=128/128);
 Sun, 16 Mar 2025 23:51:10 -0700 (PDT)
X-Relaying-Domain: iol.unh.edu
Date: Sun, 16 Mar 2025 23:51:10 -0700 (PDT)
Message-ID: <67d7c65e.050a0220.26c0eb.80f5SMTPIN_ADDED_MISSING@mx.google.com>
Received: from [172.21.0.5] (unknown [172.18.0.240])
 by postal.iol.unh.edu (Postfix) with ESMTP id 9DE7B6052471;
 Mon, 17 Mar 2025 02:51:09 -0400 (EDT)
Subject: |SUCCESS| [GIT MASTER] c66daa12e76d7b4912cfb7109a761856a7a873ab
From: dpdklab@iol.unh.edu
To: Test Report <test-report@dpdk.org>
Cc: dpdk-test-reports@iol.unh.edu, Xueming Li <xuemingl@nvidia.com>,
 Christian Ehrhardt <christian.ehrhardt@canonical.com>,
 Kevin Traynor <ktraynor@redhat.com>, Luca Boccassi <bluca@debian.org>
Content-Type: text/plain
X-BeenThere: test-report@dpdk.org
X-Mailman-Version: 2.1.29
Precedence: list
List-Id: automatic DPDK test reports <test-report.dpdk.org>
List-Unsubscribe: <https://mails.dpdk.org/options/test-report>,
 <mailto:test-report-request@dpdk.org?subject=unsubscribe>
List-Archive: <http://mails.dpdk.org/archives/test-report/>
List-Post: <mailto:test-report@dpdk.org>
List-Help: <mailto:test-report-request@dpdk.org?subject=help>
List-Subscribe: <https://mails.dpdk.org/listinfo/test-report>,
 <mailto:test-report-request@dpdk.org?subject=subscribe>
Errors-To: test-report-bounces@dpdk.org

_Testing PASS_

Branch: tags/v23.11

c66daa12e76d7b4912cfb7109a761856a7a873ab --> testing pass

Upstream job id: Generic-VM-Unit-Test-DPDK#27615

Test environment and result as below:

+---------------------+----------------+
|     Environment     | dpdk_unit_test |
+=====================+================+
| CentOS Stream 9     | PASS           |
+---------------------+----------------+
| CentOS Stream 10    | PASS           |
+---------------------+----------------+
| Debian 12           | PASS           |
+---------------------+----------------+
| Fedora 40           | PASS           |
+---------------------+----------------+
| Fedora 41           | PASS           |
+---------------------+----------------+
| Fedora 40 (Clang)   | PASS           |
+---------------------+----------------+
| Fedora 41 (Clang)   | PASS           |
+---------------------+----------------+
| RHEL9               | PASS           |
+---------------------+----------------+
| RHEL8               | PASS           |
+---------------------+----------------+
| Ubuntu 22.04        | PASS           |
+---------------------+----------------+
| Ubuntu 20.04        | PASS           |
+---------------------+----------------+
| Ubuntu 24.04        | PASS           |
+---------------------+----------------+
| Windows Server 2022 | PASS           |
+---------------------+----------------+


CentOS Stream 9
	Kernel: Depends on container host
	Compiler: gcc 11.5.0 20240719 (Red Hat 11.5.0-2)

CentOS Stream 10
	Kernel: Depends on container host
	Compiler: gcc 14.2.1 20241104 (Red Hat 14.2.1-6)

Debian 12
	Kernel: Depends on container host
	Compiler: gcc (Debian 12.2.0-14) 12.2.0

Fedora 40
	Kernel: Depends on container host
	Compiler: gcc 14.2.1 20240912 (Red Hat 14.2.1-3)

Fedora 41
	Kernel: Depends on container host
	Compiler: gcc 14.2.1 20240912 (Red Hat 14.2.1-3)

Fedora 40 (Clang)
	Kernel: Depends on container host
	Compiler: clang 18.1.8 (Fedora 18.1.8-1.fc40)

Fedora 41 (Clang)
	Kernel: Depends on container host
	Compiler: clang 19.1.5 (Fedora 19.1.5-1.fc41)

RHEL9
	Kernel: Depends on container host
	Compiler: gcc 11.5.0 20240719 (Red Hat 11.5.0-2)

RHEL8
	Kernel: Depends on container host
	Compiler: gcc 8.5.0 20210514 (Red Hat 8.5.0-22)

Ubuntu 22.04
	Kernel: Depends on container host
	Compiler: gcc (Ubuntu 11.4.0-1ubuntu1~22.04) 11.4.0

Ubuntu 20.04
	Kernel: Depends on container host
	Compiler: gcc (Ubuntu 9.4.0-1ubuntu1~20.04.2) 9.4.0

Ubuntu 24.04
	Kernel: Depends on container host
	Compiler: gcc (Ubuntu 13.3.0-6ubuntu2~24.04) 13.3.0

Windows Server 2022
	Kernel: 10.0.20348.2031
	Compiler: clang 15.0.7, gcc 14.1.0 (MinGW), and MSVC VS 19.39.33521

To view detailed results, visit:
https://lab.dpdk.org/results/dashboard/tarballs/32983/

UNH-IOL DPDK Community Lab

To manage your email subscriptions, visit: 
https://lab.dpdk.org/results/dashboard/preferences/subscriptions/