From mboxrd@z Thu Jan  1 00:00:00 1970
Return-Path: <test-report-bounces@dpdk.org>
Received: from mails.dpdk.org (mails.dpdk.org [217.70.189.124])
	by inbox.dpdk.org (Postfix) with ESMTP id 314B4463FD
	for <public@inbox.dpdk.org>; Mon, 17 Mar 2025 08:28:23 +0100 (CET)
Received: from mails.dpdk.org (localhost [127.0.0.1])
	by mails.dpdk.org (Postfix) with ESMTP id EE666402BB;
	Mon, 17 Mar 2025 08:28:22 +0100 (CET)
Received: from mail-yw1-f226.google.com (mail-yw1-f226.google.com
 [209.85.128.226])
 by mails.dpdk.org (Postfix) with ESMTP id E51B840291
 for <test-report@dpdk.org>; Mon, 17 Mar 2025 08:28:21 +0100 (CET)
Received: by mail-yw1-f226.google.com with SMTP id
 00721157ae682-6f6c90b51c3so42071317b3.2
 for <test-report@dpdk.org>; Mon, 17 Mar 2025 00:28:21 -0700 (PDT)
DKIM-Signature: v=1; a=rsa-sha256; c=relaxed/relaxed;
 d=iol.unh.edu; s=unh-iol; t=1742196501; x=1742801301; darn=dpdk.org;
 h=cc:to:from:subject:message-id:date:from:to:cc:subject:date
 :message-id:reply-to;
 bh=A+jUNhxy2ogH9zxtGOuhgo+SEEbV4SKmNNWQ2vn8yKo=;
 b=GZduDPbmgv1ZXE5xreymXaySp5trrNI5zRru+HJ2ydrmVt3FvCYlVBFRd1QBphVjXn
 hQHVaaqs8SWnptp1CgH3WK7LGyepjlZxt+SIsHA/eLP0nTuznK1VHjqrcwPlrsSJc19w
 9i0BIXAsCpRpF69ecLeuEkos3ksW/qzj/mITM=
X-Google-DKIM-Signature: v=1; a=rsa-sha256; c=relaxed/relaxed;
 d=1e100.net; s=20230601; t=1742196501; x=1742801301;
 h=cc:to:from:subject:message-id:date:x-gm-message-state:from:to:cc
 :subject:date:message-id:reply-to;
 bh=A+jUNhxy2ogH9zxtGOuhgo+SEEbV4SKmNNWQ2vn8yKo=;
 b=PMjKDb7uM3+uI6grSD/ccYvUvlaQV0iTKU5/Rqyz1Vt7YwHB5OdYqfBjqGnfQAt56B
 2//mE8ez9VjESyx/7KwLrsK4bniB/WiNmdCQygMYC8bNOhLijJaxcGa+5baThbIKHFxB
 UNgEodmURjlTcDns49upX+DUrPw/MYc64gvuPsX2Xlzfn+E0B+wcXJLnnEfeNOudTfav
 VVY4LNdr1uL/HOxTNIjHRDJdK+PIKFx+LsltYWTeSf+QBXS0+/eLBdvWB/KLgUdADykW
 d92FMcja22yC/oU7lKNo8KAokYpsxYRkohQFWBQ1gdcgm195hnWp+9rEnocv+GckDU5L
 VTng==
X-Gm-Message-State: AOJu0YzUDGIhS6k7AWbcDNkfdsvMF1O7ZPlj/7U9aqVktYlSe4gKWyAC
 sZhcPJ1QANBaSrs02BT/BHMncFrv+Q5q1RocsZk/EpjDgma0yXjzfgCdMJxFdUK31fCOiF7AHe9
 b82XViQOVgyyWspmMBZBjotvSeyiju2X+
X-Gm-Gg: ASbGncsB9uM0l/hooBQ9IqIUGHkgQ22WRkVStjEgUtpQWe29qyCxrTHdUMcgiO04AYW
 zKVcfzC5bZOzRyWSCSc7BAaI6N2ojF0mqDyN3SBn5ftSZf1IxXlJf6j6BG9yXnvOKbm1unXVUIO
 GsCFmWiuWkMX+y+sxNsBB+7KZilq+++5StAmURJIE5LwLKkMChwctOn6YxXqW+6UGD/Y2UQ5939
 OZwfGcM2A3j/sDSrfoBedAfIvNtVy4CPTtSst+TRDUxjJRejE6A/d6BuqdI95lsroft0fjGXM+f
 XCty9hY3Q56rezphlHngtFJ6WrAU+St/VWy8ZgvF
X-Google-Smtp-Source: AGHT+IGx3yS6OeJk7uFFauhFaTy5JAP/P8ZMF3czrNHGzfg8Ftq8j+HaBYfrW7X/TNxaomE242Dt6+Cu9pVp
X-Received: by 2002:a05:690c:4285:b0:6fd:a226:fb50 with SMTP id
 00721157ae682-6ff45f606bemr109563317b3.13.1742196501159; 
 Mon, 17 Mar 2025 00:28:21 -0700 (PDT)
Received: from postal.iol.unh.edu (postal.iol.unh.edu. [132.177.123.84])
 by smtp-relay.gmail.com with ESMTPS id
 00721157ae682-6ff32c5e477sm5998377b3.56.2025.03.17.00.28.21
 (version=TLS1_2 cipher=ECDHE-ECDSA-AES128-GCM-SHA256 bits=128/128);
 Mon, 17 Mar 2025 00:28:21 -0700 (PDT)
X-Relaying-Domain: iol.unh.edu
Date: Mon, 17 Mar 2025 00:28:21 -0700 (PDT)
Message-ID: <67d7cf15.0d0a0220.f021a.5327SMTPIN_ADDED_MISSING@mx.google.com>
Received: from [172.17.0.3] (unknown [172.18.0.217])
 by postal.iol.unh.edu (Postfix) with ESMTP id B5E106052472;
 Mon, 17 Mar 2025 03:28:20 -0400 (EDT)
Subject: |SUCCESS| [GIT MASTER] c66daa12e76d7b4912cfb7109a761856a7a873ab
From: dpdklab@iol.unh.edu
To: Test Report <test-report@dpdk.org>
Cc: dpdk-test-reports@iol.unh.edu, Xueming Li <xuemingl@nvidia.com>,
 Christian Ehrhardt <christian.ehrhardt@canonical.com>,
 Kevin Traynor <ktraynor@redhat.com>, Luca Boccassi <bluca@debian.org>
Content-Type: text/plain
X-BeenThere: test-report@dpdk.org
X-Mailman-Version: 2.1.29
Precedence: list
List-Id: automatic DPDK test reports <test-report.dpdk.org>
List-Unsubscribe: <https://mails.dpdk.org/options/test-report>,
 <mailto:test-report-request@dpdk.org?subject=unsubscribe>
List-Archive: <http://mails.dpdk.org/archives/test-report/>
List-Post: <mailto:test-report@dpdk.org>
List-Help: <mailto:test-report-request@dpdk.org?subject=help>
List-Subscribe: <https://mails.dpdk.org/listinfo/test-report>,
 <mailto:test-report-request@dpdk.org?subject=subscribe>
Errors-To: test-report-bounces@dpdk.org

_Testing PASS_

Branch: tags/v23.11

c66daa12e76d7b4912cfb7109a761856a7a873ab --> testing pass

Upstream job id: Generic-DPDK-Compile-Meson#372797

Test environment and result as below:

+------------------------------------+--------------------+
|            Environment             | dpdk_meson_compile |
+====================================+====================+
| Ubuntu 20.04 ARM GCC Cross Compile | PASS               |
+------------------------------------+--------------------+
| Ubuntu 20.04 ARM SVE               | PASS               |
+------------------------------------+--------------------+
| Fedora 40 (ARM)                    | PASS               |
+------------------------------------+--------------------+
| Debian 12 with MUSDK               | PASS               |
+------------------------------------+--------------------+
| Fedora 41 (ARM)                    | PASS               |
+------------------------------------+--------------------+
| Fedora 40 (ARM Clang)              | PASS               |
+------------------------------------+--------------------+
| Fedora 41 (ARM Clang)              | PASS               |
+------------------------------------+--------------------+
| Ubuntu 20.04 (ARM)                 | PASS               |
+------------------------------------+--------------------+
| CentOS Stream 9 (ARM)              | PASS               |
+------------------------------------+--------------------+
| Ubuntu 24.04 (ARM)                 | PASS               |
+------------------------------------+--------------------+
| Ubuntu 22.04 (ARM)                 | PASS               |
+------------------------------------+--------------------+
| CentOS Stream 10 (ARM)             | PASS               |
+------------------------------------+--------------------+
| RHEL9 (ARM)                        | PASS               |
+------------------------------------+--------------------+
| Debian 12 (arm)                    | PASS               |
+------------------------------------+--------------------+


Ubuntu 20.04 ARM GCC Cross Compile
	Kernel: Depends on container host
	Compiler: aarch64-linux-gnu-gcc (Ubuntu 9.4.0-1ubuntu1~20.04.2) 9.4.0

Ubuntu 20.04 ARM SVE
	Kernel: Depends on container host
	Compiler: gcc (Ubuntu 10.5.0-1ubuntu1~20.04) 10.5.0

Fedora 40 (ARM)
	Kernel: Depends on container host
	Compiler: gcc 14.2.1 20240912 (Red Hat 14.2.1-3)

Debian 12 with MUSDK
	Kernel: Depends on container host
	Compiler: gcc (Debian 12.2.0-14) 12.2.0

Fedora 41 (ARM)
	Kernel: Depends on container host
	Compiler: gcc 14.2.1 20240912 (Red Hat 14.2.1-3)

Fedora 40 (ARM Clang)
	Kernel: Depends on container host
	Compiler: clang 18.1.8 (Fedora 18.1.8-1.fc40)

Fedora 41 (ARM Clang)
	Kernel: Depends on container host
	Compiler: clang 19.1.5 (Fedora 19.1.5-1.fc41)

Ubuntu 20.04 (ARM)
	Kernel: Depends on container host
	Compiler: gcc (Ubuntu 9.4.0-1ubuntu1~20.04.2) 9.4.0

CentOS Stream 9 (ARM)
	Kernel: Depends on container host
	Compiler: gcc 11.5.0 20240719 (Red Hat 11.5.0-2)

Ubuntu 24.04 (ARM)
	Kernel: Depends on container host
	Compiler: gcc (Ubuntu 13.3.0-6ubuntu2~24.04) 13.3.0

Ubuntu 22.04 (ARM)
	Kernel: Depends on container host
	Compiler: gcc (Ubuntu 11.4.0-1ubuntu1~22.04) 11.4.0

CentOS Stream 10 (ARM)
	Kernel: Depends on container host
	Compiler: gcc 14.2.1 20241104 (Red Hat 14.2.1-6)

RHEL9 (ARM)
	Kernel: Depends on container host
	Compiler: gcc 11.5.0 20240719 (Red Hat 11.5.0-2)

Debian 12 (arm)
	Kernel: Depends on container host
	Compiler: gcc (Debian 12.2.0-14) 12.2.0

To view detailed results, visit:
https://lab.dpdk.org/results/dashboard/tarballs/32983/

UNH-IOL DPDK Community Lab

To manage your email subscriptions, visit: 
https://lab.dpdk.org/results/dashboard/preferences/subscriptions/