From mboxrd@z Thu Jan 1 00:00:00 1970 Return-Path: Received: from mails.dpdk.org (mails.dpdk.org [217.70.189.124]) by inbox.dpdk.org (Postfix) with ESMTP id 7D2DB46410 for ; Tue, 18 Mar 2025 16:16:55 +0100 (CET) Received: from mails.dpdk.org (localhost [127.0.0.1]) by mails.dpdk.org (Postfix) with ESMTP id 7F779402DD; Tue, 18 Mar 2025 16:16:54 +0100 (CET) Received: from mail-pl1-f225.google.com (mail-pl1-f225.google.com [209.85.214.225]) by mails.dpdk.org (Postfix) with ESMTP id 7EDB1402D3 for ; Tue, 18 Mar 2025 16:16:52 +0100 (CET) Received: by mail-pl1-f225.google.com with SMTP id d9443c01a7336-224100e9a5cso111567065ad.2 for ; Tue, 18 Mar 2025 08:16:52 -0700 (PDT) DKIM-Signature: v=1; a=rsa-sha256; c=relaxed/relaxed; d=iol.unh.edu; s=unh-iol; t=1742311011; x=1742915811; darn=dpdk.org; h=references:in-reply-to:cc:to:from:subject:message-id:date:from:to :cc:subject:date:message-id:reply-to; bh=0QCwTvuAef2a8ZB7BdzX9W/Kkc8o7W1mkJEeV/9+/Kw=; b=WWgEbbikLYXsydvgYkx94chebVQJRN9ICHk69ZnvLN8/8zdk5acGvpIhjeIviXSdaT 6BelvH0ROoXJ+xDVOgJxB15ZAtuRd6GylSTJVfcKvzfRVXS5A8ujLAWJYjoU1chBqfrV R2xBhier4sH9CIHQTxqD24Hj65i0MGKS031Y8= X-Google-DKIM-Signature: v=1; a=rsa-sha256; c=relaxed/relaxed; d=1e100.net; s=20230601; t=1742311011; x=1742915811; h=references:in-reply-to:cc:to:from:subject:message-id:date :x-gm-message-state:from:to:cc:subject:date:message-id:reply-to; bh=0QCwTvuAef2a8ZB7BdzX9W/Kkc8o7W1mkJEeV/9+/Kw=; b=hPobJCNAjXSaVW9aeVmgAAXZb8EaG1q4RkyvXQRMhRlwdqw1DyD15X6i7d6XpoeH8x YxiXlVEFlD3iUXynekmgRHDLjKgoP0CLzaGEOn0obW/B7HzJIbbHpFeCM2WHKvI6cDQN rK2Z0GFJNgRPuA5D+l/pay+9oCdDqSV1Ia05HafmD6Mv8XZaO1JNw8r15OjwSWld0qkl 42VX/zdHDUvFxHAR+73Cf2noNDfxmqQjHh7RFWy6JrWnJBVgdVERpwLdODskGn4nxJBj /gtZii7n2vh90g7e3bwQtc2SXtzWvFNpyXCZwYH6U/YNkZtmTMpplJ4sGQSfVihlpOUt +Lqw== X-Gm-Message-State: AOJu0YwsDLo8zkXbZ/A6ucmxOqt3xeA5zNEBhYwhEOE+bRxiP/RSjVEX hr5uyuoJMq3OQTd86cKCaZosJAuwRzOXmxdchDb1F7EI+qa/tT+TPc13/L5EKZrLCnOPEud/7pZ DILi5xyL6nB9x1kvu+jZIad1cYBfQFmd5xjwNyk6vR3cBT1v4WNn+RhBr X-Gm-Gg: ASbGnctoQ/DHsGgs1U4feBL47U1hIV6M1Qqd3uKMclSdzHQtYVxuIM6pE/wxWs84XVT HLw4ibmlmYwb6xxEeeOIcQILTs7cbjZ4w5iib8ydyQB0zZuTZq813/3Z/nRTimyV3WVq6Qk2SSJ VgWUhla+ZHgxwTcLMNprnAUF7imxnQJjABJP5/ucxj8iAxo+1F3Zot7GzNdBMgORXjRZh18HeSl y/o2Jp23KoOuZe3qCs8B9DAMZZXXRmku3oiqe0uvGJ2bR5+6hiDbQ8ksJQB79ndVuRcrfiaflRc wzhIDw0QZKGhn+8KJjnOtiaWPIgBj6wKhER52ujp7d108IoEV/2T X-Google-Smtp-Source: AGHT+IFEo6cxFji6sC/a6XLRmufEadBCB/wmb64nvicmp6Fhz+6TqcQ12Eek/Y/jcpNVFGiYWtGe1cocmafr X-Received: by 2002:a17:903:291:b0:225:b718:4dff with SMTP id d9443c01a7336-225e0b2a4d7mr235124695ad.53.1742311011299; Tue, 18 Mar 2025 08:16:51 -0700 (PDT) Received: from postal.iol.unh.edu (postal.iol.unh.edu. [2606:4100:3880:1234::84]) by smtp-relay.gmail.com with ESMTPS id d9443c01a7336-225c6c00d95sm5777605ad.73.2025.03.18.08.16.51 (version=TLS1_2 cipher=ECDHE-ECDSA-AES128-GCM-SHA256 bits=128/128); Tue, 18 Mar 2025 08:16:51 -0700 (PDT) X-Relaying-Domain: iol.unh.edu Date: Tue, 18 Mar 2025 08:16:51 -0700 (PDT) Message-ID: <67d98e63.170a0220.19bdae.983aSMTPIN_ADDED_MISSING@mx.google.com> Received: from [172.17.0.3] (unknown [172.18.0.217]) by postal.iol.unh.edu (Postfix) with ESMTP id 688336052471; Tue, 18 Mar 2025 11:16:50 -0400 (EDT) Subject: |SUCCESS| pw152449 [PATCH] net/sfc: fix action order on fail path fo From: dpdklab@iol.unh.edu To: Test Report Cc: dpdk-test-reports@iol.unh.edu In-Reply-To: <20250318105349.8331-1-ivan.malov@arknetworks.am> References: <20250318105349.8331-1-ivan.malov@arknetworks.am> Content-Type: text/plain X-BeenThere: test-report@dpdk.org X-Mailman-Version: 2.1.29 Precedence: list List-Id: automatic DPDK test reports List-Unsubscribe: , List-Archive: List-Post: List-Help: List-Subscribe: , Errors-To: test-report-bounces@dpdk.org Test-Label: iol-compile-amd64-testing Test-Status: SUCCESS http://dpdk.org/patch/152449 _Testing PASS_ Submitter: Ivan Malov Date: Tuesday, March 18 2025 10:53:49 DPDK git baseline: Repo:dpdk Branch: master CommitID:9694dcd7d1abe20a6a838b80a6309137e02c3789 152449 --> testing pass Upstream job id: Generic-DPDK-Compile-Meson#372971 Test environment and result as below: +-----------------------------------+--------------------+-------------------+-------------------+------------------+-------------------------+----------------------+ | Environment | dpdk_meson_compile | dpdk_compile_spdk | dpdk_msvc_compile | dpdk_compile_ovs | dpdk_llvm_clang_compile | dpdk_mingw64_compile | +===================================+====================+===================+===================+==================+=========================+======================+ | Fedora 40 (Clang) | PASS | PASS | SKIPPED | SKIPPED | SKIPPED | SKIPPED | +-----------------------------------+--------------------+-------------------+-------------------+------------------+-------------------------+----------------------+ | Debian 12 | PASS | PASS | SKIPPED | SKIPPED | SKIPPED | SKIPPED | +-----------------------------------+--------------------+-------------------+-------------------+------------------+-------------------------+----------------------+ | Fedora 41 | PASS | PASS | SKIPPED | PASS | SKIPPED | SKIPPED | +-----------------------------------+--------------------+-------------------+-------------------+------------------+-------------------------+----------------------+ | Fedora 40 | PASS | PASS | SKIPPED | SKIPPED | SKIPPED | SKIPPED | +-----------------------------------+--------------------+-------------------+-------------------+------------------+-------------------------+----------------------+ | CentOS Stream 10 | PASS | SKIPPED | SKIPPED | SKIPPED | SKIPPED | SKIPPED | +-----------------------------------+--------------------+-------------------+-------------------+------------------+-------------------------+----------------------+ | RHEL8 | PASS | SKIPPED | SKIPPED | SKIPPED | SKIPPED | SKIPPED | +-----------------------------------+--------------------+-------------------+-------------------+------------------+-------------------------+----------------------+ | Fedora 41 (Clang) | PASS | PASS | SKIPPED | PASS | SKIPPED | SKIPPED | +-----------------------------------+--------------------+-------------------+-------------------+------------------+-------------------------+----------------------+ | CentOS Stream 9 | PASS | PASS | SKIPPED | SKIPPED | SKIPPED | SKIPPED | +-----------------------------------+--------------------+-------------------+-------------------+------------------+-------------------------+----------------------+ | RHEL9 | PASS | SKIPPED | SKIPPED | SKIPPED | SKIPPED | SKIPPED | +-----------------------------------+--------------------+-------------------+-------------------+------------------+-------------------------+----------------------+ | Alpine | PASS | SKIPPED | SKIPPED | SKIPPED | SKIPPED | SKIPPED | +-----------------------------------+--------------------+-------------------+-------------------+------------------+-------------------------+----------------------+ | Ubuntu 20.04 | PASS | SKIPPED | SKIPPED | SKIPPED | SKIPPED | SKIPPED | +-----------------------------------+--------------------+-------------------+-------------------+------------------+-------------------------+----------------------+ | openSUSE Leap 15 | PASS | SKIPPED | SKIPPED | SKIPPED | SKIPPED | SKIPPED | +-----------------------------------+--------------------+-------------------+-------------------+------------------+-------------------------+----------------------+ | Ubuntu 22.04 | PASS | PASS | SKIPPED | SKIPPED | SKIPPED | SKIPPED | +-----------------------------------+--------------------+-------------------+-------------------+------------------+-------------------------+----------------------+ | Ubuntu 24.04 32 Bit Cross Compile | PASS | SKIPPED | SKIPPED | SKIPPED | SKIPPED | SKIPPED | +-----------------------------------+--------------------+-------------------+-------------------+------------------+-------------------------+----------------------+ | FreeBSD 13.4 | PASS | SKIPPED | SKIPPED | SKIPPED | SKIPPED | SKIPPED | +-----------------------------------+--------------------+-------------------+-------------------+------------------+-------------------------+----------------------+ | Ubuntu 24.04 | PASS | PASS | SKIPPED | PASS | SKIPPED | SKIPPED | +-----------------------------------+--------------------+-------------------+-------------------+------------------+-------------------------+----------------------+ | FreeBSD 14.2 | PASS | SKIPPED | SKIPPED | SKIPPED | SKIPPED | SKIPPED | +-----------------------------------+--------------------+-------------------+-------------------+------------------+-------------------------+----------------------+ | Windows Server 2022 | SKIPPED | SKIPPED | PASS | SKIPPED | PASS | PASS | +-----------------------------------+--------------------+-------------------+-------------------+------------------+-------------------------+----------------------+ Fedora 40 (Clang) Kernel: Depends on container host Compiler: clang 18.1.8 (Fedora 18.1.8-1.fc40) Debian 12 Kernel: Depends on container host Compiler: gcc (Debian 12.2.0-14) 12.2.0 Fedora 41 Kernel: Depends on container host Compiler: gcc 14.2.1 20240912 (Red Hat 14.2.1-3) Fedora 40 Kernel: Depends on container host Compiler: gcc 14.2.1 20240912 (Red Hat 14.2.1-3) CentOS Stream 10 Kernel: Depends on container host Compiler: gcc 14.2.1 20241104 (Red Hat 14.2.1-6) RHEL8 Kernel: Depends on container host Compiler: gcc 8.5.0 20210514 (Red Hat 8.5.0-22) Fedora 41 (Clang) Kernel: Depends on container host Compiler: clang 19.1.5 (Fedora 19.1.5-1.fc41) CentOS Stream 9 Kernel: Depends on container host Compiler: gcc 11.5.0 20240719 (Red Hat 11.5.0-2) RHEL9 Kernel: Depends on container host Compiler: gcc 11.5.0 20240719 (Red Hat 11.5.0-2) Alpine Kernel: Depends on container host Compiler: gcc (Alpine 14.2.0) 14.2.0 Ubuntu 20.04 Kernel: Depends on container host Compiler: gcc (Ubuntu 9.4.0-1ubuntu1~20.04.2) 9.4.0 openSUSE Leap 15 Kernel: Depends on container host Compiler: gcc (SUSE Linux) 7.5.0 Ubuntu 22.04 Kernel: Depends on container host Compiler: gcc (Ubuntu 11.4.0-1ubuntu1~22.04) 11.4.0 Ubuntu 24.04 32 Bit Cross Compile Kernel: Depends on container host Compiler: gcc (Ubuntu 13.3.0-6ubuntu2~24.04) 13.3.0 FreeBSD 13.4 Kernel: 13.4-RELEASE-p1 Compiler: clang 18.1.6 Ubuntu 24.04 Kernel: Depends on container host Compiler: gcc (Ubuntu 13.3.0-6ubuntu2~24.04) 13.3.0 FreeBSD 14.2 Kernel: 14.2-RELEASE Compiler: clang 18.1.6 Windows Server 2022 Kernel: 10.0.20348.2031 Compiler: clang 15.0.7, gcc 14.1.0 (MinGW), and MSVC VS 19.39.33521 To view detailed results, visit: https://lab.dpdk.org/results/dashboard/patchsets/32842/ UNH-IOL DPDK Community Lab To manage your email subscriptions, visit: https://lab.dpdk.org/results/dashboard/preferences/subscriptions/