From mboxrd@z Thu Jan  1 00:00:00 1970
Return-Path: <test-report-bounces@dpdk.org>
Received: from mails.dpdk.org (mails.dpdk.org [217.70.189.124])
	by inbox.dpdk.org (Postfix) with ESMTP id EB9E146429
	for <public@inbox.dpdk.org>; Wed, 19 Mar 2025 22:48:37 +0100 (CET)
Received: from mails.dpdk.org (localhost [127.0.0.1])
	by mails.dpdk.org (Postfix) with ESMTP id E146A40268;
	Wed, 19 Mar 2025 22:48:36 +0100 (CET)
Received: from mail-io1-f98.google.com (mail-io1-f98.google.com
 [209.85.166.98]) by mails.dpdk.org (Postfix) with ESMTP id 850FA400D5
 for <test-report@dpdk.org>; Wed, 19 Mar 2025 22:48:35 +0100 (CET)
Received: by mail-io1-f98.google.com with SMTP id
 ca18e2360f4ac-85b41281b50so3755139f.3
 for <test-report@dpdk.org>; Wed, 19 Mar 2025 14:48:35 -0700 (PDT)
DKIM-Signature: v=1; a=rsa-sha256; c=relaxed/relaxed;
 d=iol.unh.edu; s=unh-iol; t=1742420914; x=1743025714; darn=dpdk.org;
 h=references:in-reply-to:cc:to:from:subject:message-id:date:from:to
 :cc:subject:date:message-id:reply-to;
 bh=5uz1nU4WGimPFj5k4vFOrSX/bDP2mUbHs09sX2eR1fw=;
 b=c6ZT2CbycEM+08kvtFTfDQ0tRRt+gddlM+GviKiCVmQ7JjQvrFr2MCp4FXktmqDJRh
 hr1Icc9CvCgoRw+TXQ8TJYXZK+wptgSOeECpLXm3y+d48zfrZVl02CNUelfys3IzssuA
 bzAXKdalbpzy9BE0yZSRMt7bYVMh2KquN8/wI=
X-Google-DKIM-Signature: v=1; a=rsa-sha256; c=relaxed/relaxed;
 d=1e100.net; s=20230601; t=1742420914; x=1743025714;
 h=references:in-reply-to:cc:to:from:subject:message-id:date
 :x-gm-message-state:from:to:cc:subject:date:message-id:reply-to;
 bh=5uz1nU4WGimPFj5k4vFOrSX/bDP2mUbHs09sX2eR1fw=;
 b=o/n/w05qUo1rhpNND7Hek3fiIKqDHb52nbClKgTNcAyz3AMCaOb3oXOGXDPikwouSZ
 qI7eMAB8enC/TuCyGpBApjjNlXwCONemyM3PQw3NBBbnJtU7gwHQeyYlyaHxhvDbSlq8
 1/NYqC2/sM/yNBrjmRbvXntdRI93rqVl+piugZepEZgUGpkARuVID1JOZYM7Pt1/2hLj
 FSiDO9x08lTVfr+XA9kEk6teF2BYZLgq+kWMevfzqI4AhErlwTZwyOyB84Ds/VAX1IGP
 x05Bz16UVHNx7gg5bsZ2DxzzY8+51AdU0DeqvjGU0KGZAWOzrwWdWoscPrQdHESiD9X5
 dP5g==
X-Gm-Message-State: AOJu0Yy0OB+xkqTLTSCfkbT5F5utuuNwr6rQD9hrZVboM4TmK4bUplqi
 ocYZgSGlpQK/KpxhwpsCx7ByrfyV5cLqTtLhCirSDSPD3Bq5A7Oa00V7slnDnS0itYS1/mdDAKp
 0Q5fvFmW4dU3zw14N419iqPkbLuZez7ArjEcWkNthaKAyl7DEr8a97nHS
X-Gm-Gg: ASbGncsNff8I8EiOF+ZVn6ZQLi6BihyBp4ZyNdwGSt5BjbdTTtWL7+0cSndUwQAs1XE
 d3MufoSozvnv8/FnLU0CeT1+2ALgL+P6F8dRBMqkhlWYhdl+q7/jjU+keK3B0dtvgszIdWk4PTt
 R6zyFsNUUqkRhLQmj12mEuRWCsgS5ewNbTDxD/q6NKNxG0zEwFhHsemXFm9NV0xIh3Sq6cHOJwk
 UdhkHV+lFEl2opt40cbQIz4UIo6YjCDhTDd0WxwPj1JtxzAQvLPaujYbyWdEKCGQu2aJhwDx47p
 +zQhdzJJ0ICrE5ZITSVoMN4+aiLROFx05+E5UlIj8hGazI+J5c1H
X-Google-Smtp-Source: AGHT+IFyqQfxfr5dqPmF/j3TdehCjktpiFzX5B3PVSD1D0uS2nxdt2GUyozIH0VBJszt/8bKF1SnvcheA6Qp
X-Received: by 2002:a05:6e02:378e:b0:3d2:aa73:7b7a with SMTP id
 e9e14a558f8ab-3d58ebf2d31mr10758635ab.12.1742420914710; 
 Wed, 19 Mar 2025 14:48:34 -0700 (PDT)
Received: from postal.iol.unh.edu (postal.iol.unh.edu.
 [2606:4100:3880:1234::84]) by smtp-relay.gmail.com with ESMTPS id
 e9e14a558f8ab-3d47a6720e2sm8762135ab.28.2025.03.19.14.48.34
 (version=TLS1_2 cipher=ECDHE-ECDSA-AES128-GCM-SHA256 bits=128/128);
 Wed, 19 Mar 2025 14:48:34 -0700 (PDT)
X-Relaying-Domain: iol.unh.edu
Date: Wed, 19 Mar 2025 14:48:34 -0700 (PDT)
Message-ID: <67db3bb2.920a0220.19afea.8e7aSMTPIN_ADDED_MISSING@mx.google.com>
Received: from [172.17.0.3] (unknown [172.18.0.217])
 by postal.iol.unh.edu (Postfix) with ESMTP id 2CBF66052471;
 Wed, 19 Mar 2025 17:48:34 -0400 (EDT)
Subject: |SUCCESS| pw152479-152489 [PATCH] [v4,11/11] member: use common AVX5
From: dpdklab@iol.unh.edu
To: Test Report <test-report@dpdk.org>
Cc: dpdk-test-reports@iol.unh.edu
In-Reply-To: <20250319172942.2992053-12-bruce.richardson@intel.com>
References: <20250319172942.2992053-12-bruce.richardson@intel.com>
Content-Type: text/plain
X-BeenThere: test-report@dpdk.org
X-Mailman-Version: 2.1.29
Precedence: list
List-Id: automatic DPDK test reports <test-report.dpdk.org>
List-Unsubscribe: <https://mails.dpdk.org/options/test-report>,
 <mailto:test-report-request@dpdk.org?subject=unsubscribe>
List-Archive: <http://mails.dpdk.org/archives/test-report/>
List-Post: <mailto:test-report@dpdk.org>
List-Help: <mailto:test-report-request@dpdk.org?subject=help>
List-Subscribe: <https://mails.dpdk.org/listinfo/test-report>,
 <mailto:test-report-request@dpdk.org?subject=subscribe>
Errors-To: test-report-bounces@dpdk.org

Test-Label: iol-abi-testing
Test-Status: SUCCESS
http://dpdk.org/patch/152489

_Testing PASS_

Submitter: Bruce Richardson <bruce.richardson@intel.com>
Date: Wednesday, March 19 2025 17:29:41 
DPDK git baseline: Repo:dpdk
  Branch: master
  CommitID:7246d0a80cb79a04e1334393ef507aa4ef7accd9

152479-152489 --> testing pass

Upstream job id: Generic-DPDK-Compile-ABI#120685

Test environment and result as below:

+-------------------+----------+
|    Environment    | abi_test |
+===================+==========+
| CentOS Stream 9   | PASS     |
+-------------------+----------+
| CentOS Stream 10  | PASS     |
+-------------------+----------+
| Debian 12         | PASS     |
+-------------------+----------+
| Fedora 40         | PASS     |
+-------------------+----------+
| Fedora 40 (Clang) | PASS     |
+-------------------+----------+
| openSUSE Leap 15  | PASS     |
+-------------------+----------+
| Fedora 41         | PASS     |
+-------------------+----------+
| Ubuntu 22.04      | PASS     |
+-------------------+----------+
| Ubuntu 24.04      | PASS     |
+-------------------+----------+
| Fedora 41 (Clang) | PASS     |
+-------------------+----------+
| RHEL9             | PASS     |
+-------------------+----------+
| RHEL8             | PASS     |
+-------------------+----------+


CentOS Stream 9
	Kernel: Depends on container host
	Compiler: gcc 11.5.0 20240719 (Red Hat 11.5.0-2)

CentOS Stream 10
	Kernel: Depends on container host
	Compiler: gcc 14.2.1 20241104 (Red Hat 14.2.1-6)

Debian 12
	Kernel: Depends on container host
	Compiler: gcc (Debian 12.2.0-14) 12.2.0

Fedora 40
	Kernel: Depends on container host
	Compiler: gcc 14.2.1 20240912 (Red Hat 14.2.1-3)

Fedora 40 (Clang)
	Kernel: Depends on container host
	Compiler: clang 18.1.8 (Fedora 18.1.8-1.fc40)

openSUSE Leap 15
	Kernel: Depends on container host
	Compiler: gcc (SUSE Linux) 7.5.0

Fedora 41
	Kernel: Depends on container host
	Compiler: gcc 14.2.1 20240912 (Red Hat 14.2.1-3)

Ubuntu 22.04
	Kernel: Depends on container host
	Compiler: gcc (Ubuntu 11.4.0-1ubuntu1~22.04) 11.4.0

Ubuntu 24.04
	Kernel: Depends on container host
	Compiler: gcc (Ubuntu 13.3.0-6ubuntu2~24.04) 13.3.0

Fedora 41 (Clang)
	Kernel: Depends on container host
	Compiler: clang 19.1.5 (Fedora 19.1.5-1.fc41)

RHEL9
	Kernel: Depends on container host
	Compiler: gcc 11.5.0 20240719 (Red Hat 11.5.0-2)

RHEL8
	Kernel: Depends on container host
	Compiler: gcc 8.5.0 20210514 (Red Hat 8.5.0-22)

To view detailed results, visit:
https://lab.dpdk.org/results/dashboard/patchsets/32849/

UNH-IOL DPDK Community Lab

To manage your email subscriptions, visit: 
https://lab.dpdk.org/results/dashboard/preferences/subscriptions/