From mboxrd@z Thu Jan  1 00:00:00 1970
Return-Path: <test-report-bounces@dpdk.org>
Received: from mails.dpdk.org (mails.dpdk.org [217.70.189.124])
	by inbox.dpdk.org (Postfix) with ESMTP id 95F7B4643B
	for <public@inbox.dpdk.org>; Fri, 21 Mar 2025 14:25:04 +0100 (CET)
Received: from mails.dpdk.org (localhost [127.0.0.1])
	by mails.dpdk.org (Postfix) with ESMTP id 5E0E440B9D;
	Fri, 21 Mar 2025 14:25:03 +0100 (CET)
Received: from mail-io1-f99.google.com (mail-io1-f99.google.com
 [209.85.166.99]) by mails.dpdk.org (Postfix) with ESMTP id 73A9C40276
 for <test-report@dpdk.org>; Fri, 21 Mar 2025 14:25:02 +0100 (CET)
Received: by mail-io1-f99.google.com with SMTP id
 ca18e2360f4ac-85afd2b9106so194324039f.0
 for <test-report@dpdk.org>; Fri, 21 Mar 2025 06:25:02 -0700 (PDT)
DKIM-Signature: v=1; a=rsa-sha256; c=relaxed/relaxed;
 d=iol.unh.edu; s=unh-iol; t=1742563501; x=1743168301; darn=dpdk.org;
 h=references:in-reply-to:cc:to:from:subject:message-id:date:from:to
 :cc:subject:date:message-id:reply-to;
 bh=oTe5ZLh6BFldpyrwBnmia2jWh0hAHd8F7qtU/OHCITQ=;
 b=c47jXlnhnizB7YLr0P1bSg4wajsRoDE4JgVf1faKXIIkxX7+OayKyBj1D9ypbZyqj/
 xFXn++yUzmySBT5MiboJwLswAiL+/sbMXfmDvT2oG+Z1O2GeLZFUSec6AvmYhcCIbrV7
 vrnkNTkVkeV9DWDjkVHqqWrxKlqIQbD4WE+AU=
X-Google-DKIM-Signature: v=1; a=rsa-sha256; c=relaxed/relaxed;
 d=1e100.net; s=20230601; t=1742563501; x=1743168301;
 h=references:in-reply-to:cc:to:from:subject:message-id:date
 :x-gm-message-state:from:to:cc:subject:date:message-id:reply-to;
 bh=oTe5ZLh6BFldpyrwBnmia2jWh0hAHd8F7qtU/OHCITQ=;
 b=WVSS5nuxSE7Tzo7EEsQw9XwC+T+r5ogdFZFFQ51kOI9WIMFaCphzlIR36c3yOwtgVz
 /OkcGo7wDSJ2ONcQLRIkcbz9/LD4S7vlHscohGL4E48pfIdTvq4vVuEp0vv4no/TOpOC
 FbcUyw4i9nFiSoKjTIW/sA2TbMW6ogYSM84Luma6RFo3LcwMeJqHDxFPy9d/EUWgfYaW
 XOJXkZ5vbDfGNYWJMt9ia0fusUTYBPdaDzpxofkHplNRTBYYkbPEk8F/Ectm3WsytoRk
 EAgMJkrrWywB/XJOpTVZK9osi132g1i88a22gARkFly2Nq8O9b8FZ+ZtTVJmmnXmPP4W
 RkUw==
X-Gm-Message-State: AOJu0Yw1rYLMY1ZWePBiCIntU2VmLwF7hd8jPII0mlqOISWoLksWFNfA
 TX+Kt/Y1ll+VITh0hMZTpnh8/tsYlKNHELV2WC47y3iGiF4TIII1LsjuaPBjiqAmbgmVjFL3Zjk
 w/wqFYkg/DEPgogiYe1r3fgeTC0328sXl6p+ohk4o
X-Gm-Gg: ASbGncvQnzRoBgoDnKnoehGSUSgPA6e8yn9IhRuHbFYdEY4Y3i/8fm6Z8kPgMvP4iJM
 rZfGROpvNaT6tn2/Dy4nYCH+Xc77mjPndvgCbTV+XZMhAjfHqPSnbOkiBLmrBGLn5EPquCVKd46
 1MA/K697d3cF21knxF2kjQ0mFAZAbWhZ09dCgxwOc+p04enpBeKepIeChmV1FbccJVBLTUjA/+m
 XVTrQimenNlHm+nVo0zeepxLNwoeSCY9F5WV4T7Y0nTkA3uJVIs2LZzTjyAbp2LRa9xv7qpdEMv
 P1Ok3/P8w9KsJGlTTHr70SZmtFi88DQgbvwIxwDx
X-Google-Smtp-Source: AGHT+IFZbENyDd4X0dRUK08a5BsOnsQcSbRHn/z4XdEl8nzKk6a5XNYmGOEY6kaQDxUeDz8rXXT3MFy7sM7c
X-Received: by 2002:a05:6602:4c85:b0:85b:35b1:53b4 with SMTP id
 ca18e2360f4ac-85e2cc82ba8mr344152739f.12.1742563501668; 
 Fri, 21 Mar 2025 06:25:01 -0700 (PDT)
Received: from postal.iol.unh.edu (postal.iol.unh.edu. [132.177.123.84])
 by smtp-relay.gmail.com with ESMTPS id
 ca18e2360f4ac-85e2be28883sm7385839f.26.2025.03.21.06.25.01
 (version=TLS1_2 cipher=ECDHE-ECDSA-AES128-GCM-SHA256 bits=128/128);
 Fri, 21 Mar 2025 06:25:01 -0700 (PDT)
X-Relaying-Domain: iol.unh.edu
Date: Fri, 21 Mar 2025 06:25:01 -0700 (PDT)
Message-ID: <67dd68ad.050a0220.1c71ff.40fcSMTPIN_ADDED_MISSING@mx.google.com>
Received: from [172.17.0.3] (unknown [172.18.0.217])
 by postal.iol.unh.edu (Postfix) with ESMTP id 1E8EA6052471;
 Fri, 21 Mar 2025 09:25:01 -0400 (EDT)
Subject: |SUCCESS| pw152516-152517 [PATCH] [2/2] common/cnxk: defragment MCAM
From: dpdklab@iol.unh.edu
To: Test Report <test-report@dpdk.org>
Cc: dpdk-test-reports@iol.unh.edu
In-Reply-To: <20250321094820.3311252-2-psatheesh@marvell.com>
References: <20250321094820.3311252-2-psatheesh@marvell.com>
Content-Type: text/plain
X-BeenThere: test-report@dpdk.org
X-Mailman-Version: 2.1.29
Precedence: list
List-Id: automatic DPDK test reports <test-report.dpdk.org>
List-Unsubscribe: <https://mails.dpdk.org/options/test-report>,
 <mailto:test-report-request@dpdk.org?subject=unsubscribe>
List-Archive: <http://mails.dpdk.org/archives/test-report/>
List-Post: <mailto:test-report@dpdk.org>
List-Help: <mailto:test-report-request@dpdk.org?subject=help>
List-Subscribe: <https://mails.dpdk.org/listinfo/test-report>,
 <mailto:test-report-request@dpdk.org?subject=subscribe>
Errors-To: test-report-bounces@dpdk.org

Test-Label: iol-abi-testing
Test-Status: SUCCESS
http://dpdk.org/patch/152517

_Testing PASS_

Submitter: Satheesh Paul Antonysamy <psatheesh@marvell.com>
Date: Friday, March 21 2025 09:48:20 
DPDK git baseline: Repo:dpdk
  Branch: master
  CommitID:5f37ee9c859f3ce08ca4364f1d8c0e70ec33ac83

152516-152517 --> testing pass

Upstream job id: Generic-DPDK-Compile-ABI#120895

Test environment and result as below:

+-------------------+----------+
|    Environment    | abi_test |
+===================+==========+
| CentOS Stream 9   | PASS     |
+-------------------+----------+
| CentOS Stream 10  | PASS     |
+-------------------+----------+
| Fedora 40 (Clang) | PASS     |
+-------------------+----------+
| Debian 12         | PASS     |
+-------------------+----------+
| openSUSE Leap 15  | PASS     |
+-------------------+----------+
| Fedora 40         | PASS     |
+-------------------+----------+
| Fedora 41 (Clang) | PASS     |
+-------------------+----------+
| RHEL8             | PASS     |
+-------------------+----------+
| Fedora 41         | PASS     |
+-------------------+----------+
| RHEL9             | PASS     |
+-------------------+----------+
| Ubuntu 22.04      | PASS     |
+-------------------+----------+


CentOS Stream 9
	Kernel: Depends on container host
	Compiler: gcc 11.5.0 20240719 (Red Hat 11.5.0-2)

CentOS Stream 10
	Kernel: Depends on container host
	Compiler: gcc 14.2.1 20241104 (Red Hat 14.2.1-6)

Fedora 40 (Clang)
	Kernel: Depends on container host
	Compiler: clang 18.1.8 (Fedora 18.1.8-1.fc40)

Debian 12
	Kernel: Depends on container host
	Compiler: gcc (Debian 12.2.0-14) 12.2.0

openSUSE Leap 15
	Kernel: Depends on container host
	Compiler: gcc (SUSE Linux) 7.5.0

Fedora 40
	Kernel: Depends on container host
	Compiler: gcc 14.2.1 20240912 (Red Hat 14.2.1-3)

Fedora 41 (Clang)
	Kernel: Depends on container host
	Compiler: clang 19.1.5 (Fedora 19.1.5-1.fc41)

RHEL8
	Kernel: Depends on container host
	Compiler: gcc 8.5.0 20210514 (Red Hat 8.5.0-22)

Fedora 41
	Kernel: Depends on container host
	Compiler: gcc 14.2.1 20240912 (Red Hat 14.2.1-3)

RHEL9
	Kernel: Depends on container host
	Compiler: gcc 11.5.0 20240719 (Red Hat 11.5.0-2)

Ubuntu 22.04
	Kernel: Depends on container host
	Compiler: gcc (Ubuntu 11.4.0-1ubuntu1~22.04) 11.4.0

To view detailed results, visit:
https://lab.dpdk.org/results/dashboard/patchsets/32861/

UNH-IOL DPDK Community Lab

To manage your email subscriptions, visit: 
https://lab.dpdk.org/results/dashboard/preferences/subscriptions/