From mboxrd@z Thu Jan  1 00:00:00 1970
Return-Path: <test-report-bounces@dpdk.org>
Received: from mails.dpdk.org (mails.dpdk.org [217.70.189.124])
	by inbox.dpdk.org (Postfix) with ESMTP id D22D34643C
	for <public@inbox.dpdk.org>; Fri, 21 Mar 2025 16:51:41 +0100 (CET)
Received: from mails.dpdk.org (localhost [127.0.0.1])
	by mails.dpdk.org (Postfix) with ESMTP id 9856340B9D;
	Fri, 21 Mar 2025 16:51:41 +0100 (CET)
Received: from mail-pl1-f225.google.com (mail-pl1-f225.google.com
 [209.85.214.225])
 by mails.dpdk.org (Postfix) with ESMTP id 2EAB540276
 for <test-report@dpdk.org>; Fri, 21 Mar 2025 16:51:40 +0100 (CET)
Received: by mail-pl1-f225.google.com with SMTP id
 d9443c01a7336-22349bb8605so50463805ad.0
 for <test-report@dpdk.org>; Fri, 21 Mar 2025 08:51:40 -0700 (PDT)
DKIM-Signature: v=1; a=rsa-sha256; c=relaxed/relaxed;
 d=iol.unh.edu; s=unh-iol; t=1742572299; x=1743177099; darn=dpdk.org;
 h=references:in-reply-to:cc:to:from:subject:message-id:date:from:to
 :cc:subject:date:message-id:reply-to;
 bh=QEXbmbICWIA405mshUc9JYU7WKWJDCWWKlr02wQuKlk=;
 b=WILGj4tH8UQ3hzY+H166yb24d4XfJlkfUxszrFGFXhiH/McsVPZ3/G3verNhZjVYrh
 X3jqggznCnT+HwIgGJCp0tTbgTf653ToyJOn2DFMzJVeEj8FGqYgmWGL1IRhkRc4oDl/
 JX8jfBXN70IaerqOV9g/sgtvTR+qaDQAbMWMM=
X-Google-DKIM-Signature: v=1; a=rsa-sha256; c=relaxed/relaxed;
 d=1e100.net; s=20230601; t=1742572299; x=1743177099;
 h=references:in-reply-to:cc:to:from:subject:message-id:date
 :x-gm-message-state:from:to:cc:subject:date:message-id:reply-to;
 bh=QEXbmbICWIA405mshUc9JYU7WKWJDCWWKlr02wQuKlk=;
 b=BgUex1R8PvbCbgq4JPDV5U5NLd3WypZGp2vP/wlpYQFVdQ+eGidF43Q8vLlZEj/Njw
 7RCEDZBTW8vVu/uJXF8Ru5OlLUsU9+gvwQTPI7tkmVRhHBF9ZHCfT/n5mHovcsaEF1pQ
 ZuLFwqEOmdxjwQG+TzwcOLttEo1XhhsVH1YcbCRz5w8cLWRlJv64TTNgmhUqwCZbDit6
 BnrgccBNh61L6e6+CHbogHrBUc50Tx2wzbTaht3UKeRy/nm5GWNIsE1se47zet9PMaij
 zG77wieCxo4336lzA2XSFT8BW2HRL9AOZxSaJMTp0qoc4qp8KKlpGAsgRRU7OhvptVkp
 ne9w==
X-Gm-Message-State: AOJu0Yz1vMlcFXXXuCRmRR7vFWntrQs8AFBj9aIyybzwQp8A7/7pBY9B
 xwNXsUmhxhZNrkZ0AQaQFkEynbeOwUzFZZkXVAJKk98YIs92gHf81Wk+m4gLxuvbbYiq0wdzArV
 PMfVdwsTtfcWZ6QMW37Ja/IXOCtipKwRjzy78lmxyvS5T/84GwqGyeB2A
X-Gm-Gg: ASbGncu997qiRHiuqUwj4xnh3xG5tTOBaS8PF5KHt2l/opLrcDUuXBqEcxBLOdrN7+A
 cbwKkmgs/KrBb9Fefe4it7ZOcBQpyV+CC3feKi3tZfY5o1QRT1Xk0//TWQdaqxRDRn53RIBqLlZ
 Pjd7rAEoFvkE0G5o6/v8lESCaV74ahtf6JMSbclLAmxophOcDLTjbWEo6KamQLeCrlAxd/oV1rd
 ZaMvNKVvCXY5qccDzPH1G18xXyOTLNr13dVMN5MOWqTKqoO9Sxd15JwxTgWuieDivm6dXo1HX+h
 ytSKATBOsWIoF0q/tn4um1l5O49TJ29Nh5CHXfy+1FT9cT84C28v
X-Google-Smtp-Source: AGHT+IG1inaFHCzhlP+vzZ7GNZW4/dtc46aIPFBjtCZb0+gB6NHVkdYG5hF8NVME1gnIeUnlCl4/EhoP2ip3
X-Received: by 2002:a05:6a00:1393:b0:736:4fe0:2661 with SMTP id
 d2e1a72fcca58-7390599a0f7mr5508295b3a.11.1742572298959; 
 Fri, 21 Mar 2025 08:51:38 -0700 (PDT)
Received: from postal.iol.unh.edu (postal.iol.unh.edu.
 [2606:4100:3880:1234::84]) by smtp-relay.gmail.com with ESMTPS id
 d2e1a72fcca58-73905f00847sm105087b3a.10.2025.03.21.08.51.38
 (version=TLS1_2 cipher=ECDHE-ECDSA-AES128-GCM-SHA256 bits=128/128);
 Fri, 21 Mar 2025 08:51:38 -0700 (PDT)
X-Relaying-Domain: iol.unh.edu
Date: Fri, 21 Mar 2025 08:51:38 -0700 (PDT)
Message-ID: <67dd8b0a.050a0220.2c859e.5dbaSMTPIN_ADDED_MISSING@mx.google.com>
Received: from [172.17.0.5] (unknown [172.18.0.217])
 by postal.iol.unh.edu (Postfix) with ESMTP id 17C006052471;
 Fri, 21 Mar 2025 11:51:38 -0400 (EDT)
Subject: |SUCCESS| pw152516-152517 [PATCH] [2/2] common/cnxk: defragment MCAM
From: dpdklab@iol.unh.edu
To: Test Report <test-report@dpdk.org>
Cc: dpdk-test-reports@iol.unh.edu
In-Reply-To: <20250321094820.3311252-2-psatheesh@marvell.com>
References: <20250321094820.3311252-2-psatheesh@marvell.com>
Content-Type: text/plain
X-BeenThere: test-report@dpdk.org
X-Mailman-Version: 2.1.29
Precedence: list
List-Id: automatic DPDK test reports <test-report.dpdk.org>
List-Unsubscribe: <https://mails.dpdk.org/options/test-report>,
 <mailto:test-report-request@dpdk.org?subject=unsubscribe>
List-Archive: <http://mails.dpdk.org/archives/test-report/>
List-Post: <mailto:test-report@dpdk.org>
List-Help: <mailto:test-report-request@dpdk.org?subject=help>
List-Subscribe: <https://mails.dpdk.org/listinfo/test-report>,
 <mailto:test-report-request@dpdk.org?subject=subscribe>
Errors-To: test-report-bounces@dpdk.org

Test-Label: iol-unit-arm64-testing
Test-Status: SUCCESS
http://dpdk.org/patch/152517

_Testing PASS_

Submitter: Satheesh Paul Antonysamy <psatheesh@marvell.com>
Date: Friday, March 21 2025 09:48:20 
DPDK git baseline: Repo:dpdk
  Branch: master
  CommitID:5f37ee9c859f3ce08ca4364f1d8c0e70ec33ac83

152516-152517 --> testing pass

Upstream job id: Generic-Unit-Test-DPDK#325736

Test environment and result as below:

+-----------------------------+----------------+--------------+------------------------------+---------------------------+
|         Environment         | dpdk_unit_test | lpm_autotest | cryptodev_sw_snow3g_autotest | cryptodev_sw_zuc_autotest |
+=============================+================+==============+==============================+===========================+
| 32-bit Ubuntu 22.04.4 (ARM) | PASS           | SKIPPED      | SKIPPED                      | SKIPPED                   |
+-----------------------------+----------------+--------------+------------------------------+---------------------------+
| CentOS Stream 9 (ARM)       | PASS           | SKIPPED      | SKIPPED                      | SKIPPED                   |
+-----------------------------+----------------+--------------+------------------------------+---------------------------+
| Fedora 40 (ARM Clang)       | PASS           | SKIPPED      | SKIPPED                      | SKIPPED                   |
+-----------------------------+----------------+--------------+------------------------------+---------------------------+
| Debian 12 (arm)             | PASS           | SKIPPED      | PASS                         | PASS                      |
+-----------------------------+----------------+--------------+------------------------------+---------------------------+
| CentOS Stream 10 (ARM)      | PASS           | SKIPPED      | SKIPPED                      | SKIPPED                   |
+-----------------------------+----------------+--------------+------------------------------+---------------------------+
| RHEL9 (ARM)                 | PASS           | SKIPPED      | SKIPPED                      | SKIPPED                   |
+-----------------------------+----------------+--------------+------------------------------+---------------------------+
| Fedora 41 (ARM)             | PASS           | SKIPPED      | SKIPPED                      | SKIPPED                   |
+-----------------------------+----------------+--------------+------------------------------+---------------------------+
| Fedora 40 (ARM)             | PASS           | SKIPPED      | SKIPPED                      | SKIPPED                   |
+-----------------------------+----------------+--------------+------------------------------+---------------------------+
| Fedora 41 (ARM Clang)       | PASS           | SKIPPED      | SKIPPED                      | SKIPPED                   |
+-----------------------------+----------------+--------------+------------------------------+---------------------------+
| Ubuntu 20.04 (ARM)          | PASS           | SKIPPED      | SKIPPED                      | SKIPPED                   |
+-----------------------------+----------------+--------------+------------------------------+---------------------------+
| Ubuntu 24.04 (ARM)          | PASS           | SKIPPED      | SKIPPED                      | SKIPPED                   |
+-----------------------------+----------------+--------------+------------------------------+---------------------------+
| Ubuntu 22.04 (ARM)          | PASS           | SKIPPED      | SKIPPED                      | SKIPPED                   |
+-----------------------------+----------------+--------------+------------------------------+---------------------------+
| Ubuntu 20.04 ARM SVE        | SKIPPED        | PASS         | SKIPPED                      | SKIPPED                   |
+-----------------------------+----------------+--------------+------------------------------+---------------------------+


32-bit Ubuntu 22.04.4 (ARM)
	Kernel: 5.15.83+ aarch64
	Compiler: gcc (Ubuntu 11.4.0-1ubuntu1~22.04) 11.4.0

CentOS Stream 9 (ARM)
	Kernel: Depends on container host
	Compiler: gcc 11.5.0 20240719 (Red Hat 11.5.0-2)

Fedora 40 (ARM Clang)
	Kernel: Depends on container host
	Compiler: clang 18.1.8 (Fedora 18.1.8-1.fc40)

Debian 12 (arm)
	Kernel: Depends on container host
	Compiler: gcc (Debian 12.2.0-14) 12.2.0

CentOS Stream 10 (ARM)
	Kernel: Depends on container host
	Compiler: gcc 14.2.1 20241104 (Red Hat 14.2.1-6)

RHEL9 (ARM)
	Kernel: Depends on container host
	Compiler: gcc 11.5.0 20240719 (Red Hat 11.5.0-2)

Fedora 41 (ARM)
	Kernel: Depends on container host
	Compiler: gcc 14.2.1 20240912 (Red Hat 14.2.1-3)

Fedora 40 (ARM)
	Kernel: Depends on container host
	Compiler: gcc 14.2.1 20240912 (Red Hat 14.2.1-3)

Fedora 41 (ARM Clang)
	Kernel: Depends on container host
	Compiler: clang 19.1.5 (Fedora 19.1.5-1.fc41)

Ubuntu 20.04 (ARM)
	Kernel: Depends on container host
	Compiler: gcc (Ubuntu 9.4.0-1ubuntu1~20.04.2) 9.4.0

Ubuntu 24.04 (ARM)
	Kernel: Depends on container host
	Compiler: gcc (Ubuntu 13.3.0-6ubuntu2~24.04) 13.3.0

Ubuntu 22.04 (ARM)
	Kernel: Depends on container host
	Compiler: gcc (Ubuntu 11.4.0-1ubuntu1~22.04) 11.4.0

Ubuntu 20.04 ARM SVE
	Kernel: Depends on container host
	Compiler: gcc (Ubuntu 10.5.0-1ubuntu1~20.04) 10.5.0

To view detailed results, visit:
https://lab.dpdk.org/results/dashboard/patchsets/32861/

UNH-IOL DPDK Community Lab

To manage your email subscriptions, visit: 
https://lab.dpdk.org/results/dashboard/preferences/subscriptions/