From mboxrd@z Thu Jan  1 00:00:00 1970
Return-Path: <test-report-bounces@dpdk.org>
Received: from mails.dpdk.org (mails.dpdk.org [217.70.189.124])
	by inbox.dpdk.org (Postfix) with ESMTP id CC9B346466
	for <public@inbox.dpdk.org>; Mon, 24 Mar 2025 15:30:18 +0100 (CET)
Received: from mails.dpdk.org (localhost [127.0.0.1])
	by mails.dpdk.org (Postfix) with ESMTP id C796140A7F;
	Mon, 24 Mar 2025 15:30:18 +0100 (CET)
Received: from mail-yb1-f228.google.com (mail-yb1-f228.google.com
 [209.85.219.228])
 by mails.dpdk.org (Postfix) with ESMTP id F0A4140A71
 for <test-report@dpdk.org>; Mon, 24 Mar 2025 15:30:16 +0100 (CET)
Received: by mail-yb1-f228.google.com with SMTP id
 3f1490d57ef6-e63504bedd0so3154989276.0
 for <test-report@dpdk.org>; Mon, 24 Mar 2025 07:30:16 -0700 (PDT)
DKIM-Signature: v=1; a=rsa-sha256; c=relaxed/relaxed;
 d=iol.unh.edu; s=unh-iol; t=1742826616; x=1743431416; darn=dpdk.org;
 h=references:in-reply-to:cc:to:from:subject:message-id:date:from:to
 :cc:subject:date:message-id:reply-to;
 bh=JD3mHK0+nrk2c3EcQeXnIfFXMKCCxP2Zv7hWT+KhAdY=;
 b=JmZ7tngMJOjM3LV0D5HVmxDns3J1jX4ZwtIsZN0DuHnqJJOvbbfk0axv9f3W3jl0cD
 VsB7gH8UDgYH1dtrTN1stSa8+TlGvQsSi2e2OwWHZ2tAohI+gu51Me0DK9ZOSr3fOPOE
 BkhqdotnaVdm5mm7I8ocqiPkVE1k/wLSaXA88=
X-Google-DKIM-Signature: v=1; a=rsa-sha256; c=relaxed/relaxed;
 d=1e100.net; s=20230601; t=1742826616; x=1743431416;
 h=references:in-reply-to:cc:to:from:subject:message-id:date
 :x-gm-message-state:from:to:cc:subject:date:message-id:reply-to;
 bh=JD3mHK0+nrk2c3EcQeXnIfFXMKCCxP2Zv7hWT+KhAdY=;
 b=l8DrpXaAgGvMO4mtDcFcwGNoQ2RgH4jDdyu1vZbVF4zSa5vNurRGhHAZES+lqpAnDT
 2Ra8nZoVSxJyMjTDQcbWQyvMiO/y97FiEuEU9+VTBc7DxxG+15ISToM8Wwf04mpXGw7Y
 4CKg3zETZRrTJnFb0cg6mnBgrwMPimKhf2B9KstDRF3isO4wHBaBX5xyQCmKL3a5ncKD
 8LbcwmebJKORagygE/x6ZuKxcBARkzV+AyuOfyTqUm08MiFGz4vomQTFmxkb7HH7n8o7
 La3dDdzSF8+YGxompdXVuPWUrGqJwWGe5nf5Vxy7bIJHDGD2v1z6we84ZFLwaXvqLykJ
 XpVQ==
X-Gm-Message-State: AOJu0YxanmtpTBAnAfASKfBjkKzyzQCICl/Q9bdWv7KXiC8hwJjkaBjZ
 jbsvcvr6w+fKQpFdgmA99UoQTGzxpHh+HACBqTwWQs2KDIpxHHPSVYZk8RotnCwPURXEsL7BK6A
 YvOCX4tISHzQ4ju4a2EV16elus5X252+KYIxVPEfh
X-Gm-Gg: ASbGncv4ShRiIlNilSANvK3aq5TV2MmfMvT72VWUfncKJ5eEPxEXGyjFMYbA/3q/mms
 UryJnbXWUhh2u/msUHHZODrdT+KLusOkyjn+GHfeH6d7Xb97dQqLJ/0muRfDjf++inUJMtdDdUw
 c2lM2kotTdhZtxvo03oP3SXXeVqj+y+oq+wWfOMBJThbfQLsbTqrJ7TuVKVlXSF4MrMcJ83pm+w
 HHzwKQKTXoxgaGE83fgDvQOczyNe8Qpxgbvo4y4naHcT69GPiVK0sA5ob25AcMefucE/ULNP0LZ
 cvCc+pkLuUbIjrV1EPKx+7PAfbcwFgbxWZlW/18U
X-Google-Smtp-Source: AGHT+IFDklQdoGt90JksHFZyIcMZAguYIM0QilM6E3seTfk18QCUYOZnAjGlRyaQP+1NEodQPBl8L/SU5Dth
X-Received: by 2002:a05:6902:1684:b0:e60:9cf7:2732 with SMTP id
 3f1490d57ef6-e66a4f77d8dmr17721149276.33.1742826616132; 
 Mon, 24 Mar 2025 07:30:16 -0700 (PDT)
Received: from postal.iol.unh.edu (postal.iol.unh.edu. [132.177.123.84])
 by smtp-relay.gmail.com with ESMTPS id
 3f1490d57ef6-e66a4264d00sm363419276.15.2025.03.24.07.30.16
 (version=TLS1_2 cipher=ECDHE-ECDSA-AES128-GCM-SHA256 bits=128/128);
 Mon, 24 Mar 2025 07:30:16 -0700 (PDT)
X-Relaying-Domain: iol.unh.edu
Date: Mon, 24 Mar 2025 07:30:16 -0700 (PDT)
Message-ID: <67e16c78.250a0220.2f51ea.5fdaSMTPIN_ADDED_MISSING@mx.google.com>
Received: from [172.17.0.5] (unknown [172.18.0.217])
 by postal.iol.unh.edu (Postfix) with ESMTP id 73A436052471;
 Mon, 24 Mar 2025 10:30:15 -0400 (EDT)
Subject: |WARNING| pw152531 [PATCH] [v2] raw/cnxk_gpio: switch to character b
From: dpdklab@iol.unh.edu
To: Test Report <test-report@dpdk.org>
Cc: dpdk-test-reports@iol.unh.edu
In-Reply-To: <20250324082848.1361839-1-tduszynski@marvell.com>
References: <20250324082848.1361839-1-tduszynski@marvell.com>
Content-Type: text/plain
X-BeenThere: test-report@dpdk.org
X-Mailman-Version: 2.1.29
Precedence: list
List-Id: automatic DPDK test reports <test-report.dpdk.org>
List-Unsubscribe: <https://mails.dpdk.org/options/test-report>,
 <mailto:test-report-request@dpdk.org?subject=unsubscribe>
List-Archive: <http://mails.dpdk.org/archives/test-report/>
List-Post: <mailto:test-report@dpdk.org>
List-Help: <mailto:test-report-request@dpdk.org?subject=help>
List-Subscribe: <https://mails.dpdk.org/listinfo/test-report>,
 <mailto:test-report-request@dpdk.org?subject=subscribe>
Errors-To: test-report-bounces@dpdk.org

Test-Label: iol-sample-apps-testing
Test-Status: WARNING
http://dpdk.org/patch/152531

_Testing issues_

Submitter: Tomasz Duszynski <tduszynski@marvell.com>
Date: Monday, March 24 2025 08:28:48 
DPDK git baseline: Repo:dpdk
  Branch: master
  CommitID:5f37ee9c859f3ce08ca4364f1d8c0e70ec33ac83

152531 --> testing issues

Upstream job id: ACVP-FIPS-testing#9347

Test environment and result as below:

+--------------------+----------------------+----------------------+
|    Environment     | compressdev_zlib_pmd | dpdk_fips_validation |
+====================+======================+======================+
| Ubuntu 22.04 (ARM) | PASS                 | SKIPPED              |
+--------------------+----------------------+----------------------+
| Ubuntu 22.04       | PASS                 | SKIPPED              |
+--------------------+----------------------+----------------------+
| Ubuntu 20.04       | SKIPPED              | WARN                 |
+--------------------+----------------------+----------------------+

==== 20 line log output for Ubuntu 20.04 (dpdk_fips_validation): ====
71 |   CNXK_GPIO_LOG(ERR, "event from gpio%d instead of gpio%d", event->offset, gpio);
|   ^~~~~~~~~~~~~
[2321/3204] Compiling C object drivers/libtmp_rte_raw_cnxk_gpio.a.p/raw_cnxk_gpio_cnxk_gpio.c.o
[2322/3204] Compiling C object drivers/librte_net_virtio.so.25.1.p/meson-generated_.._rte_net_virtio.pmd.c.o
[2323/3204] Linking static target drivers/librte_net_virtio.a
[2324/3204] Generating rte_raw_cnxk_bphy.pmd.c with a custom command
[2325/3204] Compiling C object drivers/libtmp_rte_raw_dpaa2_cmdif.a.p/raw_dpaa2_cmdif_dpaa2_cmdif.c.o
[2326/3204] Compiling C object drivers/libtmp_rte_crypto_bcmfs.a.p/crypto_bcmfs_bcmfs_vfio.c.o
[2327/3204] Compiling C object drivers/libtmp_rte_raw_ntb.a.p/raw_ntb_ntb_hw_intel.c.o
[2328/3204] Generating rte_net_zxdh.pmd.c with a custom command
[2329/3204] Compiling C object drivers/libtmp_rte_raw_cnxk_rvu_lf.a.p/raw_cnxk_rvu_lf_cnxk_rvu_lf.c.o
[2330/3204] Compiling C object drivers/libtmp_rte_raw_gdtc.a.p/raw_gdtc_gdtc_rawdev.c.o
[2331/3204] Compiling C object drivers/libtmp_rte_crypto_bcmfs.a.p/crypto_bcmfs_bcmfs_qp.c.o
[2332/3204] Compiling C object drivers/libtmp_rte_raw_skeleton.a.p/raw_skeleton_skeleton_rawdev.c.o
[2333/3204] Compiling C object drivers/libtmp_rte_crypto_bcmfs.a.p/crypto_bcmfs_bcmfs_device.c.o
[2334/3204] Compiling C object drivers/libtmp_rte_raw_skeleton.a.p/raw_skeleton_skeleton_rawdev_test.c.o
[2335/3204] Compiling C object drivers/libtmp_rte_crypto_bcmfs.a.p/crypto_bcmfs_hw_bcmfs4_rm.c.o
[2336/3204] Compiling C object drivers/libtmp_rte_crypto_bcmfs.a.p/crypto_bcmfs_hw_bcmfs5_rm.c.o
[2337/3204] Compiling C object drivers/libtmp_rte_raw_ntb.a.p/raw_ntb_ntb.c.o
ninja: build stopped: subcommand failed.
==== End log output ====

Ubuntu 22.04 (ARM)
	Kernel: 5.15.0-97-generic
	Compiler: gcc gcc (Ubuntu 11.4.0-1ubuntu1~22.04) 11.4.0

Ubuntu 22.04
	Kernel: 5.15.0-100-generic
	Compiler: gcc gcc (Ubuntu 11.4.0-1ubuntu1~22.04) 11.4.0

Ubuntu 20.04
	Kernel: Depends on container host
	Compiler: gcc (Ubuntu 9.4.0-1ubuntu1~20.04.2) 9.4.0

To view detailed results, visit:
https://lab.dpdk.org/results/dashboard/patchsets/32871/

UNH-IOL DPDK Community Lab

To manage your email subscriptions, visit: 
https://lab.dpdk.org/results/dashboard/preferences/subscriptions/