From mboxrd@z Thu Jan  1 00:00:00 1970
Return-Path: <test-report-bounces@dpdk.org>
Received: from mails.dpdk.org (mails.dpdk.org [217.70.189.124])
	by inbox.dpdk.org (Postfix) with ESMTP id 30DD74647B
	for <public@inbox.dpdk.org>; Tue, 25 Mar 2025 18:29:02 +0100 (CET)
Received: from mails.dpdk.org (localhost [127.0.0.1])
	by mails.dpdk.org (Postfix) with ESMTP id 06B374029A;
	Tue, 25 Mar 2025 18:29:02 +0100 (CET)
Received: from mail-pl1-f228.google.com (mail-pl1-f228.google.com
 [209.85.214.228])
 by mails.dpdk.org (Postfix) with ESMTP id 65A024027C
 for <test-report@dpdk.org>; Tue, 25 Mar 2025 18:29:00 +0100 (CET)
Received: by mail-pl1-f228.google.com with SMTP id
 d9443c01a7336-227b650504fso59712055ad.0
 for <test-report@dpdk.org>; Tue, 25 Mar 2025 10:29:00 -0700 (PDT)
DKIM-Signature: v=1; a=rsa-sha256; c=relaxed/relaxed;
 d=iol.unh.edu; s=unh-iol; t=1742923739; x=1743528539; darn=dpdk.org;
 h=references:in-reply-to:cc:to:from:subject:message-id:date:from:to
 :cc:subject:date:message-id:reply-to;
 bh=4pqjcJx3YKEmP+By+t5ch4HX0ocfxx2MzSUfInjIQ+M=;
 b=MCNh2lSQspmzpKPegghqn20+yEcTqTzYgwu9Ib8HS0UvXQT+V95t/g7TZ9OQWdThPn
 lh49VaNAXLiFUAlDZgFpzXn5/Q9frk/+XLxphg8bkEcaVqVSeILeOs2VtdMyRIlCf4x8
 hFqHOngNHnSBDvv8SRQCTpQYON+fUESztBd6A=
X-Google-DKIM-Signature: v=1; a=rsa-sha256; c=relaxed/relaxed;
 d=1e100.net; s=20230601; t=1742923739; x=1743528539;
 h=references:in-reply-to:cc:to:from:subject:message-id:date
 :x-gm-message-state:from:to:cc:subject:date:message-id:reply-to;
 bh=4pqjcJx3YKEmP+By+t5ch4HX0ocfxx2MzSUfInjIQ+M=;
 b=S4q9vqxobf4JniLoQ2tektRx00R6/eo5Gxb26dzRsDb4tY2Hge9xZiVf+Qn3x7o4af
 +wqebCgjfQwcOwKXAdX7GY4Zg4YFnxhfzDSK2YUyPokphVtMhHOXX+ievIoQ4oj6B+VB
 5Iiu/JxEAPmf41JZ9ewnuDOS5pPHeUNNaZFZvklt/XwYpD7mCnkOEBKirg4XLpZ3E6+i
 pLPM9EmviH3AYcPYQoluHGTUMaiAcTgrIa+y2LjMVWWYzxru0Kth9cn/y7S52GjTRqAU
 DWxDLai91fli+964hQb6tX9so4ESHD8P2ptt7ywvDTccrsgY3Ou/qVtx3B4l7yy1erD0
 Bngg==
X-Gm-Message-State: AOJu0YxxYndZ5Hzsi1HhDs+Szy/LC+jpfzF+ftOcHhehvm3VKdYMMmcz
 hjUli3qbwPRuWGB+eSeX8eXdor34KmXUv1hOJj4DDhN8WqXqJvhg1usof8QDRqV6rWVgNeCkkeO
 fuiSmoAxdXh1D1vEbgdNA+/FV5pV6G3ez3p8jl5P8nYUEO35lcyA3M6v/
X-Gm-Gg: ASbGncspJw7i+O1wrt3kBISv8T/cJj5gKsK1x50/6yu4h2xXG3YXsSKeoudJu/Kw3ZB
 YM24/uTlrhyZq9zBFE8X60wB/M/5QuBg3pq8Rz6Lh6LPCeXeE5iWT5YbqDPX04Q2jl7+VtdpL7P
 h0xi4gs9dUx93d0ooyC4iZxavAoh+Ay1tobVh/Pr6NPO5pUR8xUWpKEf+YTepnJbzMxq84J0QN5
 zswMOtcm1nlPWpasbn6ZN7qUFtKF5rnhoR7jiZ3CsixVK/PZYzndWLQ+fHrR1+EkyQJx9nSp2sZ
 xo8MODm8fe8kuRJdjGYRIpXnDADcuY4EsimhMogY65kziLQdUPDu
X-Google-Smtp-Source: AGHT+IFTUGEC2JGcbltCX8xXk0fdTY4KufV3VJgbAsds2+spTPxWD6T9iSKtE0+Pba9vMHqfGycjp/NwMm4V
X-Received: by 2002:a17:903:18c:b0:220:d909:1734 with SMTP id
 d9443c01a7336-22780c7a955mr243764395ad.14.1742923739271; 
 Tue, 25 Mar 2025 10:28:59 -0700 (PDT)
Received: from postal.iol.unh.edu (postal.iol.unh.edu.
 [2606:4100:3880:1234::84]) by smtp-relay.gmail.com with ESMTPS id
 d9443c01a7336-22780f13e6csm3936925ad.35.2025.03.25.10.28.59
 (version=TLS1_2 cipher=ECDHE-ECDSA-AES128-GCM-SHA256 bits=128/128);
 Tue, 25 Mar 2025 10:28:59 -0700 (PDT)
X-Relaying-Domain: iol.unh.edu
Date: Tue, 25 Mar 2025 10:28:59 -0700 (PDT)
Message-ID: <67e2e7db.170a0220.253fa6.6958SMTPIN_ADDED_MISSING@mx.google.com>
Received: from [172.21.0.5] (unknown [172.18.0.240])
 by postal.iol.unh.edu (Postfix) with ESMTP id 716366052471;
 Tue, 25 Mar 2025 13:28:58 -0400 (EDT)
Subject: |SUCCESS| pw152549-152559 [PATCH] [v5,11/11] member: use common AVX5
From: dpdklab@iol.unh.edu
To: Test Report <test-report@dpdk.org>
Cc: dpdk-test-reports@iol.unh.edu
In-Reply-To: <20250325160254.1724560-12-bruce.richardson@intel.com>
References: <20250325160254.1724560-12-bruce.richardson@intel.com>
Content-Type: text/plain
X-BeenThere: test-report@dpdk.org
X-Mailman-Version: 2.1.29
Precedence: list
List-Id: automatic DPDK test reports <test-report.dpdk.org>
List-Unsubscribe: <https://mails.dpdk.org/options/test-report>,
 <mailto:test-report-request@dpdk.org?subject=unsubscribe>
List-Archive: <http://mails.dpdk.org/archives/test-report/>
List-Post: <mailto:test-report@dpdk.org>
List-Help: <mailto:test-report-request@dpdk.org?subject=help>
List-Subscribe: <https://mails.dpdk.org/listinfo/test-report>,
 <mailto:test-report-request@dpdk.org?subject=subscribe>
Errors-To: test-report-bounces@dpdk.org

Test-Label: iol-unit-arm64-testing
Test-Status: SUCCESS
http://dpdk.org/patch/152559

_Testing PASS_

Submitter: Bruce Richardson <bruce.richardson@intel.com>
Date: Tuesday, March 25 2025 16:02:53 
DPDK git baseline: Repo:dpdk
  Branch: master
  CommitID:fa3aca8a525decfd12bd5fa01ebc98789d5f7278

152549-152559 --> testing pass

Upstream job id: Generic-Unit-Test-DPDK#326464

Test environment and result as below:

+-----------------------------+----------------+---------------------------+--------------+------------------------------+
|         Environment         | dpdk_unit_test | cryptodev_sw_zuc_autotest | lpm_autotest | cryptodev_sw_snow3g_autotest |
+=============================+================+===========================+==============+==============================+
| 32-bit Ubuntu 22.04.4 (ARM) | PASS           | SKIPPED                   | SKIPPED      | SKIPPED                      |
+-----------------------------+----------------+---------------------------+--------------+------------------------------+
| CentOS Stream 9 (ARM)       | PASS           | SKIPPED                   | SKIPPED      | SKIPPED                      |
+-----------------------------+----------------+---------------------------+--------------+------------------------------+
| CentOS Stream 10 (ARM)      | PASS           | SKIPPED                   | SKIPPED      | SKIPPED                      |
+-----------------------------+----------------+---------------------------+--------------+------------------------------+
| Fedora 41 (ARM)             | PASS           | SKIPPED                   | SKIPPED      | SKIPPED                      |
+-----------------------------+----------------+---------------------------+--------------+------------------------------+
| Fedora 40 (ARM Clang)       | PASS           | SKIPPED                   | SKIPPED      | SKIPPED                      |
+-----------------------------+----------------+---------------------------+--------------+------------------------------+
| RHEL9 (ARM)                 | PASS           | SKIPPED                   | SKIPPED      | SKIPPED                      |
+-----------------------------+----------------+---------------------------+--------------+------------------------------+
| Fedora 40 (ARM)             | PASS           | SKIPPED                   | SKIPPED      | SKIPPED                      |
+-----------------------------+----------------+---------------------------+--------------+------------------------------+
| Fedora 41 (ARM Clang)       | PASS           | SKIPPED                   | SKIPPED      | SKIPPED                      |
+-----------------------------+----------------+---------------------------+--------------+------------------------------+
| Debian 12 (arm)             | PASS           | PASS                      | SKIPPED      | PASS                         |
+-----------------------------+----------------+---------------------------+--------------+------------------------------+
| Ubuntu 20.04 (ARM)          | PASS           | SKIPPED                   | SKIPPED      | SKIPPED                      |
+-----------------------------+----------------+---------------------------+--------------+------------------------------+
| Ubuntu 22.04 (ARM)          | PASS           | SKIPPED                   | SKIPPED      | SKIPPED                      |
+-----------------------------+----------------+---------------------------+--------------+------------------------------+
| Ubuntu 24.04 (ARM)          | PASS           | SKIPPED                   | SKIPPED      | SKIPPED                      |
+-----------------------------+----------------+---------------------------+--------------+------------------------------+
| Ubuntu 20.04 ARM SVE        | SKIPPED        | SKIPPED                   | PASS         | SKIPPED                      |
+-----------------------------+----------------+---------------------------+--------------+------------------------------+


32-bit Ubuntu 22.04.4 (ARM)
	Kernel: 5.15.83+ aarch64
	Compiler: gcc (Ubuntu 11.4.0-1ubuntu1~22.04) 11.4.0

CentOS Stream 9 (ARM)
	Kernel: Depends on container host
	Compiler: gcc 11.5.0 20240719 (Red Hat 11.5.0-2)

CentOS Stream 10 (ARM)
	Kernel: Depends on container host
	Compiler: gcc 14.2.1 20241104 (Red Hat 14.2.1-6)

Fedora 41 (ARM)
	Kernel: Depends on container host
	Compiler: gcc 14.2.1 20240912 (Red Hat 14.2.1-3)

Fedora 40 (ARM Clang)
	Kernel: Depends on container host
	Compiler: clang 18.1.8 (Fedora 18.1.8-1.fc40)

RHEL9 (ARM)
	Kernel: Depends on container host
	Compiler: gcc 11.5.0 20240719 (Red Hat 11.5.0-2)

Fedora 40 (ARM)
	Kernel: Depends on container host
	Compiler: gcc 14.2.1 20240912 (Red Hat 14.2.1-3)

Fedora 41 (ARM Clang)
	Kernel: Depends on container host
	Compiler: clang 19.1.5 (Fedora 19.1.5-1.fc41)

Debian 12 (arm)
	Kernel: Depends on container host
	Compiler: gcc (Debian 12.2.0-14) 12.2.0

Ubuntu 20.04 (ARM)
	Kernel: Depends on container host
	Compiler: gcc (Ubuntu 9.4.0-1ubuntu1~20.04.2) 9.4.0

Ubuntu 22.04 (ARM)
	Kernel: Depends on container host
	Compiler: gcc (Ubuntu 11.4.0-1ubuntu1~22.04) 11.4.0

Ubuntu 24.04 (ARM)
	Kernel: Depends on container host
	Compiler: gcc (Ubuntu 13.3.0-6ubuntu2~24.04) 13.3.0

Ubuntu 20.04 ARM SVE
	Kernel: Depends on container host
	Compiler: gcc (Ubuntu 10.5.0-1ubuntu1~20.04) 10.5.0

To view detailed results, visit:
https://lab.dpdk.org/results/dashboard/patchsets/32880/

UNH-IOL DPDK Community Lab

To manage your email subscriptions, visit: 
https://lab.dpdk.org/results/dashboard/preferences/subscriptions/