From mboxrd@z Thu Jan  1 00:00:00 1970
Return-Path: <test-report-bounces@dpdk.org>
Received: from mails.dpdk.org (mails.dpdk.org [217.70.189.124])
	by inbox.dpdk.org (Postfix) with ESMTP id BB5E84648F
	for <public@inbox.dpdk.org>; Thu, 27 Mar 2025 08:38:07 +0100 (CET)
Received: from mails.dpdk.org (localhost [127.0.0.1])
	by mails.dpdk.org (Postfix) with ESMTP id 97C5540275;
	Thu, 27 Mar 2025 08:38:06 +0100 (CET)
Received: from mail-io1-f99.google.com (mail-io1-f99.google.com
 [209.85.166.99]) by mails.dpdk.org (Postfix) with ESMTP id 189A540261
 for <test-report@dpdk.org>; Thu, 27 Mar 2025 08:38:05 +0100 (CET)
Received: by mail-io1-f99.google.com with SMTP id
 ca18e2360f4ac-85e751cffbeso61361939f.0
 for <test-report@dpdk.org>; Thu, 27 Mar 2025 00:38:05 -0700 (PDT)
DKIM-Signature: v=1; a=rsa-sha256; c=relaxed/relaxed;
 d=iol.unh.edu; s=unh-iol; t=1743061084; x=1743665884; darn=dpdk.org;
 h=cc:to:from:subject:message-id:date:from:to:cc:subject:date
 :message-id:reply-to;
 bh=q0fgk24WFZ/NnOnAn92CCTU3XDe082fpNlM8mo8qpa4=;
 b=B+J146rnArmrVJxC0ntu6d47qJcys3Q25kzTHlD6XnBofUPP049cOZYjcmdtdsvFRJ
 11r1MNiiCeyBUgwhRCw/kwlAY1wkPpqMAeAKf4IDKprhdQA1TQRGelRklCh48oAYqNYZ
 AstAPZNZCOzgoV/HkmNKe0KNkHdibgEPx95Xo=
X-Google-DKIM-Signature: v=1; a=rsa-sha256; c=relaxed/relaxed;
 d=1e100.net; s=20230601; t=1743061084; x=1743665884;
 h=cc:to:from:subject:message-id:date:x-gm-message-state:from:to:cc
 :subject:date:message-id:reply-to;
 bh=q0fgk24WFZ/NnOnAn92CCTU3XDe082fpNlM8mo8qpa4=;
 b=vBBTgPQMivIZWhhB9ECqIWzSUqk01urGgXsy+/N4/zzRRnrmyZfhHBK/SeFFibmjd9
 xss+/7dgk4SwqfUUFDhZQm8Q6cPUYHaNAx+md9N1U29x9zSDlk7gdW7Of3mI1UyQCMP8
 TlXJdbEcH9YwNn/MZbTYVjgDdvxNqXlXT2dnnin+Jxh3xjgLy6Cn4lUrmrz29Jc594/L
 t7QhrrQPVu7MS7305WDVT3b2QkXcLuVnm3hOjNTv/Bn0megxM/gLILjqqZ7h77r9pinX
 EHkaJ1h8oSIzLRl/O65+3DNUJJgD3OtBV9OPCAigY7aHUyyCLooRc2XDIW+8/sOCZZgM
 vAYA==
X-Gm-Message-State: AOJu0YyPJR2sAcTqjrbjDWXqUQ1AppFlpi+aoz60eTX6ZDQ/1ZJnCB04
 VRxSfFmXumvxchNUbiUL4UYUBu0QXqPlNTxsXLvQVUIMNLrz5k/khJns2AtfDeVc17bMfnoceqv
 m7cpg9mkCLGmc3Yb46yaKme19os74a6Rz3phAy6KHOUgJ+0cg
X-Gm-Gg: ASbGncu4yINf6Xkm9dY6tyVeirR6Q1MZz+L1I7sxxWLUTOl1s/pbFV0RSomFc05PT7y
 y/8Mes+XCV+TjAGNvB8HD21gaUc7buLyFW2dkqugbyqBtHTs6THCYkMTBKUbL/cPzaoBub1Si6z
 osqStflC/6hvnmXBw3x8PF1d6U5DBjVzmwVRC8626oWxG/A1A2kwYB8mjuBfefvrDBowQ4lXpQW
 G4BrI90PTEwBZ8H/lbowrPud61EOzkqykE0UVVV5RG42SiT9ioRGIHRMQX5b+KdDV/shRJO0Um4
 R6hSwVfn2CRiAGZjTS2xNrQxzlWdculgkpsIbRALBNXmJOZ8Pgpm
X-Google-Smtp-Source: AGHT+IHOuIiAjTlP/DMvSppeTWE43v4tG2yp6WOJVaILkk7gb8Byzy9zsNJ7WA1xqQHVREmNEfgmeKQV/QbZ
X-Received: by 2002:a05:6e02:3398:b0:3d0:1fc4:edf0 with SMTP id
 e9e14a558f8ab-3d5cce1f4a5mr33001345ab.15.1743061084279; 
 Thu, 27 Mar 2025 00:38:04 -0700 (PDT)
Received: from postal.iol.unh.edu (postal.iol.unh.edu.
 [2606:4100:3880:1234::84]) by smtp-relay.gmail.com with ESMTPS id
 8926c6da1cb9f-4f2cbe60f17sm622070173.36.2025.03.27.00.38.04
 (version=TLS1_2 cipher=ECDHE-ECDSA-AES128-GCM-SHA256 bits=128/128);
 Thu, 27 Mar 2025 00:38:04 -0700 (PDT)
X-Relaying-Domain: iol.unh.edu
Date: Thu, 27 Mar 2025 00:38:04 -0700 (PDT)
Message-ID: <67e5005c.050a0220.b41cb.f760SMTPIN_ADDED_MISSING@mx.google.com>
Received: from [172.17.0.3] (unknown [172.18.0.217])
 by postal.iol.unh.edu (Postfix) with ESMTP id CD86C6052471;
 Thu, 27 Mar 2025 03:38:03 -0400 (EDT)
Subject: |SUCCESS| [GIT MASTER] c66daa12e76d7b4912cfb7109a761856a7a873ab
From: dpdklab@iol.unh.edu
To: Test Report <test-report@dpdk.org>
Cc: dpdk-test-reports@iol.unh.edu, Xueming Li <xuemingl@nvidia.com>,
 Christian Ehrhardt <christian.ehrhardt@canonical.com>,
 Kevin Traynor <ktraynor@redhat.com>, Luca Boccassi <bluca@debian.org>
Content-Type: text/plain
X-BeenThere: test-report@dpdk.org
X-Mailman-Version: 2.1.29
Precedence: list
List-Id: automatic DPDK test reports <test-report.dpdk.org>
List-Unsubscribe: <https://mails.dpdk.org/options/test-report>,
 <mailto:test-report-request@dpdk.org?subject=unsubscribe>
List-Archive: <http://mails.dpdk.org/archives/test-report/>
List-Post: <mailto:test-report@dpdk.org>
List-Help: <mailto:test-report-request@dpdk.org?subject=help>
List-Subscribe: <https://mails.dpdk.org/listinfo/test-report>,
 <mailto:test-report-request@dpdk.org?subject=subscribe>
Errors-To: test-report-bounces@dpdk.org

_Testing PASS_

Branch: tags/v23.11

c66daa12e76d7b4912cfb7109a761856a7a873ab --> testing pass

Upstream job id: Generic-Unit-Test-DPDK#326853

Test environment and result as below:

+---------------------+----------------+
|     Environment     | dpdk_unit_test |
+=====================+================+
| CentOS Stream 9     | PASS           |
+---------------------+----------------+
| Fedora 40           | PASS           |
+---------------------+----------------+
| Debian 12           | PASS           |
+---------------------+----------------+
| CentOS Stream 10    | PASS           |
+---------------------+----------------+
| Fedora 40 (Clang)   | PASS           |
+---------------------+----------------+
| RHEL9               | PASS           |
+---------------------+----------------+
| Fedora 41 (Clang)   | PASS           |
+---------------------+----------------+
| RHEL8               | PASS           |
+---------------------+----------------+
| Fedora 41           | PASS           |
+---------------------+----------------+
| Ubuntu 22.04        | PASS           |
+---------------------+----------------+
| Ubuntu 20.04        | PASS           |
+---------------------+----------------+
| Ubuntu 24.04        | PASS           |
+---------------------+----------------+
| Windows Server 2022 | PASS           |
+---------------------+----------------+


CentOS Stream 9
	Kernel: Depends on container host
	Compiler: gcc 11.5.0 20240719 (Red Hat 11.5.0-2)

Fedora 40
	Kernel: Depends on container host
	Compiler: gcc 14.2.1 20240912 (Red Hat 14.2.1-3)

Debian 12
	Kernel: Depends on container host
	Compiler: gcc (Debian 12.2.0-14) 12.2.0

CentOS Stream 10
	Kernel: Depends on container host
	Compiler: gcc 14.2.1 20241104 (Red Hat 14.2.1-6)

Fedora 40 (Clang)
	Kernel: Depends on container host
	Compiler: clang 18.1.8 (Fedora 18.1.8-1.fc40)

RHEL9
	Kernel: Depends on container host
	Compiler: gcc 11.5.0 20240719 (Red Hat 11.5.0-2)

Fedora 41 (Clang)
	Kernel: Depends on container host
	Compiler: clang 19.1.5 (Fedora 19.1.5-1.fc41)

RHEL8
	Kernel: Depends on container host
	Compiler: gcc 8.5.0 20210514 (Red Hat 8.5.0-22)

Fedora 41
	Kernel: Depends on container host
	Compiler: gcc 14.2.1 20240912 (Red Hat 14.2.1-3)

Ubuntu 22.04
	Kernel: Depends on container host
	Compiler: gcc (Ubuntu 11.4.0-1ubuntu1~22.04) 11.4.0

Ubuntu 20.04
	Kernel: Depends on container host
	Compiler: gcc (Ubuntu 9.4.0-1ubuntu1~20.04.2) 9.4.0

Ubuntu 24.04
	Kernel: Depends on container host
	Compiler: gcc (Ubuntu 13.3.0-6ubuntu2~24.04) 13.3.0

Windows Server 2022
	Kernel: 10.0.20348.2031
	Compiler: clang 15.0.7, gcc 14.1.0 (MinGW), and MSVC VS 19.39.33521

To view detailed results, visit:
https://lab.dpdk.org/results/dashboard/tarballs/33069/

UNH-IOL DPDK Community Lab

To manage your email subscriptions, visit: 
https://lab.dpdk.org/results/dashboard/preferences/subscriptions/