From mboxrd@z Thu Jan  1 00:00:00 1970
Return-Path: <test-report-bounces@dpdk.org>
Received: from mails.dpdk.org (mails.dpdk.org [217.70.189.124])
	by inbox.dpdk.org (Postfix) with ESMTP id 39F814646D
	for <public@inbox.dpdk.org>; Thu, 27 Mar 2025 16:29:49 +0100 (CET)
Received: from mails.dpdk.org (localhost [127.0.0.1])
	by mails.dpdk.org (Postfix) with ESMTP id 2DED540DDE;
	Thu, 27 Mar 2025 16:29:49 +0100 (CET)
Received: from mail-io1-f100.google.com (mail-io1-f100.google.com
 [209.85.166.100])
 by mails.dpdk.org (Postfix) with ESMTP id E7B5C40DD6
 for <test-report@dpdk.org>; Thu, 27 Mar 2025 16:29:47 +0100 (CET)
Received: by mail-io1-f100.google.com with SMTP id
 ca18e2360f4ac-855bd88ee2cso31296239f.0
 for <test-report@dpdk.org>; Thu, 27 Mar 2025 08:29:47 -0700 (PDT)
DKIM-Signature: v=1; a=rsa-sha256; c=relaxed/relaxed;
 d=iol.unh.edu; s=unh-iol; t=1743089387; x=1743694187; darn=dpdk.org;
 h=references:in-reply-to:cc:to:from:subject:message-id:date:from:to
 :cc:subject:date:message-id:reply-to;
 bh=gQSEmpDWOj/jCalV/hD7z8ON/BxC+kX+5XySvArwHD8=;
 b=ScCglzjOi2pdh4NS4Qk6mDnSXLHFD8Jk1X7YZk+/AbpSSquxpgj7uMqp3KDAworyta
 Lqlo1kFxe94wTfuwNcYIvvR7f7RQ7u+z6EJvFSUU7pbfCpHdcixDcaZ8+I/04g7/YLop
 ceRID4AhRxb8VuSU+hQzrKWkd/GAn0eRwtOjM=
X-Google-DKIM-Signature: v=1; a=rsa-sha256; c=relaxed/relaxed;
 d=1e100.net; s=20230601; t=1743089387; x=1743694187;
 h=references:in-reply-to:cc:to:from:subject:message-id:date
 :x-gm-message-state:from:to:cc:subject:date:message-id:reply-to;
 bh=gQSEmpDWOj/jCalV/hD7z8ON/BxC+kX+5XySvArwHD8=;
 b=kWVj558+tb4orAFw76DG76Df5UE5JUqXvg+i9grnsU9iBcGjD7CFjZEQ1BDnL2YThR
 0f94Hup0DC4ZCCTZWdP73toEZiBYg43VWKDUx3SzSGGT/E2szN7QrGOCa5rIAsFamT0+
 w3q7Bw/E2YBafFsvMfDPxM/H0ThVHXSceGILu3iIEKw78+8MKAJAS/OfXbpNp+IXKtte
 D7ez9AWAolo/j/JTOZa3wBGyRolG8FSNzWDPBWlb9L6sp+MEzYzAogb6pwcsflHhevKg
 mwRq28ebkReLlYUnwn3HZMheSD3Tf61cwLICW34/pxri9S/tm5Ce8dK4xuYf6euc5o8C
 d/aQ==
X-Gm-Message-State: AOJu0YxB1tHmo9SxN7AQQjcOe9laV2u6WC6a4XaIZnawVwvsaLf8KjJ2
 mtaYbrfArtfaiLhnjYazM+Su/cfbuattylUu5+Hk6AmEg7UoizmifFDz10Pm27QF7rHWfppNDrM
 cV+XRu9bRN1W9SJaV4rUL4bz62FO+JXu4yVD1Rm1Y
X-Gm-Gg: ASbGncuH63POsLnvqfcme7PkwHJzH0STj7RUGhiGeKSX5s4OavCAXR/KioRC2c0cQYN
 D8Q6T7Iz5WyNIPWWTkGcVVzCU3yoHBjgf3PbMxtoxtO6xq1/7roKekWAI2R2QBY3IWvU2FY+JR0
 zVW24kz8Qv6UW1pagUT68HrAMjsmQ7NRvnTvTgK/ykg1/Hz4v0Nx8nL03gLLWRGckx+BRSa40as
 UTiO6xEQ9HohJZm+5ohxZkH3ktP77CLPeJw5HIM12l3nYZMmH+T9a4SnCmX5IFReWzv0zSYp43J
 Mmu+2JPIzcujBT2hBP5PPX6/u5687k0Q9sO2TQjY
X-Google-Smtp-Source: AGHT+IF/ULO1M2qnEtzWC8H8Tjww7Pyc323IMabvyoeh0ZSkdUQqZhODMVmcikfAjskiAwGcxIrnPDqWnDq6
X-Received: by 2002:a05:6602:3798:b0:85d:f74b:f8a8 with SMTP id
 ca18e2360f4ac-85e820551afmr535375239f.2.1743089387082; 
 Thu, 27 Mar 2025 08:29:47 -0700 (PDT)
Received: from postal.iol.unh.edu (postal.iol.unh.edu. [132.177.123.84])
 by smtp-relay.gmail.com with ESMTPS id
 8926c6da1cb9f-4f464789ac8sm669173.39.2025.03.27.08.29.47
 (version=TLS1_2 cipher=ECDHE-ECDSA-AES128-GCM-SHA256 bits=128/128);
 Thu, 27 Mar 2025 08:29:47 -0700 (PDT)
X-Relaying-Domain: iol.unh.edu
Date: Thu, 27 Mar 2025 08:29:47 -0700 (PDT)
Message-ID: <67e56eeb.050a0220.3725fe.0089SMTPIN_ADDED_MISSING@mx.google.com>
Received: from [172.17.0.3] (unknown [172.18.0.217])
 by postal.iol.unh.edu (Postfix) with ESMTP id 8818E6052471;
 Thu, 27 Mar 2025 11:29:46 -0400 (EDT)
Subject: |SUCCESS| pw152604-152610 [PATCH] [v5,8/8] eal: rework function vers
From: dpdklab@iol.unh.edu
To: Test Report <test-report@dpdk.org>
Cc: dpdk-test-reports@iol.unh.edu
In-Reply-To: <20250327133638.2983276-9-david.marchand@redhat.com>
References: <20250327133638.2983276-9-david.marchand@redhat.com>
Content-Type: text/plain
X-BeenThere: test-report@dpdk.org
X-Mailman-Version: 2.1.29
Precedence: list
List-Id: automatic DPDK test reports <test-report.dpdk.org>
List-Unsubscribe: <https://mails.dpdk.org/options/test-report>,
 <mailto:test-report-request@dpdk.org?subject=unsubscribe>
List-Archive: <http://mails.dpdk.org/archives/test-report/>
List-Post: <mailto:test-report@dpdk.org>
List-Help: <mailto:test-report-request@dpdk.org?subject=help>
List-Subscribe: <https://mails.dpdk.org/listinfo/test-report>,
 <mailto:test-report-request@dpdk.org?subject=subscribe>
Errors-To: test-report-bounces@dpdk.org

Test-Label: iol-unit-arm64-testing
Test-Status: SUCCESS
http://dpdk.org/patch/152610

_Testing PASS_

Submitter: David Marchand <david.marchand@redhat.com>
Date: Thursday, March 27 2025 13:36:28 
DPDK git baseline: Repo:dpdk
  Branch: master
  CommitID:edd3f4b1265e6da707c46ca9b6c39d332647baea

152604-152610 --> testing pass

Upstream job id: Generic-Unit-Test-DPDK#326995

Test environment and result as below:

+-----------------------------+----------------+---------------------------+------------------------------+--------------+
|         Environment         | dpdk_unit_test | cryptodev_sw_zuc_autotest | cryptodev_sw_snow3g_autotest | lpm_autotest |
+=============================+================+===========================+==============================+==============+
| 32-bit Ubuntu 22.04.4 (ARM) | PASS           | SKIPPED                   | SKIPPED                      | SKIPPED      |
+-----------------------------+----------------+---------------------------+------------------------------+--------------+
| Debian 12 (arm)             | PASS           | PASS                      | PASS                         | SKIPPED      |
+-----------------------------+----------------+---------------------------+------------------------------+--------------+
| CentOS Stream 9 (ARM)       | PASS           | SKIPPED                   | SKIPPED                      | SKIPPED      |
+-----------------------------+----------------+---------------------------+------------------------------+--------------+
| CentOS Stream 10 (ARM)      | PASS           | SKIPPED                   | SKIPPED                      | SKIPPED      |
+-----------------------------+----------------+---------------------------+------------------------------+--------------+
| Fedora 40 (ARM)             | PASS           | SKIPPED                   | SKIPPED                      | SKIPPED      |
+-----------------------------+----------------+---------------------------+------------------------------+--------------+
| Fedora 41 (ARM Clang)       | PASS           | SKIPPED                   | SKIPPED                      | SKIPPED      |
+-----------------------------+----------------+---------------------------+------------------------------+--------------+
| Fedora 40 (ARM Clang)       | PASS           | SKIPPED                   | SKIPPED                      | SKIPPED      |
+-----------------------------+----------------+---------------------------+------------------------------+--------------+
| Fedora 41 (ARM)             | PASS           | SKIPPED                   | SKIPPED                      | SKIPPED      |
+-----------------------------+----------------+---------------------------+------------------------------+--------------+
| RHEL9 (ARM)                 | PASS           | SKIPPED                   | SKIPPED                      | SKIPPED      |
+-----------------------------+----------------+---------------------------+------------------------------+--------------+
| Ubuntu 22.04 (ARM)          | PASS           | SKIPPED                   | SKIPPED                      | SKIPPED      |
+-----------------------------+----------------+---------------------------+------------------------------+--------------+
| Ubuntu 20.04 (ARM)          | PASS           | SKIPPED                   | SKIPPED                      | SKIPPED      |
+-----------------------------+----------------+---------------------------+------------------------------+--------------+
| Ubuntu 24.04 (ARM)          | PASS           | SKIPPED                   | SKIPPED                      | SKIPPED      |
+-----------------------------+----------------+---------------------------+------------------------------+--------------+
| Ubuntu 20.04 ARM SVE        | SKIPPED        | SKIPPED                   | SKIPPED                      | PASS         |
+-----------------------------+----------------+---------------------------+------------------------------+--------------+


32-bit Ubuntu 22.04.4 (ARM)
	Kernel: 5.15.83+ aarch64
	Compiler: gcc (Ubuntu 11.4.0-1ubuntu1~22.04) 11.4.0

Debian 12 (arm)
	Kernel: Depends on container host
	Compiler: gcc (Debian 12.2.0-14) 12.2.0

CentOS Stream 9 (ARM)
	Kernel: Depends on container host
	Compiler: gcc 11.5.0 20240719 (Red Hat 11.5.0-2)

CentOS Stream 10 (ARM)
	Kernel: Depends on container host
	Compiler: gcc 14.2.1 20241104 (Red Hat 14.2.1-6)

Fedora 40 (ARM)
	Kernel: Depends on container host
	Compiler: gcc 14.2.1 20240912 (Red Hat 14.2.1-3)

Fedora 41 (ARM Clang)
	Kernel: Depends on container host
	Compiler: clang 19.1.5 (Fedora 19.1.5-1.fc41)

Fedora 40 (ARM Clang)
	Kernel: Depends on container host
	Compiler: clang 18.1.8 (Fedora 18.1.8-1.fc40)

Fedora 41 (ARM)
	Kernel: Depends on container host
	Compiler: gcc 14.2.1 20240912 (Red Hat 14.2.1-3)

RHEL9 (ARM)
	Kernel: Depends on container host
	Compiler: gcc 11.5.0 20240719 (Red Hat 11.5.0-2)

Ubuntu 22.04 (ARM)
	Kernel: Depends on container host
	Compiler: gcc (Ubuntu 11.4.0-1ubuntu1~22.04) 11.4.0

Ubuntu 20.04 (ARM)
	Kernel: Depends on container host
	Compiler: gcc (Ubuntu 9.4.0-1ubuntu1~20.04.2) 9.4.0

Ubuntu 24.04 (ARM)
	Kernel: Depends on container host
	Compiler: gcc (Ubuntu 13.3.0-6ubuntu2~24.04) 13.3.0

Ubuntu 20.04 ARM SVE
	Kernel: Depends on container host
	Compiler: gcc (Ubuntu 10.5.0-1ubuntu1~20.04) 10.5.0

To view detailed results, visit:
https://lab.dpdk.org/results/dashboard/patchsets/32901/

UNH-IOL DPDK Community Lab

To manage your email subscriptions, visit: 
https://lab.dpdk.org/results/dashboard/preferences/subscriptions/