From mboxrd@z Thu Jan  1 00:00:00 1970
Return-Path: <test-report-bounces@dpdk.org>
Received: from mails.dpdk.org (mails.dpdk.org [217.70.189.124])
	by inbox.dpdk.org (Postfix) with ESMTP id 8BCBD46495
	for <public@inbox.dpdk.org>; Thu, 27 Mar 2025 18:12:20 +0100 (CET)
Received: from mails.dpdk.org (localhost [127.0.0.1])
	by mails.dpdk.org (Postfix) with ESMTP id 85792406BB;
	Thu, 27 Mar 2025 18:12:20 +0100 (CET)
Received: from mail-io1-f98.google.com (mail-io1-f98.google.com
 [209.85.166.98]) by mails.dpdk.org (Postfix) with ESMTP id D732240654
 for <test-report@dpdk.org>; Thu, 27 Mar 2025 18:12:18 +0100 (CET)
Received: by mail-io1-f98.google.com with SMTP id
 ca18e2360f4ac-85b515e4521so38904839f.1
 for <test-report@dpdk.org>; Thu, 27 Mar 2025 10:12:18 -0700 (PDT)
DKIM-Signature: v=1; a=rsa-sha256; c=relaxed/relaxed;
 d=iol.unh.edu; s=unh-iol; t=1743095538; x=1743700338; darn=dpdk.org;
 h=references:in-reply-to:cc:to:from:subject:message-id:date:from:to
 :cc:subject:date:message-id:reply-to;
 bh=G3oqjrNTuE37xERwvxLP7q1R7Kwdsd2LfcWdUJmYgrU=;
 b=R6duvkE/biTvnoS5e7W95lVy6sp9q6fUmhtUPTDmx7w1EUKf0qMtLmDG+oWMdjWznF
 v0Na1NB3o8YpsvzjsDXlWoU7OSI5tI0qssm46KT0YoDaTfgXfIjGMoyQnMK2X9TlfCOC
 MIq2PWnZLucphV8HU9lryd4e/Ulu5obYPY6Tw=
X-Google-DKIM-Signature: v=1; a=rsa-sha256; c=relaxed/relaxed;
 d=1e100.net; s=20230601; t=1743095538; x=1743700338;
 h=references:in-reply-to:cc:to:from:subject:message-id:date
 :x-gm-message-state:from:to:cc:subject:date:message-id:reply-to;
 bh=G3oqjrNTuE37xERwvxLP7q1R7Kwdsd2LfcWdUJmYgrU=;
 b=Ip4OJ2gja76tbRxS9yaySnwOJGYRiNl73hxiVYT7AfHpQ24n82IBh4iGWrK7cHqW/q
 OXDlgsJmSUVrA3N6lUrFKl+rIfH9JxE4BuCBhqAFL+nrwlLZB8IWp3YWNtzvb1+5V/qc
 Sp21FIK3WxvgPKAZUPLz2/v3l1jXhqiyhMIIrIfE2vx+EHX/GYCgv3Q9+SV+zqugDPFW
 /U+5z62SCf52KmnXoLjfwgG6Hh/AdF8Ybj7pwbFs7ZmCCgy/CaeoBp2KW0n+FtCiemIa
 D8QR8++nGJWeWlY4HDAYnRVAWk/gb4u2UUTdotsxR6kA1GwOAPcdDyeMwdpY5xzl/GTV
 oknA==
X-Gm-Message-State: AOJu0YxoPd+kWxVmRwPwpC5HihC71EfimBokaQsYCLIwHpiUmXi40D3z
 WVvZV4z0VP8cQ0SaL1L2pJKkc+7CKXzAMbPTuE3boJWcdc4pyYCXTCpT06WiZwAQccKbV5yA6+d
 czwc32ZOtmEsWKjquvVevwxVjHBHE2RvDBm+sxe2Y
X-Gm-Gg: ASbGnctrRkCKn2q8ZqFldMe9SI4YtS1EOd4J7/dxUSGHCrfMzuQK44+tZ7GdBzPSJ0e
 R7puSpbsG1ez576+zzUwYjdsfkCyTq2desQbKONIZURYZOtS8OXdBn7pNYitX3BwsnZGjo1Gi7d
 XcwZS3HaE9VDRKLcZMJiq9/bHkKx8Smi9TWhTAEjx64MP/SwzPJP2r8XUUSCLOoZmLMCGXRiLRn
 jmOPVgyg6Yx6wvuWCXgcVUnvHxRajvfPllaQcrXAFfscIN/ZMCs9DPUhikQp/Gq5DrRX2wp196Y
 F4HwPLXTfsgnypFCjg0961PTI58/hEZlIDbmlcyN
X-Google-Smtp-Source: AGHT+IH0JNnZmN9qdGyJ6BEh2T9KOPnACBKvje+PujRK5BGlGaE9LsgFf2lArPKCpExPne8FPPsODESjkRIW
X-Received: by 2002:a05:6602:408c:b0:85b:5869:b66 with SMTP id
 ca18e2360f4ac-85e8200a4d4mr601070939f.1.1743095537783; 
 Thu, 27 Mar 2025 10:12:17 -0700 (PDT)
Received: from postal.iol.unh.edu (postal.iol.unh.edu. [132.177.123.84])
 by smtp-relay.gmail.com with ESMTPS id
 8926c6da1cb9f-4f46471eb3fsm23933173.5.2025.03.27.10.12.17
 (version=TLS1_2 cipher=ECDHE-ECDSA-AES128-GCM-SHA256 bits=128/128);
 Thu, 27 Mar 2025 10:12:17 -0700 (PDT)
X-Relaying-Domain: iol.unh.edu
Date: Thu, 27 Mar 2025 10:12:17 -0700 (PDT)
Message-ID: <67e586f1.050a0220.104d82.0811SMTPIN_ADDED_MISSING@mx.google.com>
Received: from [172.17.0.4] (unknown [172.18.0.217])
 by postal.iol.unh.edu (Postfix) with ESMTP id 423016052471;
 Thu, 27 Mar 2025 13:12:17 -0400 (EDT)
Subject: |SUCCESS| pw152602 [PATCH] cnxk: use stdatomic API
From: dpdklab@iol.unh.edu
To: Test Report <test-report@dpdk.org>
Cc: dpdk-test-reports@iol.unh.edu
In-Reply-To: <20250327111120.1641-1-pbhagavatula@marvell.com>
References: <20250327111120.1641-1-pbhagavatula@marvell.com>
Content-Type: text/plain
X-BeenThere: test-report@dpdk.org
X-Mailman-Version: 2.1.29
Precedence: list
List-Id: automatic DPDK test reports <test-report.dpdk.org>
List-Unsubscribe: <https://mails.dpdk.org/options/test-report>,
 <mailto:test-report-request@dpdk.org?subject=unsubscribe>
List-Archive: <http://mails.dpdk.org/archives/test-report/>
List-Post: <mailto:test-report@dpdk.org>
List-Help: <mailto:test-report-request@dpdk.org?subject=help>
List-Subscribe: <https://mails.dpdk.org/listinfo/test-report>,
 <mailto:test-report-request@dpdk.org?subject=subscribe>
Errors-To: test-report-bounces@dpdk.org

Test-Label: iol-unit-amd64-testing
Test-Status: SUCCESS
http://dpdk.org/patch/152602

_Testing PASS_

Submitter: Pavan Nikhilesh Bhagavatula <pbhagavatula@marvell.com>
Date: Thursday, March 27 2025 11:11:20 
DPDK git baseline: Repo:dpdk
  Branch: master
  CommitID:edd3f4b1265e6da707c46ca9b6c39d332647baea

152602 --> testing pass

Upstream job id: Generic-Unit-Test-DPDK#327044

Test environment and result as below:

+-------------------+----------------+
|    Environment    | dpdk_unit_test |
+===================+================+
| CentOS Stream 9   | PASS           |
+-------------------+----------------+
| CentOS Stream 10  | PASS           |
+-------------------+----------------+
| Debian 12         | PASS           |
+-------------------+----------------+
| Fedora 40 (Clang) | PASS           |
+-------------------+----------------+
| Fedora 40         | PASS           |
+-------------------+----------------+
| Fedora 41         | PASS           |
+-------------------+----------------+
| Fedora 41 (Clang) | PASS           |
+-------------------+----------------+
| RHEL8             | PASS           |
+-------------------+----------------+
| Ubuntu 22.04      | PASS           |
+-------------------+----------------+
| Ubuntu 24.04      | PASS           |
+-------------------+----------------+
| Ubuntu 20.04      | PASS           |
+-------------------+----------------+
| RHEL9             | PASS           |
+-------------------+----------------+


CentOS Stream 9
	Kernel: Depends on container host
	Compiler: gcc 11.5.0 20240719 (Red Hat 11.5.0-2)

CentOS Stream 10
	Kernel: Depends on container host
	Compiler: gcc 14.2.1 20241104 (Red Hat 14.2.1-6)

Debian 12
	Kernel: Depends on container host
	Compiler: gcc (Debian 12.2.0-14) 12.2.0

Fedora 40 (Clang)
	Kernel: Depends on container host
	Compiler: clang 18.1.8 (Fedora 18.1.8-1.fc40)

Fedora 40
	Kernel: Depends on container host
	Compiler: gcc 14.2.1 20240912 (Red Hat 14.2.1-3)

Fedora 41
	Kernel: Depends on container host
	Compiler: gcc 14.2.1 20240912 (Red Hat 14.2.1-3)

Fedora 41 (Clang)
	Kernel: Depends on container host
	Compiler: clang 19.1.5 (Fedora 19.1.5-1.fc41)

RHEL8
	Kernel: Depends on container host
	Compiler: gcc 8.5.0 20210514 (Red Hat 8.5.0-22)

Ubuntu 22.04
	Kernel: Depends on container host
	Compiler: gcc (Ubuntu 11.4.0-1ubuntu1~22.04) 11.4.0

Ubuntu 24.04
	Kernel: Depends on container host
	Compiler: gcc (Ubuntu 13.3.0-6ubuntu2~24.04) 13.3.0

Ubuntu 20.04
	Kernel: Depends on container host
	Compiler: gcc (Ubuntu 9.4.0-1ubuntu1~20.04.2) 9.4.0

RHEL9
	Kernel: Depends on container host
	Compiler: gcc 11.5.0 20240719 (Red Hat 11.5.0-2)

To view detailed results, visit:
https://lab.dpdk.org/results/dashboard/patchsets/32899/

UNH-IOL DPDK Community Lab

To manage your email subscriptions, visit: 
https://lab.dpdk.org/results/dashboard/preferences/subscriptions/