From mboxrd@z Thu Jan  1 00:00:00 1970
Return-Path: <test-report-bounces@dpdk.org>
Received: from mails.dpdk.org (mails.dpdk.org [217.70.189.124])
	by inbox.dpdk.org (Postfix) with ESMTP id A201046495
	for <public@inbox.dpdk.org>; Thu, 27 Mar 2025 20:15:41 +0100 (CET)
Received: from mails.dpdk.org (localhost [127.0.0.1])
	by mails.dpdk.org (Postfix) with ESMTP id 8765640654;
	Thu, 27 Mar 2025 20:15:41 +0100 (CET)
Received: from mail-il1-f227.google.com (mail-il1-f227.google.com
 [209.85.166.227])
 by mails.dpdk.org (Postfix) with ESMTP id 520C0402A7
 for <test-report@dpdk.org>; Thu, 27 Mar 2025 20:15:40 +0100 (CET)
Received: by mail-il1-f227.google.com with SMTP id
 e9e14a558f8ab-3d58908c43fso3725195ab.0
 for <test-report@dpdk.org>; Thu, 27 Mar 2025 12:15:40 -0700 (PDT)
DKIM-Signature: v=1; a=rsa-sha256; c=relaxed/relaxed;
 d=iol.unh.edu; s=unh-iol; t=1743102939; x=1743707739; darn=dpdk.org;
 h=references:in-reply-to:cc:to:from:subject:message-id:date:from:to
 :cc:subject:date:message-id:reply-to;
 bh=mjd2/j4U6Om/beFcmgB1N0PmdxhJN1GNHnRWAiKUEo0=;
 b=CnNiFTJ42L10I7P6i1NtzsUS9hEAOiJSlya3QkF+0W6TiSEcaTMK9WZHVyvZKgidSU
 HgOF4JvQiGf5+tahJhL9ZzSVcQvvb+pZ9Tj9crmas/epraYq2LlytfZlo3stMU8QfupI
 VLPfOKd2V6uEC6QEkC6WkeKqwd7xOt1ikcU/s=
X-Google-DKIM-Signature: v=1; a=rsa-sha256; c=relaxed/relaxed;
 d=1e100.net; s=20230601; t=1743102939; x=1743707739;
 h=references:in-reply-to:cc:to:from:subject:message-id:date
 :x-gm-message-state:from:to:cc:subject:date:message-id:reply-to;
 bh=mjd2/j4U6Om/beFcmgB1N0PmdxhJN1GNHnRWAiKUEo0=;
 b=LtG8JCFM0OnljYNpFWEiPPmkIgL2fkxALqQpFEtbDxLlImuBC506PlzMtj9bILjWcd
 GihoYjGExsqM0fiTuxdbScecCGTrABfxicrpLybeYX0iVUWkl8gS7cEiZsq2R+9ptHpc
 yGXuDWX1jW1Udw17lKUnLZC0SyROZVUPvKlwt1ny7nh4n9Z01Z6Iyvt7IDaPKI7QYseK
 lLjybg6rJbjn0OjJDNM0I5pJbLziqs6E1pxaCuL5LfU4Rs96B37vfhkI62UQxRY09liD
 BRKHAUXSGJMygyfItK+kv0sPcmTbDgornbPvIKFMa1knmY/ktAoezXA0OVQYDyNnQR8r
 48MA==
X-Gm-Message-State: AOJu0Yw12fD7TIzsXH40VCqX4XnWb/cdatNqgF32GJv5KMOXGJ3bh5HT
 ai1rfM6wGrLXBYtGSeMzJ7RyiFx3ppYFLSbe38Fvkh0Z1dzlQll03NCRBXN6ld92qIyVdSxOX7O
 3UlGX68TepZ29/q3BrUiJNXf13NoyH4jS8z25FjY/COL0MmshAZfoo9X+
X-Gm-Gg: ASbGncvxKjOPIecFZfYBmGhcHbsDJfMq9srAKi+vuBv+hkC5zXG55v+8ocjLavRO9SY
 5WiuTxRAyBd05lkpFf07ifuNeEEgRg4WVgGqIqmDPpcNcFdZWTtM51or1UtvXgg0Kghm9xPomSl
 oX+cpyYtXaxkQ4KFWpLsBnzw3gXNRjNfTXxEWu+P7mXKO4ubfDtKcC4OIUwbbhcPv6A/3XJcuFO
 YuRIS0ZbsssLpVO0HcAKraeXw6LQ7YmjIwAiQ6G6QbeNkdZoKGp6702lltvNkk6jBTRVuKo2Q/T
 pjEdCA5l5VTmFSawqJMpG0RPVdYBCSV1sXLPRHo4pIprkbrbhiWs
X-Google-Smtp-Source: AGHT+IEIwDtuDTDkXxvk+cVyVMx9FnBqRspgNpaniazyybtZ59GKD/rsj1q4ovOy6mtmS4fdB0f3F575oT3V
X-Received: by 2002:a05:6e02:3498:b0:3d3:fbf9:194b with SMTP id
 e9e14a558f8ab-3d5ccce808cmr52447675ab.0.1743102939409; 
 Thu, 27 Mar 2025 12:15:39 -0700 (PDT)
Received: from postal.iol.unh.edu (postal.iol.unh.edu.
 [2606:4100:3880:1234::84]) by smtp-relay.gmail.com with ESMTPS id
 e9e14a558f8ab-3d5d5a74310sm514925ab.32.2025.03.27.12.15.39
 (version=TLS1_2 cipher=ECDHE-ECDSA-AES128-GCM-SHA256 bits=128/128);
 Thu, 27 Mar 2025 12:15:39 -0700 (PDT)
X-Relaying-Domain: iol.unh.edu
Date: Thu, 27 Mar 2025 12:15:39 -0700 (PDT)
Message-ID: <67e5a3db.050a0220.834f6.0fa3SMTPIN_ADDED_MISSING@mx.google.com>
Received: from [172.17.0.3] (unknown [172.18.0.217])
 by postal.iol.unh.edu (Postfix) with ESMTP id B61236052471;
 Thu, 27 Mar 2025 15:15:38 -0400 (EDT)
Subject: |SUCCESS| pw152615-152623 [PATCH] [v3,9/9] net/intel: simplify base 
From: dpdklab@iol.unh.edu
To: Test Report <test-report@dpdk.org>
Cc: dpdk-test-reports@iol.unh.edu
In-Reply-To: <20250327145202.2220153-10-bruce.richardson@intel.com>
References: <20250327145202.2220153-10-bruce.richardson@intel.com>
Content-Type: text/plain
X-BeenThere: test-report@dpdk.org
X-Mailman-Version: 2.1.29
Precedence: list
List-Id: automatic DPDK test reports <test-report.dpdk.org>
List-Unsubscribe: <https://mails.dpdk.org/options/test-report>,
 <mailto:test-report-request@dpdk.org?subject=unsubscribe>
List-Archive: <http://mails.dpdk.org/archives/test-report/>
List-Post: <mailto:test-report@dpdk.org>
List-Help: <mailto:test-report-request@dpdk.org?subject=help>
List-Subscribe: <https://mails.dpdk.org/listinfo/test-report>,
 <mailto:test-report-request@dpdk.org?subject=subscribe>
Errors-To: test-report-bounces@dpdk.org

Test-Label: iol-unit-amd64-testing
Test-Status: SUCCESS
http://dpdk.org/patch/152623

_Testing PASS_

Submitter: Bruce Richardson <bruce.richardson@intel.com>
Date: Thursday, March 27 2025 14:52:01 
DPDK git baseline: Repo:dpdk
  Branch: master
  CommitID:6b500b1d65a0f9d56479c9c013a5faab643aaea5

152615-152623 --> testing pass

Upstream job id: Generic-Unit-Test-DPDK#327066

Test environment and result as below:

+-------------------+----------------+
|    Environment    | dpdk_unit_test |
+===================+================+
| CentOS Stream 10  | PASS           |
+-------------------+----------------+
| Debian 12         | PASS           |
+-------------------+----------------+
| CentOS Stream 9   | PASS           |
+-------------------+----------------+
| Fedora 40 (Clang) | PASS           |
+-------------------+----------------+
| Ubuntu 20.04      | PASS           |
+-------------------+----------------+
| Fedora 41 (Clang) | PASS           |
+-------------------+----------------+
| RHEL9             | PASS           |
+-------------------+----------------+
| Fedora 41         | PASS           |
+-------------------+----------------+
| Ubuntu 22.04      | PASS           |
+-------------------+----------------+
| RHEL8             | PASS           |
+-------------------+----------------+
| Fedora 40         | PASS           |
+-------------------+----------------+
| Ubuntu 24.04      | PASS           |
+-------------------+----------------+


CentOS Stream 10
	Kernel: Depends on container host
	Compiler: gcc 14.2.1 20241104 (Red Hat 14.2.1-6)

Debian 12
	Kernel: Depends on container host
	Compiler: gcc (Debian 12.2.0-14) 12.2.0

CentOS Stream 9
	Kernel: Depends on container host
	Compiler: gcc 11.5.0 20240719 (Red Hat 11.5.0-2)

Fedora 40 (Clang)
	Kernel: Depends on container host
	Compiler: clang 18.1.8 (Fedora 18.1.8-1.fc40)

Ubuntu 20.04
	Kernel: Depends on container host
	Compiler: gcc (Ubuntu 9.4.0-1ubuntu1~20.04.2) 9.4.0

Fedora 41 (Clang)
	Kernel: Depends on container host
	Compiler: clang 19.1.5 (Fedora 19.1.5-1.fc41)

RHEL9
	Kernel: Depends on container host
	Compiler: gcc 11.5.0 20240719 (Red Hat 11.5.0-2)

Fedora 41
	Kernel: Depends on container host
	Compiler: gcc 14.2.1 20240912 (Red Hat 14.2.1-3)

Ubuntu 22.04
	Kernel: Depends on container host
	Compiler: gcc (Ubuntu 11.4.0-1ubuntu1~22.04) 11.4.0

RHEL8
	Kernel: Depends on container host
	Compiler: gcc 8.5.0 20210514 (Red Hat 8.5.0-22)

Fedora 40
	Kernel: Depends on container host
	Compiler: gcc 14.2.1 20240912 (Red Hat 14.2.1-3)

Ubuntu 24.04
	Kernel: Depends on container host
	Compiler: gcc (Ubuntu 13.3.0-6ubuntu2~24.04) 13.3.0

To view detailed results, visit:
https://lab.dpdk.org/results/dashboard/patchsets/32903/

UNH-IOL DPDK Community Lab

To manage your email subscriptions, visit: 
https://lab.dpdk.org/results/dashboard/preferences/subscriptions/