From mboxrd@z Thu Jan  1 00:00:00 1970
Return-Path: <test-report-bounces@dpdk.org>
Received: from mails.dpdk.org (mails.dpdk.org [217.70.189.124])
	by inbox.dpdk.org (Postfix) with ESMTP id A6506464A1
	for <public@inbox.dpdk.org>; Fri, 28 Mar 2025 11:55:15 +0100 (CET)
Received: from mails.dpdk.org (localhost [127.0.0.1])
	by mails.dpdk.org (Postfix) with ESMTP id A236140655;
	Fri, 28 Mar 2025 11:55:15 +0100 (CET)
Received: from mail-yw1-f226.google.com (mail-yw1-f226.google.com
 [209.85.128.226])
 by mails.dpdk.org (Postfix) with ESMTP id 4DECE40652
 for <test-report@dpdk.org>; Fri, 28 Mar 2025 11:55:14 +0100 (CET)
Received: by mail-yw1-f226.google.com with SMTP id
 00721157ae682-6ef60e500d7so16329037b3.0
 for <test-report@dpdk.org>; Fri, 28 Mar 2025 03:55:14 -0700 (PDT)
DKIM-Signature: v=1; a=rsa-sha256; c=relaxed/relaxed;
 d=iol.unh.edu; s=unh-iol; t=1743159313; x=1743764113; darn=dpdk.org;
 h=references:in-reply-to:cc:to:from:subject:message-id:date:from:to
 :cc:subject:date:message-id:reply-to;
 bh=PKMurEMG2uiXOi/vXE+en67ayibsaxVO+SrpCK6/dok=;
 b=Te6qhM4IDCHbkA3z4ItVBJ3e2BgyXN3X0IRa5CJWTHF3B6nxoH2AUpWZlPgTHEIkJK
 Oz4xH5/HEHr2fOuQPezbVv9+D7BVcJDGD/e+kAsH3+bS2/4WyuJvx8lvPJPRM9PwtxlH
 vNBFV7OX915tFHpHnkrk2vMNY2nE1ZLi/0LTo=
X-Google-DKIM-Signature: v=1; a=rsa-sha256; c=relaxed/relaxed;
 d=1e100.net; s=20230601; t=1743159313; x=1743764113;
 h=references:in-reply-to:cc:to:from:subject:message-id:date
 :x-gm-message-state:from:to:cc:subject:date:message-id:reply-to;
 bh=PKMurEMG2uiXOi/vXE+en67ayibsaxVO+SrpCK6/dok=;
 b=uHQ4jQVDKKQgHLqFPFECCkJ7NPrSbOq+xFrlCzj7ehXFctYJ4g6YYBllTAfYPk4fxO
 3Yc4ot/fJ1n0aQzLXBmljlOTtnsEZc1KX+MTBJMJCXRnyyvtEh5UkqZb9roOBEqA8eCC
 gMB0EDuG6iH+EgTsOt0am6KF7ZLPAppaXyP6zxwtzVUw5EoEHNR164OMj5JVMoY6jgZa
 yung+gZIhO/EHh7XY1WpsRccZiEKHe/QEHzj6acX5ckwHPrXLRENyKpyXNTl23hk5VDt
 t6WnqlWtwH/PvPaTL3Q04rx93KtyLcx8K8Y4HcFdUweoh3rPtE7SMPj7z1KJeKLg6W0X
 1/eA==
X-Gm-Message-State: AOJu0YyTohhXhW8R9fE8Cf//psVoqGnt0ix3wWvcLyYfj0NQJ8offwZv
 ul3IlbbD5qqMGc47hu8bIA/pUdiZm6fs+1tKa0+LDsJXj3cow1KFPx3gZAfhIPKSMEQxF0TkCcx
 We5zPcTeCUIJOqx2OdcSQ/izJYl7j6TzkCPm33mup
X-Gm-Gg: ASbGncuUMEx4YoITsNT7OEbvPFKi3KhVQ+if0ogs0t2CgHyOL2A4tlgqG+gvvXFh506
 aBXhrHl6JtAy7nE73hjhh/lNleZNYRVxUNG+g2S2M1knRxCQEH/Ryx7aqZX3Ho4gvoaoFKjjFoC
 R+eNW18QeUG3eva0MRhRDYwx7zqiPPpIgtuomX8MyCWNNbDKAsZbFFUjufAgicUalr8c2jbxSPM
 xmSaIDIordaEh7l9kGHl9BYA/UxQVxOO2V0pj3rkItzJ4Ireu2orYoCERno8xGsxYXriZlSqK5y
 AZeaIdQ7af8LN0hLe+6c0IEOgIQIAoOzjBvhGaVU
X-Google-Smtp-Source: AGHT+IHy8AVaZANLIUL+GdPOXyh+W6/8fdJqOI5k9/wvjRIq7qbc6igYoaeuHueRTVP4KEid+dIPiSr0blhP
X-Received: by 2002:a05:690c:6f04:b0:6fb:8461:e828 with SMTP id
 00721157ae682-7022508ef46mr98451347b3.30.1743159313479; 
 Fri, 28 Mar 2025 03:55:13 -0700 (PDT)
Received: from postal.iol.unh.edu (postal.iol.unh.edu. [132.177.123.84])
 by smtp-relay.gmail.com with ESMTPS id
 00721157ae682-7023a3ce5f4sm1986847b3.31.2025.03.28.03.55.13
 (version=TLS1_2 cipher=ECDHE-ECDSA-AES128-GCM-SHA256 bits=128/128);
 Fri, 28 Mar 2025 03:55:13 -0700 (PDT)
X-Relaying-Domain: iol.unh.edu
Date: Fri, 28 Mar 2025 03:55:13 -0700 (PDT)
Message-ID: <67e68011.050a0220.330ab7.33dcSMTPIN_ADDED_MISSING@mx.google.com>
Received: from [172.17.0.4] (unknown [172.18.0.217])
 by postal.iol.unh.edu (Postfix) with ESMTP id 13E4A6052471;
 Fri, 28 Mar 2025 06:55:13 -0400 (EDT)
Subject: |SUCCESS| pw152634-152660 [PATCH] [v17,29/29] net/rnp: add multicast
From: dpdklab@iol.unh.edu
To: Test Report <test-report@dpdk.org>
Cc: dpdk-test-reports@iol.unh.edu
In-Reply-To: <20250328051444.1019208-30-caowenbo@mucse.com>
References: <20250328051444.1019208-30-caowenbo@mucse.com>
Content-Type: text/plain
X-BeenThere: test-report@dpdk.org
X-Mailman-Version: 2.1.29
Precedence: list
List-Id: automatic DPDK test reports <test-report.dpdk.org>
List-Unsubscribe: <https://mails.dpdk.org/options/test-report>,
 <mailto:test-report-request@dpdk.org?subject=unsubscribe>
List-Archive: <http://mails.dpdk.org/archives/test-report/>
List-Post: <mailto:test-report@dpdk.org>
List-Help: <mailto:test-report-request@dpdk.org?subject=help>
List-Subscribe: <https://mails.dpdk.org/listinfo/test-report>,
 <mailto:test-report-request@dpdk.org?subject=subscribe>
Errors-To: test-report-bounces@dpdk.org

Test-Label: iol-compile-amd64-testing
Test-Status: SUCCESS
http://dpdk.org/patch/152660

_Testing PASS_

Submitter: Wenbo Cao <caowenbo@mucse.com>
Date: Friday, March 28 2025 05:14:44 
DPDK git baseline: Repo:dpdk
  Branch: master
  CommitID:edd3f4b1265e6da707c46ca9b6c39d332647baea

152634-152660 --> testing pass

Upstream job id: Generic-DPDK-Compile-Meson#375571

Test environment and result as below:

+-----------------------------------+--------------------+-------------------+------------------+-------------------+
|            Environment            | dpdk_meson_compile | dpdk_compile_spdk | dpdk_compile_ovs | dpdk_msvc_compile |
+===================================+====================+===================+==================+===================+
| CentOS Stream 9                   | PASS               | PASS              | SKIPPED          | SKIPPED           |
+-----------------------------------+--------------------+-------------------+------------------+-------------------+
| CentOS Stream 10                  | PASS               | SKIPPED           | SKIPPED          | SKIPPED           |
+-----------------------------------+--------------------+-------------------+------------------+-------------------+
| Debian 12                         | PASS               | PASS              | SKIPPED          | SKIPPED           |
+-----------------------------------+--------------------+-------------------+------------------+-------------------+
| Fedora 41 (Clang)                 | PASS               | PASS              | PASS             | SKIPPED           |
+-----------------------------------+--------------------+-------------------+------------------+-------------------+
| Fedora 40                         | PASS               | PASS              | SKIPPED          | SKIPPED           |
+-----------------------------------+--------------------+-------------------+------------------+-------------------+
| Fedora 40 (Clang)                 | PASS               | PASS              | SKIPPED          | SKIPPED           |
+-----------------------------------+--------------------+-------------------+------------------+-------------------+
| RHEL8                             | PASS               | SKIPPED           | SKIPPED          | SKIPPED           |
+-----------------------------------+--------------------+-------------------+------------------+-------------------+
| Fedora 41                         | PASS               | PASS              | PASS             | SKIPPED           |
+-----------------------------------+--------------------+-------------------+------------------+-------------------+
| RHEL9                             | PASS               | SKIPPED           | SKIPPED          | SKIPPED           |
+-----------------------------------+--------------------+-------------------+------------------+-------------------+
| openSUSE Leap 15                  | PASS               | SKIPPED           | SKIPPED          | SKIPPED           |
+-----------------------------------+--------------------+-------------------+------------------+-------------------+
| Ubuntu 20.04                      | PASS               | SKIPPED           | SKIPPED          | SKIPPED           |
+-----------------------------------+--------------------+-------------------+------------------+-------------------+
| Ubuntu 22.04                      | PASS               | PASS              | SKIPPED          | SKIPPED           |
+-----------------------------------+--------------------+-------------------+------------------+-------------------+
| Ubuntu 24.04                      | PASS               | PASS              | PASS             | SKIPPED           |
+-----------------------------------+--------------------+-------------------+------------------+-------------------+
| Alpine                            | PASS               | SKIPPED           | SKIPPED          | SKIPPED           |
+-----------------------------------+--------------------+-------------------+------------------+-------------------+
| Ubuntu 24.04 32 Bit Cross Compile | PASS               | SKIPPED           | SKIPPED          | SKIPPED           |
+-----------------------------------+--------------------+-------------------+------------------+-------------------+
| FreeBSD 13.5                      | PASS               | SKIPPED           | SKIPPED          | SKIPPED           |
+-----------------------------------+--------------------+-------------------+------------------+-------------------+
| FreeBSD 14.2                      | PASS               | SKIPPED           | SKIPPED          | SKIPPED           |
+-----------------------------------+--------------------+-------------------+------------------+-------------------+
| Windows Server 2022               | SKIPPED            | SKIPPED           | SKIPPED          | PASS              |
+-----------------------------------+--------------------+-------------------+------------------+-------------------+


CentOS Stream 9
	Kernel: Depends on container host
	Compiler: gcc 11.5.0 20240719 (Red Hat 11.5.0-2)

CentOS Stream 10
	Kernel: Depends on container host
	Compiler: gcc 14.2.1 20241104 (Red Hat 14.2.1-6)

Debian 12
	Kernel: Depends on container host
	Compiler: gcc (Debian 12.2.0-14) 12.2.0

Fedora 41 (Clang)
	Kernel: Depends on container host
	Compiler: clang 19.1.5 (Fedora 19.1.5-1.fc41)

Fedora 40
	Kernel: Depends on container host
	Compiler: gcc 14.2.1 20240912 (Red Hat 14.2.1-3)

Fedora 40 (Clang)
	Kernel: Depends on container host
	Compiler: clang 18.1.8 (Fedora 18.1.8-1.fc40)

RHEL8
	Kernel: Depends on container host
	Compiler: gcc 8.5.0 20210514 (Red Hat 8.5.0-22)

Fedora 41
	Kernel: Depends on container host
	Compiler: gcc 14.2.1 20240912 (Red Hat 14.2.1-3)

RHEL9
	Kernel: Depends on container host
	Compiler: gcc 11.5.0 20240719 (Red Hat 11.5.0-2)

openSUSE Leap 15
	Kernel: Depends on container host
	Compiler: gcc (SUSE Linux) 7.5.0

Ubuntu 20.04
	Kernel: Depends on container host
	Compiler: gcc (Ubuntu 9.4.0-1ubuntu1~20.04.2) 9.4.0

Ubuntu 22.04
	Kernel: Depends on container host
	Compiler: gcc (Ubuntu 11.4.0-1ubuntu1~22.04) 11.4.0

Ubuntu 24.04
	Kernel: Depends on container host
	Compiler: gcc (Ubuntu 13.3.0-6ubuntu2~24.04) 13.3.0

Alpine
	Kernel: Depends on container host
	Compiler: gcc (Alpine 14.2.0) 14.2.0

Ubuntu 24.04 32 Bit Cross Compile
	Kernel: Depends on container host
	Compiler: gcc (Ubuntu 13.3.0-6ubuntu2~24.04) 13.3.0

FreeBSD 13.5
	Kernel: 13.5-RELEASE
	Compiler: clang 19.1.7

FreeBSD 14.2
	Kernel: 14.2-RELEASE
	Compiler: clang 18.1.6

Windows Server 2022
	Kernel: 10.0.20348.2031
	Compiler: clang 15.0.7, gcc 14.1.0 (MinGW), and MSVC VS 19.39.33521

To view detailed results, visit:
https://lab.dpdk.org/results/dashboard/patchsets/32907/

UNH-IOL DPDK Community Lab

To manage your email subscriptions, visit: 
https://lab.dpdk.org/results/dashboard/preferences/subscriptions/