From mboxrd@z Thu Jan  1 00:00:00 1970
Return-Path: <test-report-bounces@dpdk.org>
Received: from mails.dpdk.org (mails.dpdk.org [217.70.189.124])
	by inbox.dpdk.org (Postfix) with ESMTP id DECBC464A2
	for <public@inbox.dpdk.org>; Fri, 28 Mar 2025 12:57:34 +0100 (CET)
Received: from mails.dpdk.org (localhost [127.0.0.1])
	by mails.dpdk.org (Postfix) with ESMTP id DAE83402CD;
	Fri, 28 Mar 2025 12:57:34 +0100 (CET)
Received: from mail-pl1-f226.google.com (mail-pl1-f226.google.com
 [209.85.214.226])
 by mails.dpdk.org (Postfix) with ESMTP id 30E50402C1
 for <test-report@dpdk.org>; Fri, 28 Mar 2025 12:57:33 +0100 (CET)
Received: by mail-pl1-f226.google.com with SMTP id
 d9443c01a7336-22401f4d35aso44554155ad.2
 for <test-report@dpdk.org>; Fri, 28 Mar 2025 04:57:33 -0700 (PDT)
DKIM-Signature: v=1; a=rsa-sha256; c=relaxed/relaxed;
 d=iol.unh.edu; s=unh-iol; t=1743163052; x=1743767852; darn=dpdk.org;
 h=references:in-reply-to:cc:to:from:subject:message-id:date:from:to
 :cc:subject:date:message-id:reply-to;
 bh=utqPJyByLG2Jd4rPV7DC/iK/kBHTG10rCqualVtI3E0=;
 b=MwDcnCIF1O7SMnEkIaXNVVXuhfU0XpZfl2J4Kq1o6vXfDJP8utS66rsesFlAEO9Cc/
 0ev6VzUJr0sKEOLbjNEk6bwLYK1oRnveuWo/twJECpvCqar7/AyvweeMjpx/D6B1adoL
 gN/e3UCuSEOTP6be/laUlbSiHvu+or9m9qFuk=
X-Google-DKIM-Signature: v=1; a=rsa-sha256; c=relaxed/relaxed;
 d=1e100.net; s=20230601; t=1743163052; x=1743767852;
 h=references:in-reply-to:cc:to:from:subject:message-id:date
 :x-gm-message-state:from:to:cc:subject:date:message-id:reply-to;
 bh=utqPJyByLG2Jd4rPV7DC/iK/kBHTG10rCqualVtI3E0=;
 b=IgDQyVBWiR7riu831zEs7TtWC4NwfonyrcVKBtGdw4BjwdMEG4Fm4Iz6RNOHc0uFCy
 QHXDPhq4zP1vUkI1AOZOVfN2kPBVKHMOwskZPt/1L30GZgIrl3gsXmlMaxc8RlQYStFi
 jLj2AJ9250UyWZq5J5EdWNfNnOk5qUjMzuYhtO4ih5LWnrHCteyG4nBG769i8dPJ0aKD
 EMSRHX9HE+LNMrlYAak+WEj1lnPkqtyuUY07YfRoFgOlYNSv2tEy+3FHbKso+uU1KtpJ
 7tHJhuVDDGlI5/+LKT8p+Xy48VeSnPy1PljBi4W3CHz+bQ4AuVsEpzM+BJ/UGJ/lbjeK
 rr9Q==
X-Gm-Message-State: AOJu0YxhZxz8S1o0XKMZVDrtlkA1S14i8D2dGL42GQCgxm//BZuSGR/c
 iugPXXKz9p4t+HNRlMoT2YJDm5D2hkeOtrpT26oEZrbCTasES6C6Q238FBhD1PlcIPa9wPGBNgG
 lYRFH8iLWqkc/aEIEfhwMcKt651y2jMUzojGsDEYA0rljsFGzmR1oyfIH
X-Gm-Gg: ASbGncv5e46L3mdjXJcSSg/1DNGMNjkwYy7AgnoOBzTYiQP9/y4IEF0IjMs9TPNm4xQ
 2+fwk3X5PHlR0T+cazu3pNhjAKNdF6IjtkMGQmVwKc9BTcSNBjzyTcgPuqEU368lPOCCTAdSCbK
 5m3etLyjCuHHIzj4PfK3NVN3OEwni0jlFV5ndUmIMuG0siGeIVgoehyJB+gpnzX94a57gWokMz8
 wIbdwPUr1XMD4ryZIc3PTBfjNMOxy+bfOJHNA3S0LIiyE9peHgh5xJIGwnBav/f1Ofj+SQwJo4K
 nvX2QIDkCSUSEg2J2Su77qWzLij37ogwkn9/L/lpq6dVYBDLbv2V
X-Google-Smtp-Source: AGHT+IGD34gzaAoHjaZ4cmD1ruXY9qRWFIH5BXBl3+UA0Bea04qGvFcXXoFMumMdWOXv3RgzneCHiqP4+iUk
X-Received: by 2002:a17:903:32cd:b0:224:c76:5e56 with SMTP id
 d9443c01a7336-228048cc3efmr93230435ad.27.1743163052155; 
 Fri, 28 Mar 2025 04:57:32 -0700 (PDT)
Received: from postal.iol.unh.edu (postal.iol.unh.edu.
 [2606:4100:3880:1234::84]) by smtp-relay.gmail.com with ESMTPS id
 d9443c01a7336-2291f1cf6d1sm2586945ad.111.2025.03.28.04.57.32
 (version=TLS1_2 cipher=ECDHE-ECDSA-AES128-GCM-SHA256 bits=128/128);
 Fri, 28 Mar 2025 04:57:32 -0700 (PDT)
X-Relaying-Domain: iol.unh.edu
Date: Fri, 28 Mar 2025 04:57:32 -0700 (PDT)
Message-ID: <67e68eac.170a0220.1817ed.520cSMTPIN_ADDED_MISSING@mx.google.com>
Received: from [172.21.0.6] (unknown [172.18.0.240])
 by postal.iol.unh.edu (Postfix) with ESMTP id 420D66052471;
 Fri, 28 Mar 2025 07:57:31 -0400 (EDT)
Subject: |SUCCESS| pw152634-152660 [PATCH] [v17,29/29] net/rnp: add multicast
From: dpdklab@iol.unh.edu
To: Test Report <test-report@dpdk.org>
Cc: dpdk-test-reports@iol.unh.edu
In-Reply-To: <20250328051444.1019208-30-caowenbo@mucse.com>
References: <20250328051444.1019208-30-caowenbo@mucse.com>
Content-Type: text/plain
X-BeenThere: test-report@dpdk.org
X-Mailman-Version: 2.1.29
Precedence: list
List-Id: automatic DPDK test reports <test-report.dpdk.org>
List-Unsubscribe: <https://mails.dpdk.org/options/test-report>,
 <mailto:test-report-request@dpdk.org?subject=unsubscribe>
List-Archive: <http://mails.dpdk.org/archives/test-report/>
List-Post: <mailto:test-report@dpdk.org>
List-Help: <mailto:test-report-request@dpdk.org?subject=help>
List-Subscribe: <https://mails.dpdk.org/listinfo/test-report>,
 <mailto:test-report-request@dpdk.org?subject=subscribe>
Errors-To: test-report-bounces@dpdk.org

Test-Label: iol-compile-arm64-testing
Test-Status: SUCCESS
http://dpdk.org/patch/152660

_Testing PASS_

Submitter: Wenbo Cao <caowenbo@mucse.com>
Date: Friday, March 28 2025 05:14:44 
DPDK git baseline: Repo:dpdk
  Branch: master
  CommitID:edd3f4b1265e6da707c46ca9b6c39d332647baea

152634-152660 --> testing pass

Upstream job id: Generic-DPDK-Compile-Meson#375580

Test environment and result as below:

+----------------------------------------+--------------------+
|              Environment               | dpdk_meson_compile |
+========================================+====================+
| RHEL9 (ARM)                            | PASS               |
+----------------------------------------+--------------------+
| Ubuntu 20.04 ARM GCC Cross Compile     | PASS               |
+----------------------------------------+--------------------+
| Ubuntu 20.04 ARM SVE                   | PASS               |
+----------------------------------------+--------------------+
| Debian 12 with MUSDK                   | PASS               |
+----------------------------------------+--------------------+
| Fedora 40 (ARM Clang)                  | PASS               |
+----------------------------------------+--------------------+
| Fedora 41 (ARM Clang)                  | PASS               |
+----------------------------------------+--------------------+
| Fedora 41 (ARM)                        | PASS               |
+----------------------------------------+--------------------+
| Ubuntu 22.04 (ARM)                     | PASS               |
+----------------------------------------+--------------------+
| Ubuntu 24.04 (ARM)                     | PASS               |
+----------------------------------------+--------------------+
| CentOS Stream 9 (ARM)                  | PASS               |
+----------------------------------------+--------------------+
| CentOS Stream 10 (ARM)                 | PASS               |
+----------------------------------------+--------------------+
| Debian 12 (arm)                        | PASS               |
+----------------------------------------+--------------------+
| Ubuntu 20.04 ARM Clang Cross Compile   | PASS               |
+----------------------------------------+--------------------+
| Ubuntu 20.04 aarch32 GCC Cross Compile | PASS               |
+----------------------------------------+--------------------+
| Fedora 40 (ARM)                        | PASS               |
+----------------------------------------+--------------------+
| Ubuntu 20.04 (ARM)                     | PASS               |
+----------------------------------------+--------------------+


RHEL9 (ARM)
	Kernel: Depends on container host
	Compiler: gcc 11.5.0 20240719 (Red Hat 11.5.0-2)

Ubuntu 20.04 ARM GCC Cross Compile
	Kernel: Depends on container host
	Compiler: aarch64-linux-gnu-gcc (Ubuntu 9.4.0-1ubuntu1~20.04.2) 9.4.0

Ubuntu 20.04 ARM SVE
	Kernel: Depends on container host
	Compiler: gcc (Ubuntu 10.5.0-1ubuntu1~20.04) 10.5.0

Debian 12 with MUSDK
	Kernel: Depends on container host
	Compiler: gcc (Debian 12.2.0-14) 12.2.0

Fedora 40 (ARM Clang)
	Kernel: Depends on container host
	Compiler: clang 18.1.8 (Fedora 18.1.8-1.fc40)

Fedora 41 (ARM Clang)
	Kernel: Depends on container host
	Compiler: clang 19.1.5 (Fedora 19.1.5-1.fc41)

Fedora 41 (ARM)
	Kernel: Depends on container host
	Compiler: gcc 14.2.1 20240912 (Red Hat 14.2.1-3)

Ubuntu 22.04 (ARM)
	Kernel: Depends on container host
	Compiler: gcc (Ubuntu 11.4.0-1ubuntu1~22.04) 11.4.0

Ubuntu 24.04 (ARM)
	Kernel: Depends on container host
	Compiler: gcc (Ubuntu 13.3.0-6ubuntu2~24.04) 13.3.0

CentOS Stream 9 (ARM)
	Kernel: Depends on container host
	Compiler: gcc 11.5.0 20240719 (Red Hat 11.5.0-2)

CentOS Stream 10 (ARM)
	Kernel: Depends on container host
	Compiler: gcc 14.2.1 20241104 (Red Hat 14.2.1-6)

Debian 12 (arm)
	Kernel: Depends on container host
	Compiler: gcc (Debian 12.2.0-14) 12.2.0

Ubuntu 20.04 ARM Clang Cross Compile
	Kernel: Depends on container host
	Compiler: clang 10.0.0-4ubuntu1

Ubuntu 20.04 aarch32 GCC Cross Compile
	Kernel: Depends on container host
	Compiler: gcc 9.4.0

Fedora 40 (ARM)
	Kernel: Depends on container host
	Compiler: gcc 14.2.1 20240912 (Red Hat 14.2.1-3)

Ubuntu 20.04 (ARM)
	Kernel: Depends on container host
	Compiler: gcc (Ubuntu 9.4.0-1ubuntu1~20.04.2) 9.4.0

To view detailed results, visit:
https://lab.dpdk.org/results/dashboard/patchsets/32907/

UNH-IOL DPDK Community Lab

To manage your email subscriptions, visit: 
https://lab.dpdk.org/results/dashboard/preferences/subscriptions/