From mboxrd@z Thu Jan  1 00:00:00 1970
Return-Path: <test-report-bounces@dpdk.org>
Received: from mails.dpdk.org (mails.dpdk.org [217.70.189.124])
	by inbox.dpdk.org (Postfix) with ESMTP id 42CA2464A2
	for <public@inbox.dpdk.org>; Fri, 28 Mar 2025 13:21:38 +0100 (CET)
Received: from mails.dpdk.org (localhost [127.0.0.1])
	by mails.dpdk.org (Postfix) with ESMTP id 3E876402CB;
	Fri, 28 Mar 2025 13:21:38 +0100 (CET)
Received: from mail-pl1-f225.google.com (mail-pl1-f225.google.com
 [209.85.214.225])
 by mails.dpdk.org (Postfix) with ESMTP id DD89E402C1
 for <test-report@dpdk.org>; Fri, 28 Mar 2025 13:21:33 +0100 (CET)
Received: by mail-pl1-f225.google.com with SMTP id
 d9443c01a7336-223fb0f619dso42971465ad.1
 for <test-report@dpdk.org>; Fri, 28 Mar 2025 05:21:33 -0700 (PDT)
DKIM-Signature: v=1; a=rsa-sha256; c=relaxed/relaxed;
 d=iol.unh.edu; s=unh-iol; t=1743164493; x=1743769293; darn=dpdk.org;
 h=references:in-reply-to:cc:to:from:subject:message-id:date:from:to
 :cc:subject:date:message-id:reply-to;
 bh=9VqkCLSh+w6WiBr84Ukc2mRkZYhZmw4lqwZXOkGf4Oc=;
 b=AI/6OJm+8Q6DfLbWq74eFi1TOtuqpg+ETEnhQ/GPV42AHsnilutsGnwuVUrCotBcly
 nvzX41xFCyNtj8ra0060wb8bKXiTAWTrKLZg8QwJbXlToaY6EA3RFgGemg7CSiHujbeB
 G0/Xd3IjT34q4j3Wi5qSbu+Sr8vJeVMXw4D10=
X-Google-DKIM-Signature: v=1; a=rsa-sha256; c=relaxed/relaxed;
 d=1e100.net; s=20230601; t=1743164493; x=1743769293;
 h=references:in-reply-to:cc:to:from:subject:message-id:date
 :x-gm-message-state:from:to:cc:subject:date:message-id:reply-to;
 bh=9VqkCLSh+w6WiBr84Ukc2mRkZYhZmw4lqwZXOkGf4Oc=;
 b=qEyPqeaT+cAN0kCYPCKe6E5X9wHUmeSqbuPhUwxrfHukO5e0tTrOZNroYkQ7qKgSmY
 Loxx0tsBvGVFO6GqUHBq2ZkpYb5cR2789H8tOagslpXPRUAvTGrYLjlcdFObQEHBuFEI
 972MkqkMLMMI+hehV6jSMt+vcPiS0j6/daFrKK+GdoYO7ZCRB2Dmm738yArhK4nBrfhh
 mggGOPEoS3M8zBbnD6HzUPJm52WMSfhy95NKA2N3prPy4aTNf8/WiXr9xZF8i+K31Afl
 u50Xv4ZBf0jDrUrGdehJ087dOU6pzWUFL+0vdf91toihm9wtxy6cs9WvGRsxPxi2XoM9
 FqzA==
X-Gm-Message-State: AOJu0YxSJxd3mK/gCkcusirrTXOmuWEgmySGtg07PjQrnH6rdBUs8rDQ
 CQfYUmTFe0H2thlOD8Ac0Po/ookgquFkmdrCOFG1Yi0tjCAN3VxpRWV/gJlyWsRqjaGXXNC4VEE
 O0PnLgWDynVMwIJwMMRqJ8VvQXcbOLAKv3YxIR7Lw
X-Gm-Gg: ASbGncvLl/UGZe5D8WEzhyF4rPwOPZ81s9e2Askj0/GEswMmF+0L7h+h6vzEzsNLWC8
 tYG7If78+qf2Zod2zx+cEvi+4G2DboFPcavQoW4hoVbWWbtOIBS6vAWdUcdy3JcYx3uR1eMVhH4
 iRNToIzL0u53SMh7/sH+/FnisujlFosJLUdZuG8OyuwBBoJpLqLynHd2OIQXS5ZFc8TMVV2YjPa
 yJ22pb9NoijKvDlpaqzW5MoJt+447FhI1kzL6wLW1LQTV+2VOVk3HqQe02kBzJaJM32uHpSyUR1
 31/bVVsgESpMvpPzvOX8Hq1Ra0c0P5Ln8LDnILiW
X-Google-Smtp-Source: AGHT+IGN6ctvO41i5rdnI5y5uFjXB4oYBEPrOiIBaJU0sParndqvgyPVspWGk6g4L+sF+GsxGt9pQBhqEqgj
X-Received: by 2002:a05:6a20:d50a:b0:1f5:7c6f:6c8a with SMTP id
 adf61e73a8af0-1fea2f985fcmr13814646637.35.1743164492963; 
 Fri, 28 Mar 2025 05:21:32 -0700 (PDT)
Received: from postal.iol.unh.edu (postal.iol.unh.edu. [132.177.123.84])
 by smtp-relay.gmail.com with ESMTPS id
 41be03b00d2f7-af93b683bf8sm158995a12.9.2025.03.28.05.21.32
 (version=TLS1_2 cipher=ECDHE-ECDSA-AES128-GCM-SHA256 bits=128/128);
 Fri, 28 Mar 2025 05:21:32 -0700 (PDT)
X-Relaying-Domain: iol.unh.edu
Date: Fri, 28 Mar 2025 05:21:32 -0700 (PDT)
Message-ID: <67e6944c.050a0220.193191.2a25SMTPIN_ADDED_MISSING@mx.google.com>
Received: from [172.21.0.6] (unknown [172.18.0.240])
 by postal.iol.unh.edu (Postfix) with ESMTP id 13FEE6052471;
 Fri, 28 Mar 2025 08:21:32 -0400 (EDT)
Subject: |SUCCESS| pw152662-152668 [PATCH] [v6,8/8] eal: rework function vers
From: dpdklab@iol.unh.edu
To: Test Report <test-report@dpdk.org>
Cc: dpdk-test-reports@iol.unh.edu
In-Reply-To: <20250328105250.3082414-9-david.marchand@redhat.com>
References: <20250328105250.3082414-9-david.marchand@redhat.com>
Content-Type: text/plain
X-BeenThere: test-report@dpdk.org
X-Mailman-Version: 2.1.29
Precedence: list
List-Id: automatic DPDK test reports <test-report.dpdk.org>
List-Unsubscribe: <https://mails.dpdk.org/options/test-report>,
 <mailto:test-report-request@dpdk.org?subject=unsubscribe>
List-Archive: <http://mails.dpdk.org/archives/test-report/>
List-Post: <mailto:test-report@dpdk.org>
List-Help: <mailto:test-report-request@dpdk.org?subject=help>
List-Subscribe: <https://mails.dpdk.org/listinfo/test-report>,
 <mailto:test-report-request@dpdk.org?subject=subscribe>
Errors-To: test-report-bounces@dpdk.org

Test-Label: iol-sample-apps-testing
Test-Status: SUCCESS
http://dpdk.org/patch/152668

_Testing PASS_

Submitter: David Marchand <david.marchand@redhat.com>
Date: Friday, March 28 2025 10:52:45 
DPDK git baseline: Repo:dpdk
  Branch: master
  CommitID:edd3f4b1265e6da707c46ca9b6c39d332647baea

152662-152668 --> testing pass

Upstream job id: Template-DTS-Pipeline#219462

Test environment and result as below:

+--------------------+----------------------+----------------------+
|    Environment     | dpdk_fips_validation | compressdev_zlib_pmd |
+====================+======================+======================+
| Ubuntu 20.04       | PASS                 | SKIPPED              |
+--------------------+----------------------+----------------------+
| Ubuntu 22.04 (ARM) | SKIPPED              | PASS                 |
+--------------------+----------------------+----------------------+
| Ubuntu 22.04       | SKIPPED              | PASS                 |
+--------------------+----------------------+----------------------+


Ubuntu 20.04
	Kernel: Depends on container host
	Compiler: gcc (Ubuntu 9.4.0-1ubuntu1~20.04.2) 9.4.0

Ubuntu 22.04 (ARM)
	Kernel: 5.15.0-97-generic
	Compiler: gcc gcc (Ubuntu 11.4.0-1ubuntu1~22.04) 11.4.0

Ubuntu 22.04
	Kernel: 5.15.0-100-generic
	Compiler: gcc gcc (Ubuntu 11.4.0-1ubuntu1~22.04) 11.4.0

To view detailed results, visit:
https://lab.dpdk.org/results/dashboard/patchsets/32909/

UNH-IOL DPDK Community Lab

To manage your email subscriptions, visit: 
https://lab.dpdk.org/results/dashboard/preferences/subscriptions/