From mboxrd@z Thu Jan  1 00:00:00 1970
Return-Path: <test-report-bounces@dpdk.org>
Received: from mails.dpdk.org (mails.dpdk.org [217.70.189.124])
	by inbox.dpdk.org (Postfix) with ESMTP id 0AE6C464C4
	for <public@inbox.dpdk.org>; Mon, 31 Mar 2025 08:57:09 +0200 (CEST)
Received: from mails.dpdk.org (localhost [127.0.0.1])
	by mails.dpdk.org (Postfix) with ESMTP id D3ADF40156;
	Mon, 31 Mar 2025 08:57:08 +0200 (CEST)
Received: from mail-yw1-f228.google.com (mail-yw1-f228.google.com
 [209.85.128.228])
 by mails.dpdk.org (Postfix) with ESMTP id 16DAC40150
 for <test-report@dpdk.org>; Mon, 31 Mar 2025 08:57:08 +0200 (CEST)
Received: by mail-yw1-f228.google.com with SMTP id
 00721157ae682-702628e34f2so9156587b3.0
 for <test-report@dpdk.org>; Sun, 30 Mar 2025 23:57:08 -0700 (PDT)
DKIM-Signature: v=1; a=rsa-sha256; c=relaxed/relaxed;
 d=iol.unh.edu; s=unh-iol; t=1743404227; x=1744009027; darn=dpdk.org;
 h=cc:to:from:subject:message-id:date:from:to:cc:subject:date
 :message-id:reply-to;
 bh=pkywWt7qFfhsrLAFzBDRWHDllhMeuLQ1x+hXFXhbvns=;
 b=RiykO1vfdZh4cbxd9pCJswTks0jSj/sWoiSJ6ZuFKSMhB4xYamdtyZCyLqcPBvYJva
 3jtMMe76aJURbBxWFAZwFuGwt/KtVaEP1ROL3vndCVVS8uEWSFkpQmrfD3/aWVytdvkG
 pw4v/ZaZj8FZaMd31iq+pvdFKGs6koAzoeFRc=
X-Google-DKIM-Signature: v=1; a=rsa-sha256; c=relaxed/relaxed;
 d=1e100.net; s=20230601; t=1743404227; x=1744009027;
 h=cc:to:from:subject:message-id:date:x-gm-message-state:from:to:cc
 :subject:date:message-id:reply-to;
 bh=pkywWt7qFfhsrLAFzBDRWHDllhMeuLQ1x+hXFXhbvns=;
 b=De7/cFkMfq+PlObizHn80muGpA7U91FIJhdlpJAecShgpcr0K5XpA6dbRBC5Y5bAPy
 vg2fRYhVi9YIqJjpon+GX1evnnyTIXY+79dYWnE81TP8yOP1SbiAxys2d832/HH7jozx
 1iIkJQhKghIj4O+LoTQLKbuZro8fO8jKM2xN4vgpl7Epm45YGvqhTBoLqtLaxM0ukhUu
 GwoRwHFMTwxRpRfYESeEnxxMohwgL3rSSFjajzh46R0NoVTiwkBpYUT6pI5NbxOM4r/R
 zFbW/92WQDJJLsAGEhpvyEiXUaWRZDsm2neGNWTh96CyYb3doa0IOKEXMPVKJ5rLJVko
 v3sA==
X-Gm-Message-State: AOJu0YwmUpfdD0eReJgJsVFWM8NCdzF1F4G6gUo1paoTiUDHkWUrWCy1
 AzyG0v5zKWEPXnXRMFUEvFYjaHDky6tyncebeJKiWW/SjLmR3prjy3hGfyaV6W7KRLCwWzqnXgm
 gfDAHcyiXD+MTjgJier+ZTLFMdKwoEsIu
X-Gm-Gg: ASbGnctEDLurvA/dTmjYTnjZ1v0rFVJnB8rPHrTMu8+fyyMXkhjJVOmHR8ZMSjeMbl8
 +8x3zEligFQ0F8sT987q975NhfGXRpiePiz1xwvmXSE8zgYeXFVg6Ecp4IzCqQk7yd1JeRx39GF
 JwL71YMnk7vlZV35a6QUFKbLqMr0PKfjS5D83fGRo7ulbU/LNeo6tDhxs3P3WZtkcft3bKUtCzT
 SYYRPbUdGp6HWMhmH+U21jxzuDSwLUfoXbOpb+kNyrOFLQqBIBPhbRVEehflqYnCiP6bdxnWjou
 VN0LM0mj/9McOOaDyHiCbfqGtKQJr5gHPlAcvNDt
X-Google-Smtp-Source: AGHT+IE9tZOI+ADYgixNcm/AaBlkUKApC5XO2YEY9uoKGLJ78psoPeUcKBkScy6k6qW2djNhK6unUPBy+thk
X-Received: by 2002:a05:690c:2c0c:b0:6f9:b027:1bfc with SMTP id
 00721157ae682-7023df77294mr118191707b3.3.1743404227348; 
 Sun, 30 Mar 2025 23:57:07 -0700 (PDT)
Received: from postal.iol.unh.edu (postal.iol.unh.edu. [132.177.123.84])
 by smtp-relay.gmail.com with ESMTPS id
 00721157ae682-7023a9ea8b6sm4200297b3.61.2025.03.30.23.57.07
 (version=TLS1_2 cipher=ECDHE-ECDSA-AES128-GCM-SHA256 bits=128/128);
 Sun, 30 Mar 2025 23:57:07 -0700 (PDT)
X-Relaying-Domain: iol.unh.edu
Date: Sun, 30 Mar 2025 23:57:07 -0700 (PDT)
Message-ID: <67ea3cc3.050a0220.8dc23.ff0cSMTPIN_ADDED_MISSING@mx.google.com>
Received: from [172.17.0.3] (unknown [172.18.0.217])
 by postal.iol.unh.edu (Postfix) with ESMTP id E7D3D6052471;
 Mon, 31 Mar 2025 02:57:06 -0400 (EDT)
Subject: |SUCCESS| [GIT MASTER] 03f2ed63a5f4e4b57365e358b49095ef4a82cf7d
From: dpdklab@iol.unh.edu
To: Test Report <test-report@dpdk.org>
Cc: dpdk-test-reports@iol.unh.edu, Xueming Li <xuemingl@nvidia.com>,
 Christian Ehrhardt <christian.ehrhardt@canonical.com>,
 Kevin Traynor <ktraynor@redhat.com>, Luca Boccassi <bluca@debian.org>
Content-Type: text/plain
X-BeenThere: test-report@dpdk.org
X-Mailman-Version: 2.1.29
Precedence: list
List-Id: automatic DPDK test reports <test-report.dpdk.org>
List-Unsubscribe: <https://mails.dpdk.org/options/test-report>,
 <mailto:test-report-request@dpdk.org?subject=unsubscribe>
List-Archive: <http://mails.dpdk.org/archives/test-report/>
List-Post: <mailto:test-report@dpdk.org>
List-Help: <mailto:test-report-request@dpdk.org?subject=help>
List-Subscribe: <https://mails.dpdk.org/listinfo/test-report>,
 <mailto:test-report-request@dpdk.org?subject=subscribe>
Errors-To: test-report-bounces@dpdk.org

_Testing PASS_

Branch: tags/v24.11

03f2ed63a5f4e4b57365e358b49095ef4a82cf7d --> testing pass

Upstream job id: Generic-VM-Unit-Test-DPDK#27734

Test environment and result as below:

+---------------------+----------------+
|     Environment     | dpdk_unit_test |
+=====================+================+
| Debian 12           | PASS           |
+---------------------+----------------+
| CentOS Stream 9     | PASS           |
+---------------------+----------------+
| Fedora 40 (Clang)   | PASS           |
+---------------------+----------------+
| Fedora 41           | PASS           |
+---------------------+----------------+
| Fedora 40           | PASS           |
+---------------------+----------------+
| CentOS Stream 10    | PASS           |
+---------------------+----------------+
| RHEL8               | PASS           |
+---------------------+----------------+
| Ubuntu 24.04        | PASS           |
+---------------------+----------------+
| Ubuntu 20.04        | PASS           |
+---------------------+----------------+
| Fedora 41 (Clang)   | PASS           |
+---------------------+----------------+
| RHEL9               | PASS           |
+---------------------+----------------+
| Ubuntu 22.04        | PASS           |
+---------------------+----------------+
| Windows Server 2022 | PASS           |
+---------------------+----------------+


Debian 12
	Kernel: Depends on container host
	Compiler: gcc (Debian 12.2.0-14) 12.2.0

CentOS Stream 9
	Kernel: Depends on container host
	Compiler: gcc 11.5.0 20240719 (Red Hat 11.5.0-2)

Fedora 40 (Clang)
	Kernel: Depends on container host
	Compiler: clang 18.1.8 (Fedora 18.1.8-1.fc40)

Fedora 41
	Kernel: Depends on container host
	Compiler: gcc 14.2.1 20240912 (Red Hat 14.2.1-3)

Fedora 40
	Kernel: Depends on container host
	Compiler: gcc 14.2.1 20240912 (Red Hat 14.2.1-3)

CentOS Stream 10
	Kernel: Depends on container host
	Compiler: gcc 14.2.1 20241104 (Red Hat 14.2.1-6)

RHEL8
	Kernel: Depends on container host
	Compiler: gcc 8.5.0 20210514 (Red Hat 8.5.0-22)

Ubuntu 24.04
	Kernel: Depends on container host
	Compiler: gcc (Ubuntu 13.3.0-6ubuntu2~24.04) 13.3.0

Ubuntu 20.04
	Kernel: Depends on container host
	Compiler: gcc (Ubuntu 9.4.0-1ubuntu1~20.04.2) 9.4.0

Fedora 41 (Clang)
	Kernel: Depends on container host
	Compiler: clang 19.1.5 (Fedora 19.1.5-1.fc41)

RHEL9
	Kernel: Depends on container host
	Compiler: gcc 11.5.0 20240719 (Red Hat 11.5.0-2)

Ubuntu 22.04
	Kernel: Depends on container host
	Compiler: gcc (Ubuntu 11.4.0-1ubuntu1~22.04) 11.4.0

Windows Server 2022
	Kernel: 10.0.20348.2031
	Compiler: clang 15.0.7, gcc 14.1.0 (MinGW), and MSVC VS 19.39.33521

To view detailed results, visit:
https://lab.dpdk.org/results/dashboard/tarballs/33101/

UNH-IOL DPDK Community Lab

To manage your email subscriptions, visit: 
https://lab.dpdk.org/results/dashboard/preferences/subscriptions/