From mboxrd@z Thu Jan  1 00:00:00 1970
Return-Path: <test-report-bounces@dpdk.org>
Received: from mails.dpdk.org (mails.dpdk.org [217.70.189.124])
	by inbox.dpdk.org (Postfix) with ESMTP id AEBFC464C4
	for <public@inbox.dpdk.org>; Mon, 31 Mar 2025 09:36:45 +0200 (CEST)
Received: from mails.dpdk.org (localhost [127.0.0.1])
	by mails.dpdk.org (Postfix) with ESMTP id 8A397402A1;
	Mon, 31 Mar 2025 09:36:45 +0200 (CEST)
Received: from mail-pl1-f226.google.com (mail-pl1-f226.google.com
 [209.85.214.226])
 by mails.dpdk.org (Postfix) with ESMTP id 244B440150
 for <test-report@dpdk.org>; Mon, 31 Mar 2025 09:36:44 +0200 (CEST)
Received: by mail-pl1-f226.google.com with SMTP id
 d9443c01a7336-225df540edcso95874185ad.0
 for <test-report@dpdk.org>; Mon, 31 Mar 2025 00:36:44 -0700 (PDT)
DKIM-Signature: v=1; a=rsa-sha256; c=relaxed/relaxed;
 d=iol.unh.edu; s=unh-iol; t=1743406603; x=1744011403; darn=dpdk.org;
 h=cc:to:from:subject:message-id:date:from:to:cc:subject:date
 :message-id:reply-to;
 bh=Fe3gxGsY0ocfP8U9AGK1Yjcb2ENje9l/v5n85SJ3QJU=;
 b=XhlmG61bq0FPa9ppwJYaYJQyiUgj9VPbMQ07BlHlc8qZjpmxT5oV0UecphPU78xMhI
 WCRAEegSeqeL6quuoQPzxb2PF6y3hMANLkSeImHU64x2DZgfsFjkV12i6855ezqOmv5n
 QqL0cNhe+vYptZQG8fvSIYOrRlCafOkZJ4RqM=
X-Google-DKIM-Signature: v=1; a=rsa-sha256; c=relaxed/relaxed;
 d=1e100.net; s=20230601; t=1743406603; x=1744011403;
 h=cc:to:from:subject:message-id:date:x-gm-message-state:from:to:cc
 :subject:date:message-id:reply-to;
 bh=Fe3gxGsY0ocfP8U9AGK1Yjcb2ENje9l/v5n85SJ3QJU=;
 b=JJwlnyukRGSBcY06oMK/npxbpjHA4WRQA8e4Nb/0eRQVEdFGRNb5mUG9bcZIUYFgoA
 E9KSuKOnu2cJBW0fqEx8+n0b5Njosd6e2NyJYdsfRv9J7JGNCDUYsoKNPzN5MqHTjCNx
 q/1O+o9QyLpVf4/0ScqjkXlwEG8tLZ5PULQAFYYdBcxNZ1WVWJ1lZCwYyORKwVVtJP7P
 BnnVm/oREF7FHkzRqARLjDFSth6OBezb2+4RymSvd55ueyoz8SMQGbznfoi8Ug6lxvde
 rSVG77x0awUdKldwKlemCU50tJiwnZ/ZzSHjVT0c7RiQKUTxi59WpNnq91almLMZ793H
 iLUQ==
X-Gm-Message-State: AOJu0YwFmNoHNoNE0ZyzBo6BvXQMLbciwibXumeAGb4/EIORbQqof9Em
 kfCkwvlE71NzC67AVQj2KVpAvC0GtouXBhdePSjT6/G9pNSnsatCWBioPcNP5vQwEc3mtmU30NN
 ZwXOvmJ73lE95Cygxz01/K4Q96Dr0kODq
X-Gm-Gg: ASbGncuFbTWlrf6QuiX1v0tGv3yoRigoLaURsrb2yThbhMHhxK8d7NtMWUsqBZBBO//
 2X8RcKl2PTCE4MmENAC+XWKpq5cnV0Jk2n1kg/dR9MdFYqkXbSfilw13eNGUvQ+zb11Ym0+T60k
 5iaWl37/RKPeUwBt0jpW3DVzA9RjoyR1WNvHFlYz15fabCwmZi0KaEK7bMInjheaEJ8VDdLb+gt
 nOEMWpcoIcYjxV7bZHpuVjWNtQWXplUD6UKNRnHGlL98a/diu9lgR0qxBFdGdAmdimRM3gVLxJo
 buxPv1ckcSLS1Ja8nhTTekJu05IgRk1Ea8Y/v0e5
X-Google-Smtp-Source: AGHT+IFyOgSDhPo0F62iPqqVLlQqRnlujM1m+0cvnhKym9XqjnGTilcjwXSzTMNu/BrOnxWMdSK8sXglZ8Ut
X-Received: by 2002:a05:6a21:9102:b0:1f5:9cdc:54bb with SMTP id
 adf61e73a8af0-1feb5bf2b1fmr15925719637.11.1743406603208; 
 Mon, 31 Mar 2025 00:36:43 -0700 (PDT)
Received: from postal.iol.unh.edu (postal.iol.unh.edu. [132.177.123.84])
 by smtp-relay.gmail.com with ESMTPS id
 41be03b00d2f7-af93ba04518sm542572a12.31.2025.03.31.00.36.43
 (version=TLS1_2 cipher=ECDHE-ECDSA-AES128-GCM-SHA256 bits=128/128);
 Mon, 31 Mar 2025 00:36:43 -0700 (PDT)
X-Relaying-Domain: iol.unh.edu
Date: Mon, 31 Mar 2025 00:36:43 -0700 (PDT)
Message-ID: <67ea460b.630a0220.2672ad.7ed3SMTPIN_ADDED_MISSING@mx.google.com>
Received: from [172.17.0.3] (unknown [172.18.0.217])
 by postal.iol.unh.edu (Postfix) with ESMTP id 4C2546052471;
 Mon, 31 Mar 2025 03:36:42 -0400 (EDT)
Subject: |SUCCESS| [GIT MASTER] c66daa12e76d7b4912cfb7109a761856a7a873ab
From: dpdklab@iol.unh.edu
To: Test Report <test-report@dpdk.org>
Cc: dpdk-test-reports@iol.unh.edu, Xueming Li <xuemingl@nvidia.com>,
 Christian Ehrhardt <christian.ehrhardt@canonical.com>,
 Kevin Traynor <ktraynor@redhat.com>, Luca Boccassi <bluca@debian.org>
Content-Type: text/plain
X-BeenThere: test-report@dpdk.org
X-Mailman-Version: 2.1.29
Precedence: list
List-Id: automatic DPDK test reports <test-report.dpdk.org>
List-Unsubscribe: <https://mails.dpdk.org/options/test-report>,
 <mailto:test-report-request@dpdk.org?subject=unsubscribe>
List-Archive: <http://mails.dpdk.org/archives/test-report/>
List-Post: <mailto:test-report@dpdk.org>
List-Help: <mailto:test-report-request@dpdk.org?subject=help>
List-Subscribe: <https://mails.dpdk.org/listinfo/test-report>,
 <mailto:test-report-request@dpdk.org?subject=subscribe>
Errors-To: test-report-bounces@dpdk.org

_Testing PASS_

Branch: tags/v23.11

c66daa12e76d7b4912cfb7109a761856a7a873ab --> testing pass

Upstream job id: Generic-DPDK-Compile-Meson#375975

Test environment and result as below:

+------------------------------------+--------------------+
|            Environment             | dpdk_meson_compile |
+====================================+====================+
| RHEL9 (ARM)                        | PASS               |
+------------------------------------+--------------------+
| Ubuntu 20.04 ARM SVE               | PASS               |
+------------------------------------+--------------------+
| Debian 12 with MUSDK               | PASS               |
+------------------------------------+--------------------+
| Ubuntu 20.04 ARM GCC Cross Compile | PASS               |
+------------------------------------+--------------------+
| Fedora 40 (ARM)                    | PASS               |
+------------------------------------+--------------------+
| Fedora 40 (ARM Clang)              | PASS               |
+------------------------------------+--------------------+
| Fedora 41 (ARM Clang)              | PASS               |
+------------------------------------+--------------------+
| Fedora 41 (ARM)                    | PASS               |
+------------------------------------+--------------------+
| Ubuntu 20.04 (ARM)                 | PASS               |
+------------------------------------+--------------------+
| Ubuntu 22.04 (ARM)                 | PASS               |
+------------------------------------+--------------------+
| Ubuntu 24.04 (ARM)                 | PASS               |
+------------------------------------+--------------------+
| CentOS Stream 9 (ARM)              | PASS               |
+------------------------------------+--------------------+
| CentOS Stream 10 (ARM)             | PASS               |
+------------------------------------+--------------------+
| Debian 12 (arm)                    | PASS               |
+------------------------------------+--------------------+


RHEL9 (ARM)
	Kernel: Depends on container host
	Compiler: gcc 11.5.0 20240719 (Red Hat 11.5.0-2)

Ubuntu 20.04 ARM SVE
	Kernel: Depends on container host
	Compiler: gcc (Ubuntu 10.5.0-1ubuntu1~20.04) 10.5.0

Debian 12 with MUSDK
	Kernel: Depends on container host
	Compiler: gcc (Debian 12.2.0-14) 12.2.0

Ubuntu 20.04 ARM GCC Cross Compile
	Kernel: Depends on container host
	Compiler: aarch64-linux-gnu-gcc (Ubuntu 9.4.0-1ubuntu1~20.04.2) 9.4.0

Fedora 40 (ARM)
	Kernel: Depends on container host
	Compiler: gcc 14.2.1 20240912 (Red Hat 14.2.1-3)

Fedora 40 (ARM Clang)
	Kernel: Depends on container host
	Compiler: clang 18.1.8 (Fedora 18.1.8-1.fc40)

Fedora 41 (ARM Clang)
	Kernel: Depends on container host
	Compiler: clang 19.1.5 (Fedora 19.1.5-1.fc41)

Fedora 41 (ARM)
	Kernel: Depends on container host
	Compiler: gcc 14.2.1 20240912 (Red Hat 14.2.1-3)

Ubuntu 20.04 (ARM)
	Kernel: Depends on container host
	Compiler: gcc (Ubuntu 9.4.0-1ubuntu1~20.04.2) 9.4.0

Ubuntu 22.04 (ARM)
	Kernel: Depends on container host
	Compiler: gcc (Ubuntu 11.4.0-1ubuntu1~22.04) 11.4.0

Ubuntu 24.04 (ARM)
	Kernel: Depends on container host
	Compiler: gcc (Ubuntu 13.3.0-6ubuntu2~24.04) 13.3.0

CentOS Stream 9 (ARM)
	Kernel: Depends on container host
	Compiler: gcc 11.5.0 20240719 (Red Hat 11.5.0-2)

CentOS Stream 10 (ARM)
	Kernel: Depends on container host
	Compiler: gcc 14.2.1 20241104 (Red Hat 14.2.1-6)

Debian 12 (arm)
	Kernel: Depends on container host
	Compiler: gcc (Debian 12.2.0-14) 12.2.0

To view detailed results, visit:
https://lab.dpdk.org/results/dashboard/tarballs/33103/

UNH-IOL DPDK Community Lab

To manage your email subscriptions, visit: 
https://lab.dpdk.org/results/dashboard/preferences/subscriptions/