From mboxrd@z Thu Jan  1 00:00:00 1970
Return-Path: <test-report-bounces@dpdk.org>
Received: from mails.dpdk.org (mails.dpdk.org [217.70.189.124])
	by inbox.dpdk.org (Postfix) with ESMTP id 3F9A7464C7
	for <public@inbox.dpdk.org>; Mon, 31 Mar 2025 13:32:55 +0200 (CEST)
Received: from mails.dpdk.org (localhost [127.0.0.1])
	by mails.dpdk.org (Postfix) with ESMTP id 3AB114065A;
	Mon, 31 Mar 2025 13:32:55 +0200 (CEST)
Received: from mail-qk1-f227.google.com (mail-qk1-f227.google.com
 [209.85.222.227])
 by mails.dpdk.org (Postfix) with ESMTP id DA62640650
 for <test-report@dpdk.org>; Mon, 31 Mar 2025 13:32:53 +0200 (CEST)
Received: by mail-qk1-f227.google.com with SMTP id
 af79cd13be357-7c5aecec8f3so736720785a.1
 for <test-report@dpdk.org>; Mon, 31 Mar 2025 04:32:53 -0700 (PDT)
DKIM-Signature: v=1; a=rsa-sha256; c=relaxed/relaxed;
 d=iol.unh.edu; s=unh-iol; t=1743420773; x=1744025573; darn=dpdk.org;
 h=references:in-reply-to:cc:to:from:subject:message-id:date:from:to
 :cc:subject:date:message-id:reply-to;
 bh=XqpDZeMNjoiuAyAhGj/yvqaJ96PIFd9LNUhyWFtJ1LE=;
 b=JbyGkhXBg7EAMedfYnILrVkMBd51SnLgTnyKF4Qbd0WBHIGTt/JN046/GoyzGXNDk3
 FJhQisz//zI2OH+dGh8G4ByRVpKhLPMRJX7VBDz1QTTMhFLBce9l9nxi/c4wXAWuYHS6
 dxa00D1Pr6R24s7uUa+/Y8510zQLQYktG4UbQ=
X-Google-DKIM-Signature: v=1; a=rsa-sha256; c=relaxed/relaxed;
 d=1e100.net; s=20230601; t=1743420773; x=1744025573;
 h=references:in-reply-to:cc:to:from:subject:message-id:date
 :x-gm-message-state:from:to:cc:subject:date:message-id:reply-to;
 bh=XqpDZeMNjoiuAyAhGj/yvqaJ96PIFd9LNUhyWFtJ1LE=;
 b=dD78LPW9LnYLjueKDIGqk9JObecNGipv83gG1lqgXKbOe5AyPnottBZFfE7fzKkgsv
 ZwK3qqDd3FsobHEbY6vPI2uIrup/JQnl8/R2jyfZtARg75IXOoW4fk1SYy4Li2yRvDLM
 0ZZp5C/lhj4jBOsHwWdF04tExe23fX9CN++MhFqPjCfmGaFYU9nV3oD2M2lf53SnCkWh
 SJdV2XJKUYlpzsN+Y+yPRcSYqQKDIkTREtuaKOSiKZMSaEBZTsFVUd5oV5fHjuQu1fhA
 ZvCOfaMWOdYEqeAyQdVFgFjV2mXmIdVFTKufEQWo/vllFJRSXQEMDRLcPsLiY56WB7fz
 WdkA==
X-Gm-Message-State: AOJu0YyWhBFMs0kQdH8GwqxoSVBbHquxfmFQ+UI0ehuuYeR0KUh1pTyT
 cd1GW2drMbv3sf7bORGtXhQOnFrU1qmi0LEdztAlpEYAA5av6YkGkvdjADSaWMPzz+7gSB6lTNP
 HXwUN8u/2PmEezPS7/Hy2b1OfMLi0dU3cT1nlXq9m
X-Gm-Gg: ASbGnct6gbS42THzn/P6Dyt9BhMKf2wdpGHS7Nnd1W8lbA1Hv3+zUZhXiIbbwXr6Sbd
 lCxliGTpNZ3JFCQB3Ra+EhMq/U2RAvv3h0A6fQNnpqynXkPPuhV4tdkwnPMhZlkUWCHhw55Cfwq
 c9vmiLJNEUOjjfGpsBDwh1pL7NSkOWXQACLkh7lZQJRw00SMxttGD9pIYumbz6+FPKlaGPCWWfp
 RK8Kj3sLyA/4WTKgJ1JfwfwzYBKqY3BG8c2pJ/2gPwHTPKmC5KbcncGjJ++1D+95nQ8jJZTJMk/
 9IS3u8XASngEGPRI1Lkc5NUo5SUjQ5iNXfI+x2Tr
X-Google-Smtp-Source: AGHT+IGsMjph3AohntqI1QO2KoZKquh5SXfqLBXikcyHdOhSXd9aZXtO+DTaiwpoLoXO0NSyx9xuNrmJje0c
X-Received: by 2002:a05:620a:29ca:b0:7c5:4cb7:ac97 with SMTP id
 af79cd13be357-7c6862ec118mr1254555385a.1.1743420773296; 
 Mon, 31 Mar 2025 04:32:53 -0700 (PDT)
Received: from postal.iol.unh.edu (postal.iol.unh.edu. [132.177.123.84])
 by smtp-relay.gmail.com with ESMTPS id
 6a1803df08f44-6eec9615ecesm5360806d6.13.2025.03.31.04.32.53
 (version=TLS1_2 cipher=ECDHE-ECDSA-AES128-GCM-SHA256 bits=128/128);
 Mon, 31 Mar 2025 04:32:53 -0700 (PDT)
X-Relaying-Domain: iol.unh.edu
Date: Mon, 31 Mar 2025 04:32:53 -0700 (PDT)
Message-ID: <67ea7d65.050a0220.2343.41ccSMTPIN_ADDED_MISSING@mx.google.com>
Received: from [172.17.0.4] (unknown [172.18.0.217])
 by postal.iol.unh.edu (Postfix) with ESMTP id E7F236052471;
 Mon, 31 Mar 2025 07:32:52 -0400 (EDT)
Subject: |SUCCESS| pw152671-152679 [PATCH] [v4,9/9] net/intel: simplify base 
From: dpdklab@iol.unh.edu
To: Test Report <test-report@dpdk.org>
Cc: dpdk-test-reports@iol.unh.edu
In-Reply-To: <20250328111621.2665257-10-bruce.richardson@intel.com>
References: <20250328111621.2665257-10-bruce.richardson@intel.com>
Content-Type: text/plain
X-BeenThere: test-report@dpdk.org
X-Mailman-Version: 2.1.29
Precedence: list
List-Id: automatic DPDK test reports <test-report.dpdk.org>
List-Unsubscribe: <https://mails.dpdk.org/options/test-report>,
 <mailto:test-report-request@dpdk.org?subject=unsubscribe>
List-Archive: <http://mails.dpdk.org/archives/test-report/>
List-Post: <mailto:test-report@dpdk.org>
List-Help: <mailto:test-report-request@dpdk.org?subject=help>
List-Subscribe: <https://mails.dpdk.org/listinfo/test-report>,
 <mailto:test-report-request@dpdk.org?subject=subscribe>
Errors-To: test-report-bounces@dpdk.org

Test-Label: iol-abi-testing
Test-Status: SUCCESS
http://dpdk.org/patch/152679

_Testing PASS_

Submitter: Bruce Richardson <bruce.richardson@intel.com>
Date: Friday, March 28 2025 11:16:21 
DPDK git baseline: Repo:dpdk
  Branch: master
  CommitID:edd3f4b1265e6da707c46ca9b6c39d332647baea

152671-152679 --> testing pass

Upstream job id: Generic-DPDK-Compile-ABI#121807

Test environment and result as below:

+-------------------+----------+
|    Environment    | abi_test |
+===================+==========+
| CentOS Stream 9   | PASS     |
+-------------------+----------+
| CentOS Stream 10  | PASS     |
+-------------------+----------+
| Fedora 40 (Clang) | PASS     |
+-------------------+----------+
| Debian 12         | PASS     |
+-------------------+----------+
| Fedora 40         | PASS     |
+-------------------+----------+
| Fedora 41 (Clang) | PASS     |
+-------------------+----------+
| Fedora 41         | PASS     |
+-------------------+----------+
| openSUSE Leap 15  | PASS     |
+-------------------+----------+
| RHEL8             | PASS     |
+-------------------+----------+
| RHEL9             | PASS     |
+-------------------+----------+
| Ubuntu 22.04      | PASS     |
+-------------------+----------+
| Ubuntu 24.04      | PASS     |
+-------------------+----------+


CentOS Stream 9
	Kernel: Depends on container host
	Compiler: gcc 11.5.0 20240719 (Red Hat 11.5.0-2)

CentOS Stream 10
	Kernel: Depends on container host
	Compiler: gcc 14.2.1 20241104 (Red Hat 14.2.1-6)

Fedora 40 (Clang)
	Kernel: Depends on container host
	Compiler: clang 18.1.8 (Fedora 18.1.8-1.fc40)

Debian 12
	Kernel: Depends on container host
	Compiler: gcc (Debian 12.2.0-14) 12.2.0

Fedora 40
	Kernel: Depends on container host
	Compiler: gcc 14.2.1 20240912 (Red Hat 14.2.1-3)

Fedora 41 (Clang)
	Kernel: Depends on container host
	Compiler: clang 19.1.5 (Fedora 19.1.5-1.fc41)

Fedora 41
	Kernel: Depends on container host
	Compiler: gcc 14.2.1 20240912 (Red Hat 14.2.1-3)

openSUSE Leap 15
	Kernel: Depends on container host
	Compiler: gcc (SUSE Linux) 7.5.0

RHEL8
	Kernel: Depends on container host
	Compiler: gcc 8.5.0 20210514 (Red Hat 8.5.0-22)

RHEL9
	Kernel: Depends on container host
	Compiler: gcc 11.5.0 20240719 (Red Hat 11.5.0-2)

Ubuntu 22.04
	Kernel: Depends on container host
	Compiler: gcc (Ubuntu 11.4.0-1ubuntu1~22.04) 11.4.0

Ubuntu 24.04
	Kernel: Depends on container host
	Compiler: gcc (Ubuntu 13.3.0-6ubuntu2~24.04) 13.3.0

To view detailed results, visit:
https://lab.dpdk.org/results/dashboard/patchsets/32911/

UNH-IOL DPDK Community Lab

To manage your email subscriptions, visit: 
https://lab.dpdk.org/results/dashboard/preferences/subscriptions/