From mboxrd@z Thu Jan  1 00:00:00 1970
Return-Path: <test-report-bounces@dpdk.org>
Received: from mails.dpdk.org (mails.dpdk.org [217.70.189.124])
	by inbox.dpdk.org (Postfix) with ESMTP id E44B8464C7
	for <public@inbox.dpdk.org>; Mon, 31 Mar 2025 13:34:28 +0200 (CEST)
Received: from mails.dpdk.org (localhost [127.0.0.1])
	by mails.dpdk.org (Postfix) with ESMTP id DBC5C4065A;
	Mon, 31 Mar 2025 13:34:28 +0200 (CEST)
Received: from mail-qk1-f225.google.com (mail-qk1-f225.google.com
 [209.85.222.225])
 by mails.dpdk.org (Postfix) with ESMTP id 5A11040650
 for <test-report@dpdk.org>; Mon, 31 Mar 2025 13:34:27 +0200 (CEST)
Received: by mail-qk1-f225.google.com with SMTP id
 af79cd13be357-7c5e2fe5f17so430269985a.3
 for <test-report@dpdk.org>; Mon, 31 Mar 2025 04:34:27 -0700 (PDT)
DKIM-Signature: v=1; a=rsa-sha256; c=relaxed/relaxed;
 d=iol.unh.edu; s=unh-iol; t=1743420867; x=1744025667; darn=dpdk.org;
 h=references:in-reply-to:cc:to:from:subject:message-id:date:from:to
 :cc:subject:date:message-id:reply-to;
 bh=EPBhygiF1eD5pTj7U5khzBMTsDubHoWab1ae8WN/CZM=;
 b=gHG9oPZjiZreP01bOgQuRqfFMFz8vvvazc6E0G0+/6g1aoVQJWg1Wtf+UEor1Y/HsM
 MFB4b7AJdKdLjkeQCqDcfXVG4doL2QZNU0ax7/4+ETKdQ7hokm4L/PjW/mn1pqWXZegQ
 xHKj/P82nlVDTThhBNkFkb1FfxqunEPI4H51I=
X-Google-DKIM-Signature: v=1; a=rsa-sha256; c=relaxed/relaxed;
 d=1e100.net; s=20230601; t=1743420867; x=1744025667;
 h=references:in-reply-to:cc:to:from:subject:message-id:date
 :x-gm-message-state:from:to:cc:subject:date:message-id:reply-to;
 bh=EPBhygiF1eD5pTj7U5khzBMTsDubHoWab1ae8WN/CZM=;
 b=c19q2uqAjYdeswYfG1NnuWdjGy4c542HrtgTQpaiUUicOwEQmhd5VhnPho3fdM7aHF
 p0jwgzqAR8bff6nkTLoLunAOmdWP2PY06c1ScQf3QoPNXWpIl1PhoMxMfUZ9a9k+FRFR
 IHN72E5xbFJK3scLo5HEn5X5UzW1gOob+dn8oGv84gqwtXjMf/LCke1d6kZyGlTpTkjd
 xkr5vdnjy24w66Xlp3JNjHI+s+n+jFIMrWYv1G8wWdlTzLKqBPL3k9xBiwj7/RbYcQrD
 nafrrhv2KLQaw5DVywTQ1uDR1OxUvj3pDksLaoguRejmHWij/74MCLrxlnnGaSFk/3TL
 xEMQ==
X-Gm-Message-State: AOJu0Ywt4KyFc8Z461f4NF2iiysLUvrYg/dh0vbnEQZovysVE1IkCw9y
 D4uKzO5RSC3vz8sQXs+E0ENPWLsS7xfZ1cVLb9NnvfqopxIsLjCzomZXok4Bb2hL8UKBG5c4m2d
 BzSy9K6kSx+XqeRb2x2o/yU5XrplV1WXQv4Ak3VsG
X-Gm-Gg: ASbGnctOGdefQwcLDCNdoStdxCR6FbbuhpRWXvAg9OZqQRu5i27MyUjs37x8PpZZpKZ
 oWQUddzQG9wCvNTWTIRF1LKWrfI1/HhWeMjDkffPvpV9mujPieX4oVBvc197AT0bFuL6yncZn87
 mxFXM4fdHB6KfnJZ7sB9oWahfVMSScdHlZ32nxPQoikJY8M8mgpBkERuTDVq225Ld5HL5rl80h6
 0hULfRrE+8w0fyC0EmZKhmRzGQIJZLpzYO9tthiCW4uCIK8yIrzBtfDK009rW3EkZsZT4aWVlsG
 ILqkcmAGu60qztDfPXjVWXHypdWHSDzC9X1df8S0
X-Google-Smtp-Source: AGHT+IH6etd+mXPi7+XbwBkVgrsGqsxvK0FzIrFF0zEerzEgyK/NuMgtXj/SalC+MNlsog/XvwoDW5aNfMk4
X-Received: by 2002:a05:620a:3902:b0:7c5:5f38:ba4b with SMTP id
 af79cd13be357-7c6862ef4c7mr1262506585a.10.1743420866750; 
 Mon, 31 Mar 2025 04:34:26 -0700 (PDT)
Received: from postal.iol.unh.edu (postal.iol.unh.edu. [132.177.123.84])
 by smtp-relay.gmail.com with ESMTPS id
 af79cd13be357-7c5f777eac7sm26675385a.3.2025.03.31.04.34.26
 (version=TLS1_2 cipher=ECDHE-ECDSA-AES128-GCM-SHA256 bits=128/128);
 Mon, 31 Mar 2025 04:34:26 -0700 (PDT)
X-Relaying-Domain: iol.unh.edu
Date: Mon, 31 Mar 2025 04:34:26 -0700 (PDT)
Message-ID: <67ea7dc2.050a0220.1dc00f.8f08SMTPIN_ADDED_MISSING@mx.google.com>
Received: from [172.17.0.5] (unknown [172.18.0.217])
 by postal.iol.unh.edu (Postfix) with ESMTP id 36D0B6052471;
 Mon, 31 Mar 2025 07:34:26 -0400 (EDT)
Subject: |SUCCESS| pw152671-152679 [PATCH] [v4,9/9] net/intel: simplify base 
From: dpdklab@iol.unh.edu
To: Test Report <test-report@dpdk.org>
Cc: dpdk-test-reports@iol.unh.edu
In-Reply-To: <20250328111621.2665257-10-bruce.richardson@intel.com>
References: <20250328111621.2665257-10-bruce.richardson@intel.com>
Content-Type: text/plain
X-BeenThere: test-report@dpdk.org
X-Mailman-Version: 2.1.29
Precedence: list
List-Id: automatic DPDK test reports <test-report.dpdk.org>
List-Unsubscribe: <https://mails.dpdk.org/options/test-report>,
 <mailto:test-report-request@dpdk.org?subject=unsubscribe>
List-Archive: <http://mails.dpdk.org/archives/test-report/>
List-Post: <mailto:test-report@dpdk.org>
List-Help: <mailto:test-report-request@dpdk.org?subject=help>
List-Subscribe: <https://mails.dpdk.org/listinfo/test-report>,
 <mailto:test-report-request@dpdk.org?subject=subscribe>
Errors-To: test-report-bounces@dpdk.org

Test-Label: iol-abi-testing
Test-Status: SUCCESS
http://dpdk.org/patch/152679

_Testing PASS_

Submitter: Bruce Richardson <bruce.richardson@intel.com>
Date: Friday, March 28 2025 11:16:21 
DPDK git baseline: Repo:dpdk
  Branch: master
  CommitID:edd3f4b1265e6da707c46ca9b6c39d332647baea

152671-152679 --> testing pass

Upstream job id: Generic-DPDK-Compile-ABI#121816

Test environment and result as below:

+-------------------+----------+
|    Environment    | abi_test |
+===================+==========+
| CentOS Stream 9   | PASS     |
+-------------------+----------+
| CentOS Stream 10  | PASS     |
+-------------------+----------+
| Fedora 40 (Clang) | PASS     |
+-------------------+----------+
| Debian 12         | PASS     |
+-------------------+----------+
| Fedora 40         | PASS     |
+-------------------+----------+
| Fedora 41 (Clang) | PASS     |
+-------------------+----------+
| Fedora 41         | PASS     |
+-------------------+----------+
| openSUSE Leap 15  | PASS     |
+-------------------+----------+
| RHEL8             | PASS     |
+-------------------+----------+
| RHEL9             | PASS     |
+-------------------+----------+
| Ubuntu 22.04      | PASS     |
+-------------------+----------+
| Ubuntu 24.04      | PASS     |
+-------------------+----------+


CentOS Stream 9
	Kernel: Depends on container host
	Compiler: gcc 11.5.0 20240719 (Red Hat 11.5.0-2)

CentOS Stream 10
	Kernel: Depends on container host
	Compiler: gcc 14.2.1 20241104 (Red Hat 14.2.1-6)

Fedora 40 (Clang)
	Kernel: Depends on container host
	Compiler: clang 18.1.8 (Fedora 18.1.8-1.fc40)

Debian 12
	Kernel: Depends on container host
	Compiler: gcc (Debian 12.2.0-14) 12.2.0

Fedora 40
	Kernel: Depends on container host
	Compiler: gcc 14.2.1 20240912 (Red Hat 14.2.1-3)

Fedora 41 (Clang)
	Kernel: Depends on container host
	Compiler: clang 19.1.5 (Fedora 19.1.5-1.fc41)

Fedora 41
	Kernel: Depends on container host
	Compiler: gcc 14.2.1 20240912 (Red Hat 14.2.1-3)

openSUSE Leap 15
	Kernel: Depends on container host
	Compiler: gcc (SUSE Linux) 7.5.0

RHEL8
	Kernel: Depends on container host
	Compiler: gcc 8.5.0 20210514 (Red Hat 8.5.0-22)

RHEL9
	Kernel: Depends on container host
	Compiler: gcc 11.5.0 20240719 (Red Hat 11.5.0-2)

Ubuntu 22.04
	Kernel: Depends on container host
	Compiler: gcc (Ubuntu 11.4.0-1ubuntu1~22.04) 11.4.0

Ubuntu 24.04
	Kernel: Depends on container host
	Compiler: gcc (Ubuntu 13.3.0-6ubuntu2~24.04) 13.3.0

To view detailed results, visit:
https://lab.dpdk.org/results/dashboard/patchsets/32911/

UNH-IOL DPDK Community Lab

To manage your email subscriptions, visit: 
https://lab.dpdk.org/results/dashboard/preferences/subscriptions/