From mboxrd@z Thu Jan  1 00:00:00 1970
Return-Path: <test-report-bounces@dpdk.org>
Received: from mails.dpdk.org (mails.dpdk.org [217.70.189.124])
	by inbox.dpdk.org (Postfix) with ESMTP id 0CC84464C7
	for <public@inbox.dpdk.org>; Mon, 31 Mar 2025 13:35:17 +0200 (CEST)
Received: from mails.dpdk.org (localhost [127.0.0.1])
	by mails.dpdk.org (Postfix) with ESMTP id 048EC4065A;
	Mon, 31 Mar 2025 13:35:17 +0200 (CEST)
Received: from mail-qk1-f225.google.com (mail-qk1-f225.google.com
 [209.85.222.225])
 by mails.dpdk.org (Postfix) with ESMTP id B688840650
 for <test-report@dpdk.org>; Mon, 31 Mar 2025 13:35:15 +0200 (CEST)
Received: by mail-qk1-f225.google.com with SMTP id
 af79cd13be357-7c546334bdeso326397185a.2
 for <test-report@dpdk.org>; Mon, 31 Mar 2025 04:35:15 -0700 (PDT)
DKIM-Signature: v=1; a=rsa-sha256; c=relaxed/relaxed;
 d=iol.unh.edu; s=unh-iol; t=1743420915; x=1744025715; darn=dpdk.org;
 h=references:in-reply-to:cc:to:from:subject:message-id:date:from:to
 :cc:subject:date:message-id:reply-to;
 bh=o0TUEZPAVTmMmR4HqygUm/HJuOgJA1C78/o9BQp/+x0=;
 b=cJDjvzF7qafDocGszvigI9qFJxjvi5ozakGmqK7Ar1CdUbLCvYGG/0WSsrfP6gM3/H
 WbvuepLGql6LbVlppnhs33D6TPB5EEJmG+1o1M1eglyx2h4Cmni/KJ6BVCM2Rnap0Sn7
 8HtsnQpc9OVe8TjrnurUjTZFxbV6b5GEnbLXE=
X-Google-DKIM-Signature: v=1; a=rsa-sha256; c=relaxed/relaxed;
 d=1e100.net; s=20230601; t=1743420915; x=1744025715;
 h=references:in-reply-to:cc:to:from:subject:message-id:date
 :x-gm-message-state:from:to:cc:subject:date:message-id:reply-to;
 bh=o0TUEZPAVTmMmR4HqygUm/HJuOgJA1C78/o9BQp/+x0=;
 b=nwdXXDjjmS3Wsql/GQ0wNdEiD0u+ZF3n97KAIml6LKzox7fy9WHbW05tfUm1wCGS+9
 oh0o3VOlLTdK63N7NYmR1HjmjKRpBo8G8gEJXNu41gMd5cYnb4vJRWLAvhnDlSi3Hg5d
 NiuqGamaqeZnEIKi12CeFM/THCW57nbv3QY9aURE1fSfpuRCTqXr9e0xLHQsCeMxqagY
 dBz+Fh9Li+bwrgB6scuGOCkMjMwMW+jalPyPbT1w5X7kxn+/HmGhsbg1RpXnxnGAT0ml
 sSdUxSsa//B1srvETwEXkgV3iIwfJ4MwoWtKI6UFYuQb4dPCJRTSfJOTWfmC+hqHIG2n
 BenA==
X-Gm-Message-State: AOJu0YzooBtcMitSn0t7a0NQuzZKfQkkDfwuoYTJp/5RxtqF4z+U8j16
 9PwEGz8YImhVbyufTPlTlzulRr/VFJcs+Lu7xc3kzuiXgOiEvjtS57Br3uY6U+baOpal2R6XDBl
 59tj0z8+fcp/uh4k4gmswxDrZtx5UD/Jo4vxfFf3D
X-Gm-Gg: ASbGnctvV6an9qt6kRzp+T+rcfOfcDf/13mork125K61qWUY++aXkZtriv9n9dByTKp
 mRJU28cgvkja+9ndZq8gL1P57s3bvRwq28Ouxvd07j7fFUKssc8LZSOvTaJzWY8BSf6nDiqelEv
 WEEMfSrDWeSLXVCdVZmdS2XavIhTtlOxZOfVgvUrJVmYXo4FrnoX7PiJ2vI/9pOGEx0t/wdKYWt
 /dcCLmq71AXobN4OitNzdtyK8c8h5eSa0M4WSqvN2JHt90lrNNFej/Svj53bviQ8tyF/02PhN67
 xK764KnB9v82GhbHFHQ0fefFg9mR+s4GFeEhjBJ5
X-Google-Smtp-Source: AGHT+IEOVCUnCRSJe4G7ZjlCDDB1Y5NZp1fbDIeSelNpk+eakx9cgGr+afK6dFa9zrQh20pxzlj5PosS62Gz
X-Received: by 2002:a05:6214:c2f:b0:6d4:19a0:202 with SMTP id
 6a1803df08f44-6eed62777edmr98799586d6.33.1743420915192; 
 Mon, 31 Mar 2025 04:35:15 -0700 (PDT)
Received: from postal.iol.unh.edu (postal.iol.unh.edu. [132.177.123.84])
 by smtp-relay.gmail.com with ESMTPS id
 6a1803df08f44-6eec963b9d4sm5411426d6.24.2025.03.31.04.35.15
 (version=TLS1_2 cipher=ECDHE-ECDSA-AES128-GCM-SHA256 bits=128/128);
 Mon, 31 Mar 2025 04:35:15 -0700 (PDT)
X-Relaying-Domain: iol.unh.edu
Date: Mon, 31 Mar 2025 04:35:15 -0700 (PDT)
Message-ID: <67ea7df3.050a0220.2d8a40.4ffdSMTPIN_ADDED_MISSING@mx.google.com>
Received: from [172.17.0.4] (unknown [172.18.0.217])
 by postal.iol.unh.edu (Postfix) with ESMTP id D1C146052471;
 Mon, 31 Mar 2025 07:35:14 -0400 (EDT)
Subject: |SUCCESS| pw152671-152679 [PATCH] [v4,9/9] net/intel: simplify base 
From: dpdklab@iol.unh.edu
To: Test Report <test-report@dpdk.org>
Cc: dpdk-test-reports@iol.unh.edu
In-Reply-To: <20250328111621.2665257-10-bruce.richardson@intel.com>
References: <20250328111621.2665257-10-bruce.richardson@intel.com>
Content-Type: text/plain
X-BeenThere: test-report@dpdk.org
X-Mailman-Version: 2.1.29
Precedence: list
List-Id: automatic DPDK test reports <test-report.dpdk.org>
List-Unsubscribe: <https://mails.dpdk.org/options/test-report>,
 <mailto:test-report-request@dpdk.org?subject=unsubscribe>
List-Archive: <http://mails.dpdk.org/archives/test-report/>
List-Post: <mailto:test-report@dpdk.org>
List-Help: <mailto:test-report-request@dpdk.org?subject=help>
List-Subscribe: <https://mails.dpdk.org/listinfo/test-report>,
 <mailto:test-report-request@dpdk.org?subject=subscribe>
Errors-To: test-report-bounces@dpdk.org

Test-Label: iol-abi-testing
Test-Status: SUCCESS
http://dpdk.org/patch/152679

_Testing PASS_

Submitter: Bruce Richardson <bruce.richardson@intel.com>
Date: Friday, March 28 2025 11:16:21 
DPDK git baseline: Repo:dpdk
  Branch: master
  CommitID:edd3f4b1265e6da707c46ca9b6c39d332647baea

152671-152679 --> testing pass

Upstream job id: Generic-DPDK-Compile-ABI#121808

Test environment and result as below:

+-------------------+----------+
|    Environment    | abi_test |
+===================+==========+
| CentOS Stream 9   | PASS     |
+-------------------+----------+
| CentOS Stream 10  | PASS     |
+-------------------+----------+
| Fedora 40 (Clang) | PASS     |
+-------------------+----------+
| Debian 12         | PASS     |
+-------------------+----------+
| Fedora 40         | PASS     |
+-------------------+----------+
| Fedora 41 (Clang) | PASS     |
+-------------------+----------+
| Fedora 41         | PASS     |
+-------------------+----------+
| openSUSE Leap 15  | PASS     |
+-------------------+----------+
| RHEL8             | PASS     |
+-------------------+----------+
| RHEL9             | PASS     |
+-------------------+----------+
| Ubuntu 22.04      | PASS     |
+-------------------+----------+
| Ubuntu 24.04      | PASS     |
+-------------------+----------+


CentOS Stream 9
	Kernel: Depends on container host
	Compiler: gcc 11.5.0 20240719 (Red Hat 11.5.0-2)

CentOS Stream 10
	Kernel: Depends on container host
	Compiler: gcc 14.2.1 20241104 (Red Hat 14.2.1-6)

Fedora 40 (Clang)
	Kernel: Depends on container host
	Compiler: clang 18.1.8 (Fedora 18.1.8-1.fc40)

Debian 12
	Kernel: Depends on container host
	Compiler: gcc (Debian 12.2.0-14) 12.2.0

Fedora 40
	Kernel: Depends on container host
	Compiler: gcc 14.2.1 20240912 (Red Hat 14.2.1-3)

Fedora 41 (Clang)
	Kernel: Depends on container host
	Compiler: clang 19.1.5 (Fedora 19.1.5-1.fc41)

Fedora 41
	Kernel: Depends on container host
	Compiler: gcc 14.2.1 20240912 (Red Hat 14.2.1-3)

openSUSE Leap 15
	Kernel: Depends on container host
	Compiler: gcc (SUSE Linux) 7.5.0

RHEL8
	Kernel: Depends on container host
	Compiler: gcc 8.5.0 20210514 (Red Hat 8.5.0-22)

RHEL9
	Kernel: Depends on container host
	Compiler: gcc 11.5.0 20240719 (Red Hat 11.5.0-2)

Ubuntu 22.04
	Kernel: Depends on container host
	Compiler: gcc (Ubuntu 11.4.0-1ubuntu1~22.04) 11.4.0

Ubuntu 24.04
	Kernel: Depends on container host
	Compiler: gcc (Ubuntu 13.3.0-6ubuntu2~24.04) 13.3.0

To view detailed results, visit:
https://lab.dpdk.org/results/dashboard/patchsets/32911/

UNH-IOL DPDK Community Lab

To manage your email subscriptions, visit: 
https://lab.dpdk.org/results/dashboard/preferences/subscriptions/