From mboxrd@z Thu Jan  1 00:00:00 1970
Return-Path: <test-report-bounces@dpdk.org>
Received: from mails.dpdk.org (mails.dpdk.org [217.70.189.124])
	by inbox.dpdk.org (Postfix) with ESMTP id 89C4F464C9
	for <public@inbox.dpdk.org>; Mon, 31 Mar 2025 17:29:49 +0200 (CEST)
Received: from mails.dpdk.org (localhost [127.0.0.1])
	by mails.dpdk.org (Postfix) with ESMTP id 626054067C;
	Mon, 31 Mar 2025 17:29:49 +0200 (CEST)
Received: from mail-qv1-f97.google.com (mail-qv1-f97.google.com
 [209.85.219.97]) by mails.dpdk.org (Postfix) with ESMTP id 12CB8402DF
 for <test-report@dpdk.org>; Mon, 31 Mar 2025 17:29:48 +0200 (CEST)
Received: by mail-qv1-f97.google.com with SMTP id
 6a1803df08f44-6e91d323346so49222356d6.1
 for <test-report@dpdk.org>; Mon, 31 Mar 2025 08:29:48 -0700 (PDT)
DKIM-Signature: v=1; a=rsa-sha256; c=relaxed/relaxed;
 d=iol.unh.edu; s=unh-iol; t=1743434987; x=1744039787; darn=dpdk.org;
 h=references:in-reply-to:cc:to:from:subject:message-id:date:from:to
 :cc:subject:date:message-id:reply-to;
 bh=eLTOq3FHxve0syUk3uDrOSiH5RpBkluBOZem6PXOfcA=;
 b=AEgsn3nRagQzye9W2gtZvtrR78fF6Ztv20ZFV7BoFGrJIWRl9wsxfPDkqvNVinXabG
 EcgMbYCyIF4ggBSRJNazrmiztCrGVu45Nj1LfAxSW6pLnCXRq0a4ZgVM1uqd92DKea+2
 4Jn/MmMlpHJij9F0IM3V51RcZrAZm11+ZMa6Q=
X-Google-DKIM-Signature: v=1; a=rsa-sha256; c=relaxed/relaxed;
 d=1e100.net; s=20230601; t=1743434987; x=1744039787;
 h=references:in-reply-to:cc:to:from:subject:message-id:date
 :x-gm-message-state:from:to:cc:subject:date:message-id:reply-to;
 bh=eLTOq3FHxve0syUk3uDrOSiH5RpBkluBOZem6PXOfcA=;
 b=YR4nDW7OdROMlHWVf6OeHqixi+bsmrrq3wB7Ivp+vGY9RdLjywGP/6Ok8wPEJsY51J
 OyYzBE/BRpxRjG5SNHFULTuHkxuhtDoRK2Mnln36ip6EWpRkr3DZGoXDJgQ4C2EQXw6T
 CW2HHfr7YSpZzb72iESLXOy4ujzZ3L2kv+reNJL5POnRAD0jpTKtM2ecTHKaYbE2c9g1
 iAS7XWlQs+UTQkzV9ZjodMi8PxpGmIP2XYMt1TJTXB/rGVGY84BipBzi3nI1axqWCpMf
 ZEYEmPN2q5N8rSfRUfpUtv5JSmKJJkiMr3N4eoy35GwO/wd6Q292N9/jxnbbB6ipUI0e
 G4BQ==
X-Gm-Message-State: AOJu0Yyiio9BMfH95A2c3t79bWK9E18EGXTFd4xMKUyaCmbMqkuYMbuq
 ajjMR1e0tgwZPQtGegffTe5wVtlYrjdkUSWmA4aZJFJnA3fKLslkaLdNFNRJoWovqUigq4r5bBx
 OSaki2Z4wwAIOHRzSv9nrcLSCX3SOV18BsEJQ8Ob3
X-Gm-Gg: ASbGncshsgLKBEwCoJkzIszX5S4QVXPSbjmGBM1opLONHXIpY8eYqlYqGMQE2Oxd7qQ
 /SXPRMNoWQtF4CMsg+JiyWetWIHmvg8sHYOwsyG4gRk5lQ8CqTVcBNbjRXj3E9z88wiOSL4/6gz
 a+mge3AtKF7oErNK9hVMSbIbwZwTs1ImV8SEikYLp8STZB/0SeF3TwpAARfx6H180o8YH/O53Hx
 YMVYMX7Phvl9ah2BsAFS1e0a3Cr7cLuiCIh4LiigISSwbnqrg+ZsF8EXYvymRdsPRaQRjdC081B
 qWT4why+iJeG5d8g9IiEIJXt0CmcWdDKLmcy5XOg
X-Google-Smtp-Source: AGHT+IFfCpZrQYFJdDup7zNonE2aSw0DXHVaq5Gow6701X6XO9W8AvOpsa56pdxPdkL5XnAEkkWRFJ7aDr0w
X-Received: by 2002:a05:6214:484:b0:6ed:1095:e9cc with SMTP id
 6a1803df08f44-6eed51b2682mr177643116d6.8.1743434987410; 
 Mon, 31 Mar 2025 08:29:47 -0700 (PDT)
Received: from postal.iol.unh.edu (postal.iol.unh.edu. [132.177.123.84])
 by smtp-relay.gmail.com with ESMTPS id
 6a1803df08f44-6eec963b600sm5660546d6.19.2025.03.31.08.29.47
 (version=TLS1_2 cipher=ECDHE-ECDSA-AES128-GCM-SHA256 bits=128/128);
 Mon, 31 Mar 2025 08:29:47 -0700 (PDT)
X-Relaying-Domain: iol.unh.edu
Date: Mon, 31 Mar 2025 08:29:47 -0700 (PDT)
Message-ID: <67eab4eb.050a0220.17c6a0.623fSMTPIN_ADDED_MISSING@mx.google.com>
Received: from [172.17.0.3] (unknown [172.18.0.217])
 by postal.iol.unh.edu (Postfix) with ESMTP id 12B096052471;
 Mon, 31 Mar 2025 11:29:47 -0400 (EDT)
Subject: |SUCCESS| pw152681-152682 [PATCH] [v2,4/4] mempool perf test: test r
From: dpdklab@iol.unh.edu
To: Test Report <test-report@dpdk.org>
Cc: dpdk-test-reports@iol.unh.edu
In-Reply-To: <20250331100343.213430-5-mb@smartsharesystems.com>
References: <20250331100343.213430-5-mb@smartsharesystems.com>
Content-Type: text/plain
X-BeenThere: test-report@dpdk.org
X-Mailman-Version: 2.1.29
Precedence: list
List-Id: automatic DPDK test reports <test-report.dpdk.org>
List-Unsubscribe: <https://mails.dpdk.org/options/test-report>,
 <mailto:test-report-request@dpdk.org?subject=unsubscribe>
List-Archive: <http://mails.dpdk.org/archives/test-report/>
List-Post: <mailto:test-report@dpdk.org>
List-Help: <mailto:test-report-request@dpdk.org?subject=help>
List-Subscribe: <https://mails.dpdk.org/listinfo/test-report>,
 <mailto:test-report-request@dpdk.org?subject=subscribe>
Errors-To: test-report-bounces@dpdk.org

Test-Label: iol-compile-arm64-testing
Test-Status: SUCCESS
http://dpdk.org/patch/152682

_Testing PASS_

Submitter: Morten Brorup <mb@smartsharesystems.com>
Date: Monday, March 31 2025 10:03:42 
DPDK git baseline: Repo:dpdk
  Branch: master
  CommitID:edd3f4b1265e6da707c46ca9b6c39d332647baea

152681-152682 --> testing pass

Upstream job id: Generic-DPDK-Compile-Meson#376082

Test environment and result as below:

+----------------------------------------+--------------------+
|              Environment               | dpdk_meson_compile |
+========================================+====================+
| RHEL9 (ARM)                            | PASS               |
+----------------------------------------+--------------------+
| Ubuntu 20.04 ARM GCC Cross Compile     | PASS               |
+----------------------------------------+--------------------+
| Ubuntu 20.04 ARM SVE                   | PASS               |
+----------------------------------------+--------------------+
| Fedora 40 (ARM Clang)                  | PASS               |
+----------------------------------------+--------------------+
| Fedora 40 (ARM)                        | PASS               |
+----------------------------------------+--------------------+
| Debian 12 with MUSDK                   | PASS               |
+----------------------------------------+--------------------+
| Fedora 41 (ARM)                        | PASS               |
+----------------------------------------+--------------------+
| Fedora 41 (ARM Clang)                  | PASS               |
+----------------------------------------+--------------------+
| Ubuntu 20.04 (ARM)                     | PASS               |
+----------------------------------------+--------------------+
| Ubuntu 22.04 (ARM)                     | PASS               |
+----------------------------------------+--------------------+
| CentOS Stream 9 (ARM)                  | PASS               |
+----------------------------------------+--------------------+
| Ubuntu 24.04 (ARM)                     | PASS               |
+----------------------------------------+--------------------+
| CentOS Stream 10 (ARM)                 | PASS               |
+----------------------------------------+--------------------+
| Debian 12 (arm)                        | PASS               |
+----------------------------------------+--------------------+
| Ubuntu 20.04 ARM Clang Cross Compile   | PASS               |
+----------------------------------------+--------------------+
| Ubuntu 20.04 aarch32 GCC Cross Compile | PASS               |
+----------------------------------------+--------------------+


RHEL9 (ARM)
	Kernel: Depends on container host
	Compiler: gcc 11.5.0 20240719 (Red Hat 11.5.0-2)

Ubuntu 20.04 ARM GCC Cross Compile
	Kernel: Depends on container host
	Compiler: aarch64-linux-gnu-gcc (Ubuntu 9.4.0-1ubuntu1~20.04.2) 9.4.0

Ubuntu 20.04 ARM SVE
	Kernel: Depends on container host
	Compiler: gcc (Ubuntu 10.5.0-1ubuntu1~20.04) 10.5.0

Fedora 40 (ARM Clang)
	Kernel: Depends on container host
	Compiler: clang 18.1.8 (Fedora 18.1.8-1.fc40)

Fedora 40 (ARM)
	Kernel: Depends on container host
	Compiler: gcc 14.2.1 20240912 (Red Hat 14.2.1-3)

Debian 12 with MUSDK
	Kernel: Depends on container host
	Compiler: gcc (Debian 12.2.0-14) 12.2.0

Fedora 41 (ARM)
	Kernel: Depends on container host
	Compiler: gcc 14.2.1 20240912 (Red Hat 14.2.1-3)

Fedora 41 (ARM Clang)
	Kernel: Depends on container host
	Compiler: clang 19.1.5 (Fedora 19.1.5-1.fc41)

Ubuntu 20.04 (ARM)
	Kernel: Depends on container host
	Compiler: gcc (Ubuntu 9.4.0-1ubuntu1~20.04.2) 9.4.0

Ubuntu 22.04 (ARM)
	Kernel: Depends on container host
	Compiler: gcc (Ubuntu 11.4.0-1ubuntu1~22.04) 11.4.0

CentOS Stream 9 (ARM)
	Kernel: Depends on container host
	Compiler: gcc 11.5.0 20240719 (Red Hat 11.5.0-2)

Ubuntu 24.04 (ARM)
	Kernel: Depends on container host
	Compiler: gcc (Ubuntu 13.3.0-6ubuntu2~24.04) 13.3.0

CentOS Stream 10 (ARM)
	Kernel: Depends on container host
	Compiler: gcc 14.2.1 20241104 (Red Hat 14.2.1-6)

Debian 12 (arm)
	Kernel: Depends on container host
	Compiler: gcc (Debian 12.2.0-14) 12.2.0

Ubuntu 20.04 ARM Clang Cross Compile
	Kernel: Depends on container host
	Compiler: clang 10.0.0-4ubuntu1

Ubuntu 20.04 aarch32 GCC Cross Compile
	Kernel: Depends on container host
	Compiler: gcc 9.4.0

To view detailed results, visit:
https://lab.dpdk.org/results/dashboard/patchsets/32913/

UNH-IOL DPDK Community Lab

To manage your email subscriptions, visit: 
https://lab.dpdk.org/results/dashboard/preferences/subscriptions/