From mboxrd@z Thu Jan  1 00:00:00 1970
Return-Path: <test-report-bounces@dpdk.org>
Received: from mails.dpdk.org (mails.dpdk.org [217.70.189.124])
	by inbox.dpdk.org (Postfix) with ESMTP id 8FDE6464CF
	for <public@inbox.dpdk.org>; Tue,  1 Apr 2025 18:18:44 +0200 (CEST)
Received: from mails.dpdk.org (localhost [127.0.0.1])
	by mails.dpdk.org (Postfix) with ESMTP id 8B87440275;
	Tue,  1 Apr 2025 18:18:44 +0200 (CEST)
Received: from mail-pj1-f99.google.com (mail-pj1-f99.google.com
 [209.85.216.99]) by mails.dpdk.org (Postfix) with ESMTP id 2B91140269
 for <test-report@dpdk.org>; Tue,  1 Apr 2025 18:18:43 +0200 (CEST)
Received: by mail-pj1-f99.google.com with SMTP id
 98e67ed59e1d1-2ff6a98c638so11588771a91.0
 for <test-report@dpdk.org>; Tue, 01 Apr 2025 09:18:43 -0700 (PDT)
DKIM-Signature: v=1; a=rsa-sha256; c=relaxed/relaxed;
 d=iol.unh.edu; s=unh-iol; t=1743524322; x=1744129122; darn=dpdk.org;
 h=references:in-reply-to:cc:to:from:subject:message-id:date:from:to
 :cc:subject:date:message-id:reply-to;
 bh=a4cizkW1Cz6fAyNCN8O8j47Iw7xhVD6B+Oyz2eNx/bc=;
 b=bnTTCd6FmkAx5kEov5TK4CbysVcFl8Df2ocqngV2YbLVOzIhrm1BO4bD3DO6gCjOs3
 qVcxekXa1VfCacbY0YiS0k3Zkupdm49NE6dXeqrOrvs5EuCzbMwV9MxA/j8P7YNg8Iwh
 2+fD2CoslXoFKlY1yQL80H66nNLqRdTmRnpjM=
X-Google-DKIM-Signature: v=1; a=rsa-sha256; c=relaxed/relaxed;
 d=1e100.net; s=20230601; t=1743524322; x=1744129122;
 h=references:in-reply-to:cc:to:from:subject:message-id:date
 :x-gm-message-state:from:to:cc:subject:date:message-id:reply-to;
 bh=a4cizkW1Cz6fAyNCN8O8j47Iw7xhVD6B+Oyz2eNx/bc=;
 b=waDoMWBU3AOofKjZfMItJww5gcgE137JOppnXsJtu5SMlmJGBDdHPCDXhtfLWe6RTL
 2wYx29zE7Y/5nno185wwJd3idLP2Jf0IO/71Tup69VY+QtOXBJF16VhMSgF5mVDDn7VV
 iW+QEcC5lTIB9dd+cP6QYsTBkN1lCwONl9972GKOTXE/QmMrE0KjilXLQer6q7EEwyT9
 RE41504HaFKqIaInKK6dFd45uT5h5WC+SlDiZ4YAoRx4c+GDjjXTfHG0ZXobTV+e5IhL
 smujqDYZQtJE0bpMGWKeDObDrWxj0KUo1nxNtLHf4DyHs9eCa0s5DrnrG28/SvFRd2xl
 sl1w==
X-Gm-Message-State: AOJu0YyRuRT/OjRlldgzyTJj8rnx0zDf8IwGQUFywOrPEONVgZ771BNz
 Cs3YpALp3fNh7G7XbmvhmcMIIMGC5Z9MJLehe8qjyDp1QX8PdKANXhgR0wohJbLvrrudEso8ObX
 //ZUaQjmxPVZBrtOTe1xFTOp69nb3r2/TIilRWxaLRSXryeWUUQb9BVZi
X-Gm-Gg: ASbGncsLXkUFD8YNjTB85p+NVHoublrWUz2n1T5/anbLob5Kfc2pEpggwU770DsvDuj
 wymP87E+z3+Ppi+FdbEKq2Ba702GOF7otLony3UvThw9HWPJEiRnf436G11hF8RBpszp/f2Zarg
 KWipVhvDdkJIHfM1kP0EwRaM072U38w0RzurkUup7VLVRyTQsXJ76uY6YT4AjTFjMnYZ1aTtmAk
 fJ+RZvn6pWBrm0eS4Dnlx/PRNLiRnMsSj11MFDctR4aGCkJSnLTkLsWpGtfcTPb/lsFWBlMN1bC
 k4ZYeTR06v78YvYwhTOuaiqgKlRjBBBfDzgYC1BnBaovmq0EvjB5
X-Google-Smtp-Source: AGHT+IGkB7Xh0g6QdjkBcog8c50x/bcuhpMcttCWYvnUFAHSjn77djH4/od/fDPwBXbre5ZXuyebXoTOeAHo
X-Received: by 2002:a17:90b:582d:b0:2ee:df70:1ff3 with SMTP id
 98e67ed59e1d1-30531e899f2mr22693309a91.0.1743524322337; 
 Tue, 01 Apr 2025 09:18:42 -0700 (PDT)
Received: from postal.iol.unh.edu (postal.iol.unh.edu.
 [2606:4100:3880:1234::84]) by smtp-relay.gmail.com with ESMTPS id
 98e67ed59e1d1-30516d57bd8sm783245a91.6.2025.04.01.09.18.42
 (version=TLS1_2 cipher=ECDHE-ECDSA-AES128-GCM-SHA256 bits=128/128);
 Tue, 01 Apr 2025 09:18:42 -0700 (PDT)
X-Relaying-Domain: iol.unh.edu
Date: Tue, 01 Apr 2025 09:18:42 -0700 (PDT)
Message-ID: <67ec11e2.170a0220.220260.1d96SMTPIN_ADDED_MISSING@mx.google.com>
Received: from [172.21.0.6] (unknown [172.18.0.240])
 by postal.iol.unh.edu (Postfix) with ESMTP id 7B5576052471;
 Tue,  1 Apr 2025 12:18:41 -0400 (EDT)
Subject: |SUCCESS| pw152708-152711 [PATCH] [v3,4/4] mempool perf test: test r
From: dpdklab@iol.unh.edu
To: Test Report <test-report@dpdk.org>
Cc: dpdk-test-reports@iol.unh.edu
In-Reply-To: <20250401150214.4989-5-mb@smartsharesystems.com>
References: <20250401150214.4989-5-mb@smartsharesystems.com>
Content-Type: text/plain
X-BeenThere: test-report@dpdk.org
X-Mailman-Version: 2.1.29
Precedence: list
List-Id: automatic DPDK test reports <test-report.dpdk.org>
List-Unsubscribe: <https://mails.dpdk.org/options/test-report>,
 <mailto:test-report-request@dpdk.org?subject=unsubscribe>
List-Archive: <http://mails.dpdk.org/archives/test-report/>
List-Post: <mailto:test-report@dpdk.org>
List-Help: <mailto:test-report-request@dpdk.org?subject=help>
List-Subscribe: <https://mails.dpdk.org/listinfo/test-report>,
 <mailto:test-report-request@dpdk.org?subject=subscribe>
Errors-To: test-report-bounces@dpdk.org

Test-Label: iol-sample-apps-testing
Test-Status: SUCCESS
http://dpdk.org/patch/152711

_Testing PASS_

Submitter: Morten Brorup <mb@smartsharesystems.com>
Date: Tuesday, April 01 2025 15:02:14 
DPDK git baseline: Repo:dpdk
  Branch: master
  CommitID:edd3f4b1265e6da707c46ca9b6c39d332647baea

152708-152711 --> testing pass

Upstream job id: Template-DTS-Pipeline#219784

Test environment and result as below:

+--------------------+----------------------+----------------------+
|    Environment     | dpdk_fips_validation | compressdev_zlib_pmd |
+====================+======================+======================+
| Ubuntu 20.04       | PASS                 | SKIPPED              |
+--------------------+----------------------+----------------------+
| Ubuntu 22.04 (ARM) | SKIPPED              | PASS                 |
+--------------------+----------------------+----------------------+
| Ubuntu 22.04       | SKIPPED              | PASS                 |
+--------------------+----------------------+----------------------+


Ubuntu 20.04
	Kernel: Depends on container host
	Compiler: gcc (Ubuntu 9.4.0-1ubuntu1~20.04.2) 9.4.0

Ubuntu 22.04 (ARM)
	Kernel: 5.15.0-97-generic
	Compiler: gcc gcc (Ubuntu 11.4.0-1ubuntu1~22.04) 11.4.0

Ubuntu 22.04
	Kernel: 5.15.0-100-generic
	Compiler: gcc gcc (Ubuntu 11.4.0-1ubuntu1~22.04) 11.4.0

To view detailed results, visit:
https://lab.dpdk.org/results/dashboard/patchsets/32922/

UNH-IOL DPDK Community Lab

To manage your email subscriptions, visit: 
https://lab.dpdk.org/results/dashboard/preferences/subscriptions/