From mboxrd@z Thu Jan  1 00:00:00 1970
Return-Path: <test-report-bounces@dpdk.org>
Received: from mails.dpdk.org (mails.dpdk.org [217.70.189.124])
	by inbox.dpdk.org (Postfix) with ESMTP id 77B24464E6
	for <public@inbox.dpdk.org>; Wed,  2 Apr 2025 09:20:20 +0200 (CEST)
Received: from mails.dpdk.org (localhost [127.0.0.1])
	by mails.dpdk.org (Postfix) with ESMTP id 58328402B5;
	Wed,  2 Apr 2025 09:20:20 +0200 (CEST)
Received: from mail-qv1-f99.google.com (mail-qv1-f99.google.com
 [209.85.219.99]) by mails.dpdk.org (Postfix) with ESMTP id 378364029A
 for <test-report@dpdk.org>; Wed,  2 Apr 2025 09:20:19 +0200 (CEST)
Received: by mail-qv1-f99.google.com with SMTP id
 6a1803df08f44-6e1b11859a7so26888606d6.1
 for <test-report@dpdk.org>; Wed, 02 Apr 2025 00:20:19 -0700 (PDT)
DKIM-Signature: v=1; a=rsa-sha256; c=relaxed/relaxed;
 d=iol.unh.edu; s=unh-iol; t=1743578418; x=1744183218; darn=dpdk.org;
 h=cc:to:from:subject:message-id:date:from:to:cc:subject:date
 :message-id:reply-to;
 bh=N+C7pL6o3qcmY4pkhNAJKlBskrllHjztN3GY5MqqBtc=;
 b=Jjvf3PB12+aP59PXjFugStHyb7Lr3g1sA0EJQSlL3kJw55E1aO4MR8DW7fkvQlLhqS
 RMENXpPebHQQ4/tM7o5LW7+CGJfdrbpEwpdnoXZ7PXJTppsSmYHTuN+BriXnrUVfQphs
 3eo4kBF+fHBUI7Ml44ZgRkz9ZR+E0xX2w0JsM=
X-Google-DKIM-Signature: v=1; a=rsa-sha256; c=relaxed/relaxed;
 d=1e100.net; s=20230601; t=1743578418; x=1744183218;
 h=cc:to:from:subject:message-id:date:x-gm-message-state:from:to:cc
 :subject:date:message-id:reply-to;
 bh=N+C7pL6o3qcmY4pkhNAJKlBskrllHjztN3GY5MqqBtc=;
 b=j98xP6BzE2XmvxftDiiyy53kP6d1HPo2YJfIg3XSOKRNBOlMTkP5snkBMDQBF5aQ6p
 pntv9MYIfuCXPYyZ03i0yIDPP/cclMu1FNbjYpEPbY22kEhpWiA2FAD1K1yAeIrC6ZNc
 XQdKp0WitPSQoj6Pzi5rsgefarc7pds2+zZVSFRhyGWBV46Si74HcKVvv4HstFqwWMQR
 iUM0oAZ/1CqnH9GJfjl8MvqGCbalfrhWM62YoAx09HZHPcrfH9Gxj2aaBD77sVtVioDg
 TN8XRcBbXAhH4ukxykRaROgmYsV5Z1sFCVwZN6NnOQsYXoP7TFcsujwEWk93jBUQhp4S
 63Qw==
X-Gm-Message-State: AOJu0YyXT7NaLTtkgtq3dpOLoUVWajxDJe0PLo+YFxNf4TfOXtuxsgOd
 79cIsAZVmxhaViEHZH8UhWEZKvyHCNwMWtqavlEB++LozxU9XVL0fTj2wudELz4mnly+A3LRb9o
 Lb4BcCRRQcok77KK/Lc0daGEsCqQsRkSPi9REjYEt+butAM8S
X-Gm-Gg: ASbGncuqjQiyvM2e5Z2PrGdER4Ffn8ZM4N6y3AfiI4XL4BWkqNtBAsd12h27tIAWNKR
 Q2t9xUUUIEYd5cOgrZmFVA6rsSZhrgNC/HFqPbY4Mxjd527S7vGMLwQylC/NFA9dRrCsx3EvNpb
 YKSDo+Fh0s5ekHTwOO0qWPJR3iW7LzTYr+JVnIbtLs/Uq4EzSGTgajRBDFDXb1Z4mvNTYipAlOC
 sj6KDWbvOkt3McCleTOkGfcnG3piq9DiGRAaRdQYRb3Fy4pS63YYM/ck2GFmbZeMDHknUV9JOl9
 zpCyfwfvQZ9c4GL9LulzTag/vbKGFZHjM+kVcfvX6nXFGcpsyw+q
X-Google-Smtp-Source: AGHT+IFcjMaPyclAY0QfQBcWgRfgSzuuph19FXHT0xg5Q6PTkLT94NQ6sU3cZBYwDJjrkj4Sb1t1XQqM7Y5A
X-Received: by 2002:ad4:5cc4:0:b0:6ea:d033:2853 with SMTP id
 6a1803df08f44-6eed5fbdb2emr306194386d6.16.1743578418534; 
 Wed, 02 Apr 2025 00:20:18 -0700 (PDT)
Received: from postal.iol.unh.edu (postal.iol.unh.edu.
 [2606:4100:3880:1234::84]) by smtp-relay.gmail.com with ESMTPS id
 6a1803df08f44-6eec978f01asm7648176d6.43.2025.04.02.00.20.18
 (version=TLS1_2 cipher=ECDHE-ECDSA-AES128-GCM-SHA256 bits=128/128);
 Wed, 02 Apr 2025 00:20:18 -0700 (PDT)
X-Relaying-Domain: iol.unh.edu
Date: Wed, 02 Apr 2025 00:20:18 -0700 (PDT)
Message-ID: <67ece532.0c0a0220.225b48.20f2SMTPIN_ADDED_MISSING@mx.google.com>
Received: from [172.21.0.5] (unknown [172.18.0.240])
 by postal.iol.unh.edu (Postfix) with ESMTP id 8D6686052471;
 Wed,  2 Apr 2025 03:20:15 -0400 (EDT)
Subject: |SUCCESS| [GIT MASTER] 03f2ed63a5f4e4b57365e358b49095ef4a82cf7d
From: dpdklab@iol.unh.edu
To: Test Report <test-report@dpdk.org>
Cc: dpdk-test-reports@iol.unh.edu, Xueming Li <xuemingl@nvidia.com>,
 Christian Ehrhardt <christian.ehrhardt@canonical.com>,
 Kevin Traynor <ktraynor@redhat.com>, Luca Boccassi <bluca@debian.org>
Content-Type: text/plain
X-BeenThere: test-report@dpdk.org
X-Mailman-Version: 2.1.29
Precedence: list
List-Id: automatic DPDK test reports <test-report.dpdk.org>
List-Unsubscribe: <https://mails.dpdk.org/options/test-report>,
 <mailto:test-report-request@dpdk.org?subject=unsubscribe>
List-Archive: <http://mails.dpdk.org/archives/test-report/>
List-Post: <mailto:test-report@dpdk.org>
List-Help: <mailto:test-report-request@dpdk.org?subject=help>
List-Subscribe: <https://mails.dpdk.org/listinfo/test-report>,
 <mailto:test-report-request@dpdk.org?subject=subscribe>
Errors-To: test-report-bounces@dpdk.org

_Testing PASS_

Branch: tags/v24.11

03f2ed63a5f4e4b57365e358b49095ef4a82cf7d --> testing pass

Upstream job id: Generic-DPDK-Compile-Meson#376534

Test environment and result as below:

+------------------------------------+--------------------+
|            Environment             | dpdk_meson_compile |
+====================================+====================+
| RHEL9 (ARM)                        | PASS               |
+------------------------------------+--------------------+
| Ubuntu 20.04 ARM GCC Cross Compile | PASS               |
+------------------------------------+--------------------+
| Ubuntu 20.04 ARM SVE               | PASS               |
+------------------------------------+--------------------+
| Fedora 40 (ARM Clang)              | PASS               |
+------------------------------------+--------------------+
| Ubuntu 20.04 (ARM)                 | PASS               |
+------------------------------------+--------------------+
| Fedora 40 (ARM)                    | PASS               |
+------------------------------------+--------------------+
| Fedora 41 (ARM Clang)              | PASS               |
+------------------------------------+--------------------+
| Ubuntu 24.04 (ARM)                 | PASS               |
+------------------------------------+--------------------+
| CentOS Stream 10 (ARM)             | PASS               |
+------------------------------------+--------------------+
| Ubuntu 22.04 (ARM)                 | PASS               |
+------------------------------------+--------------------+
| CentOS Stream 9 (ARM)              | PASS               |
+------------------------------------+--------------------+
| Fedora 41 (ARM)                    | PASS               |
+------------------------------------+--------------------+
| Debian 12 with MUSDK               | PASS               |
+------------------------------------+--------------------+
| Debian 12 (arm)                    | PASS               |
+------------------------------------+--------------------+


RHEL9 (ARM)
	Kernel: Depends on container host
	Compiler: gcc 11.5.0 20240719 (Red Hat 11.5.0-2)

Ubuntu 20.04 ARM GCC Cross Compile
	Kernel: Depends on container host
	Compiler: aarch64-linux-gnu-gcc (Ubuntu 9.4.0-1ubuntu1~20.04.2) 9.4.0

Ubuntu 20.04 ARM SVE
	Kernel: Depends on container host
	Compiler: gcc (Ubuntu 10.5.0-1ubuntu1~20.04) 10.5.0

Fedora 40 (ARM Clang)
	Kernel: Depends on container host
	Compiler: clang 18.1.8 (Fedora 18.1.8-1.fc40)

Ubuntu 20.04 (ARM)
	Kernel: Depends on container host
	Compiler: gcc (Ubuntu 9.4.0-1ubuntu1~20.04.2) 9.4.0

Fedora 40 (ARM)
	Kernel: Depends on container host
	Compiler: gcc 14.2.1 20240912 (Red Hat 14.2.1-3)

Fedora 41 (ARM Clang)
	Kernel: Depends on container host
	Compiler: clang 19.1.5 (Fedora 19.1.5-1.fc41)

Ubuntu 24.04 (ARM)
	Kernel: Depends on container host
	Compiler: gcc (Ubuntu 13.3.0-6ubuntu2~24.04) 13.3.0

CentOS Stream 10 (ARM)
	Kernel: Depends on container host
	Compiler: gcc 14.2.1 20241104 (Red Hat 14.2.1-6)

Ubuntu 22.04 (ARM)
	Kernel: Depends on container host
	Compiler: gcc (Ubuntu 11.4.0-1ubuntu1~22.04) 11.4.0

CentOS Stream 9 (ARM)
	Kernel: Depends on container host
	Compiler: gcc 11.5.0 20240719 (Red Hat 11.5.0-2)

Fedora 41 (ARM)
	Kernel: Depends on container host
	Compiler: gcc 14.2.1 20240912 (Red Hat 14.2.1-3)

Debian 12 with MUSDK
	Kernel: Depends on container host
	Compiler: gcc (Debian 12.2.0-14) 12.2.0

Debian 12 (arm)
	Kernel: Depends on container host
	Compiler: gcc (Debian 12.2.0-14) 12.2.0

To view detailed results, visit:
https://lab.dpdk.org/results/dashboard/tarballs/33123/

UNH-IOL DPDK Community Lab

To manage your email subscriptions, visit: 
https://lab.dpdk.org/results/dashboard/preferences/subscriptions/