From mboxrd@z Thu Jan  1 00:00:00 1970
Return-Path: <test-report-bounces@dpdk.org>
Received: from mails.dpdk.org (mails.dpdk.org [217.70.189.124])
	by inbox.dpdk.org (Postfix) with ESMTP id 62C3F464CC
	for <public@inbox.dpdk.org>; Thu,  3 Apr 2025 07:34:28 +0200 (CEST)
Received: from mails.dpdk.org (localhost [127.0.0.1])
	by mails.dpdk.org (Postfix) with ESMTP id 5E0664060C;
	Thu,  3 Apr 2025 07:34:28 +0200 (CEST)
Received: from mail-yb1-f228.google.com (mail-yb1-f228.google.com
 [209.85.219.228])
 by mails.dpdk.org (Postfix) with ESMTP id 86FD84060A
 for <test-report@dpdk.org>; Thu,  3 Apr 2025 07:34:27 +0200 (CEST)
Received: by mail-yb1-f228.google.com with SMTP id
 3f1490d57ef6-e46ebe19489so443660276.2
 for <test-report@dpdk.org>; Wed, 02 Apr 2025 22:34:27 -0700 (PDT)
DKIM-Signature: v=1; a=rsa-sha256; c=relaxed/relaxed;
 d=iol.unh.edu; s=unh-iol; t=1743658467; x=1744263267; darn=dpdk.org;
 h=references:in-reply-to:cc:to:from:subject:message-id:date:from:to
 :cc:subject:date:message-id:reply-to;
 bh=uG3oaSUDFQv2OaEadfYZ2kZlmHkiJ/hgJWLXETRNmJs=;
 b=LVpX30edoEn0PDxYEPOlIrzw8XVImEyLjWspkSaOGNUe0NG51h2OMFyX6OClrgDN3p
 Y+mPvjUsv6JWyr+6z7/orgnVNnIDh9DzHXBYoTxGjIv+J/GyXTHrgXMsotaUZrV1nHHa
 w4MMfj+bYE3fibQ6fGLidUAqjoT81Pyv4ieuo=
X-Google-DKIM-Signature: v=1; a=rsa-sha256; c=relaxed/relaxed;
 d=1e100.net; s=20230601; t=1743658467; x=1744263267;
 h=references:in-reply-to:cc:to:from:subject:message-id:date
 :x-gm-message-state:from:to:cc:subject:date:message-id:reply-to;
 bh=uG3oaSUDFQv2OaEadfYZ2kZlmHkiJ/hgJWLXETRNmJs=;
 b=OykHvffOVY42xoGlrrprVN4vU+iLLD32OI1AWVWl+ngHaLheaD2tMqepBqOf/FigSG
 JFZ0xUiAYawWJP7A1ObLf24xsmS694tR1JDGWHq+xGTkKCDq17CYcRhvevNIeoPsmG/x
 /c0yZ4z0ZFyB95vy/bw6tW81Y6IDP0cwoSacqfooJB6vU6+X45d3mtdiTo+bR+XxtSox
 UD56E+sQNxcTDhn5y8iDfH8mpcj0TTU3qlRY3zE3RGsgf919WFImztWOIs7rQGiaPldP
 aU8YpJpbIZZM8n27yw7IPgN5svBL2Mv4hrTqVb+OXJ7Z6h/9hGXtL/mmTasbhGeDnVUW
 6O0Q==
X-Gm-Message-State: AOJu0YzO3kyuqnMX0ya2xa7Jcf1bEpFSoRif3n62RQuQyjjui4ZsaeeA
 HldOp6gZDFg3KArDfshlZtvq0/quEqSItt2UFuZPWmEK9aKu4ZHAyHmuSrZPRXp/755ApwMAOnY
 CZE5/vw67DU1U3yYX04qUrpLckk2qVHuO6lt54YXCTo8z5S+8fhtC49bP
X-Gm-Gg: ASbGnctn8SiJjE0is/ePhzRm+Nvyz+EV7twUPOxc8wvF9oZQsjKs6HJ2oq3u3G0q9zJ
 H3MmfRiBdWcepD1I5NIT0LBOhzHgaare14Cr7DEFw+VYPtI8MJV/DdsmIUGC8SLPmJRpLJdzYjv
 jwUCcaengEJ05gBnYGikHa3SL5HyP0AMtbXsgwY/cH+pEX3CNSfQRCu+K3+FBu2i12B/HnOeI+b
 BIkgRQ3jh8x3cqRg/SX7tOg1iOvkJ1le8tbMx4jvHO8eLkZvQclSRPzB2epuL5F0XMc3WKMB3Ai
 gSBKpSXXi9YmYFFWgbhqI/BSVGOzhuGp/Fqe1LZL7sJudAfBKew7
X-Google-Smtp-Source: AGHT+IFazRyAKjtdPmlD22EYYzq3xNuxObw8XJx3DyIusz+KxYnxamejhBwUO/t8frReVEkUdj+bFbQOtik8
X-Received: by 2002:a25:2653:0:b0:e6d:ee8e:876a with SMTP id
 3f1490d57ef6-e6dee8e8bdfmr8757629276.15.1743658466916; 
 Wed, 02 Apr 2025 22:34:26 -0700 (PDT)
Received: from postal.iol.unh.edu (postal.iol.unh.edu.
 [2606:4100:3880:1234::84]) by smtp-relay.gmail.com with ESMTPS id
 3f1490d57ef6-e6e0c8f25edsm169493276.17.2025.04.02.22.34.26
 (version=TLS1_2 cipher=ECDHE-ECDSA-AES128-GCM-SHA256 bits=128/128);
 Wed, 02 Apr 2025 22:34:26 -0700 (PDT)
X-Relaying-Domain: iol.unh.edu
Date: Wed, 02 Apr 2025 22:34:26 -0700 (PDT)
Message-ID: <67ee1de2.050a0220.1af247.0da7SMTPIN_ADDED_MISSING@mx.google.com>
Received: from [172.21.0.8] (unknown [172.18.0.240])
 by postal.iol.unh.edu (Postfix) with ESMTP id 47E9E6052472;
 Thu,  3 Apr 2025 01:34:24 -0400 (EDT)
Subject: |SUCCESS| pw152746-152747 [PATCH] [2/2] dts: update dpdk-devbind scr
From: dpdklab@iol.unh.edu
To: Test Report <test-report@dpdk.org>
Cc: dpdk-test-reports@iol.unh.edu
In-Reply-To: <20250403023059.1762841-3-probb@iol.unh.edu>
References: <20250403023059.1762841-3-probb@iol.unh.edu>
Content-Type: text/plain
X-BeenThere: test-report@dpdk.org
X-Mailman-Version: 2.1.29
Precedence: list
List-Id: automatic DPDK test reports <test-report.dpdk.org>
List-Unsubscribe: <https://mails.dpdk.org/options/test-report>,
 <mailto:test-report-request@dpdk.org?subject=unsubscribe>
List-Archive: <http://mails.dpdk.org/archives/test-report/>
List-Post: <mailto:test-report@dpdk.org>
List-Help: <mailto:test-report-request@dpdk.org?subject=help>
List-Subscribe: <https://mails.dpdk.org/listinfo/test-report>,
 <mailto:test-report-request@dpdk.org?subject=subscribe>
Errors-To: test-report-bounces@dpdk.org

Test-Label: iol-compile-arm64-testing
Test-Status: SUCCESS
http://dpdk.org/patch/152747

_Testing PASS_

Submitter: Patrick Robb <probb@iol.unh.edu>
Date: Thursday, April 03 2025 02:30:59 
DPDK git baseline: Repo:dpdk
  Branch: master
  CommitID:7246d0a80cb79a04e1334393ef507aa4ef7accd9

152746-152747 --> testing pass

Upstream job id: Generic-DPDK-Compile-Meson#376979

Test environment and result as below:

+----------------------------------------+--------------------+
|              Environment               | dpdk_meson_compile |
+========================================+====================+
| RHEL9 (ARM)                            | PASS               |
+----------------------------------------+--------------------+
| Ubuntu 20.04 ARM GCC Cross Compile     | PASS               |
+----------------------------------------+--------------------+
| Ubuntu 20.04 ARM SVE                   | PASS               |
+----------------------------------------+--------------------+
| Debian 12 with MUSDK                   | PASS               |
+----------------------------------------+--------------------+
| Fedora 41 (ARM)                        | PASS               |
+----------------------------------------+--------------------+
| Fedora 41 (ARM Clang)                  | PASS               |
+----------------------------------------+--------------------+
| Fedora 40 (ARM)                        | PASS               |
+----------------------------------------+--------------------+
| Ubuntu 20.04 (ARM)                     | PASS               |
+----------------------------------------+--------------------+
| Fedora 40 (ARM Clang)                  | PASS               |
+----------------------------------------+--------------------+
| Ubuntu 24.04 (ARM)                     | PASS               |
+----------------------------------------+--------------------+
| Ubuntu 22.04 (ARM)                     | PASS               |
+----------------------------------------+--------------------+
| CentOS Stream 10 (ARM)                 | PASS               |
+----------------------------------------+--------------------+
| Debian 12 (arm)                        | PASS               |
+----------------------------------------+--------------------+
| CentOS Stream 9 (ARM)                  | PASS               |
+----------------------------------------+--------------------+
| Ubuntu 20.04 ARM Clang Cross Compile   | PASS               |
+----------------------------------------+--------------------+
| Ubuntu 20.04 aarch32 GCC Cross Compile | PASS               |
+----------------------------------------+--------------------+


RHEL9 (ARM)
	Kernel: Depends on container host
	Compiler: gcc 11.5.0 20240719 (Red Hat 11.5.0-2)

Ubuntu 20.04 ARM GCC Cross Compile
	Kernel: Depends on container host
	Compiler: aarch64-linux-gnu-gcc (Ubuntu 9.4.0-1ubuntu1~20.04.2) 9.4.0

Ubuntu 20.04 ARM SVE
	Kernel: Depends on container host
	Compiler: gcc (Ubuntu 10.5.0-1ubuntu1~20.04) 10.5.0

Debian 12 with MUSDK
	Kernel: Depends on container host
	Compiler: gcc (Debian 12.2.0-14) 12.2.0

Fedora 41 (ARM)
	Kernel: Depends on container host
	Compiler: gcc 14.2.1 20240912 (Red Hat 14.2.1-3)

Fedora 41 (ARM Clang)
	Kernel: Depends on container host
	Compiler: clang 19.1.5 (Fedora 19.1.5-1.fc41)

Fedora 40 (ARM)
	Kernel: Depends on container host
	Compiler: gcc 14.2.1 20240912 (Red Hat 14.2.1-3)

Ubuntu 20.04 (ARM)
	Kernel: Depends on container host
	Compiler: gcc (Ubuntu 9.4.0-1ubuntu1~20.04.2) 9.4.0

Fedora 40 (ARM Clang)
	Kernel: Depends on container host
	Compiler: clang 18.1.8 (Fedora 18.1.8-1.fc40)

Ubuntu 24.04 (ARM)
	Kernel: Depends on container host
	Compiler: gcc (Ubuntu 13.3.0-6ubuntu2~24.04) 13.3.0

Ubuntu 22.04 (ARM)
	Kernel: Depends on container host
	Compiler: gcc (Ubuntu 11.4.0-1ubuntu1~22.04) 11.4.0

CentOS Stream 10 (ARM)
	Kernel: Depends on container host
	Compiler: gcc 14.2.1 20241104 (Red Hat 14.2.1-6)

Debian 12 (arm)
	Kernel: Depends on container host
	Compiler: gcc (Debian 12.2.0-14) 12.2.0

CentOS Stream 9 (ARM)
	Kernel: Depends on container host
	Compiler: gcc 11.5.0 20240719 (Red Hat 11.5.0-2)

Ubuntu 20.04 ARM Clang Cross Compile
	Kernel: Depends on container host
	Compiler: clang 10.0.0-4ubuntu1

Ubuntu 20.04 aarch32 GCC Cross Compile
	Kernel: Depends on container host
	Compiler: gcc 9.4.0

To view detailed results, visit:
https://lab.dpdk.org/results/dashboard/patchsets/32936/

UNH-IOL DPDK Community Lab

To manage your email subscriptions, visit: 
https://lab.dpdk.org/results/dashboard/preferences/subscriptions/