From mboxrd@z Thu Jan  1 00:00:00 1970
Return-Path: <test-report-bounces@dpdk.org>
Received: from mails.dpdk.org (mails.dpdk.org [217.70.189.124])
	by inbox.dpdk.org (Postfix) with ESMTP id D6B83464ED
	for <public@inbox.dpdk.org>; Thu,  3 Apr 2025 08:32:51 +0200 (CEST)
Received: from mails.dpdk.org (localhost [127.0.0.1])
	by mails.dpdk.org (Postfix) with ESMTP id D24994060C;
	Thu,  3 Apr 2025 08:32:51 +0200 (CEST)
Received: from mail-yw1-f228.google.com (mail-yw1-f228.google.com
 [209.85.128.228])
 by mails.dpdk.org (Postfix) with ESMTP id 0DFB94060A
 for <test-report@dpdk.org>; Thu,  3 Apr 2025 08:32:50 +0200 (CEST)
Received: by mail-yw1-f228.google.com with SMTP id
 00721157ae682-6ff37565232so5575287b3.3
 for <test-report@dpdk.org>; Wed, 02 Apr 2025 23:32:49 -0700 (PDT)
DKIM-Signature: v=1; a=rsa-sha256; c=relaxed/relaxed;
 d=iol.unh.edu; s=unh-iol; t=1743661969; x=1744266769; darn=dpdk.org;
 h=cc:to:from:subject:message-id:date:from:to:cc:subject:date
 :message-id:reply-to;
 bh=mBpXI0FHEzfMzDXRL68bYI9OFwgHOaQYXrXpq6TGkiA=;
 b=HquL/xY7ILjzZyND50AVm2mgWxX2SzeUWOzRdnpG5jmhhPy/GBTg1LuGldbuT3mRLp
 PK5l2RYqSQMni1FgIxwhGsPYFQpqIdeXgf4sGhAb7mVWwRcR4BKDeJFeo2xIPqPlvtVM
 eOCtQDrHmHe3OkqeUyhBbhV4n0PM6GEASPqXo=
X-Google-DKIM-Signature: v=1; a=rsa-sha256; c=relaxed/relaxed;
 d=1e100.net; s=20230601; t=1743661969; x=1744266769;
 h=cc:to:from:subject:message-id:date:x-gm-message-state:from:to:cc
 :subject:date:message-id:reply-to;
 bh=mBpXI0FHEzfMzDXRL68bYI9OFwgHOaQYXrXpq6TGkiA=;
 b=wzaF8EScO/kJooUTq38QmuOqpivOVXknSMtNPTggdzclV8Mvb4y813AEXS0SN+anvk
 w5YIVA39uhh+/RvwuEA3He4xg29TrsC9qiRF984rpl4cE+A/2yNREbqiHbX8azZQzMNU
 sBAm/x35wUwK1qUazGk89eWFc28gjGy7Cs+sU9kixwZqhV6dzS83fngHGNXvm56xQWUm
 p8ADzzXqmLXGn0xTkTuXq1UbQn/RJWykOkpjR2AqZjM1a7l2bfERRoIaXPWExxtTIiYc
 DuO5/3N4o8+/Q6rVjXeeJGBXGvYh36yF0nsc/wf26H85mfIdOkjN7v1xgJOkb+SGvUwr
 EDWQ==
X-Gm-Message-State: AOJu0YzVsjDBSUu09p+ZMwQ3vxQS92WHCARHhso+nWVrkFzKIcyBHShy
 o8BpnffkiScD7ojg08gcuIeHVmsMostiKiUTH+5KvL4+J3gGEx3VmLRa9ZMRurgx1qXlTXWRD/o
 h6yDINfF2rVVKFihDdi1oIvzWYhlmukFP8RDbL81nAJ9DmvpB
X-Gm-Gg: ASbGnctNM2Zh5xCibQRvcDfq3WghJ3KrNn/T6aFdi2cj6YqXn0ERrfNUb36LxO4bwCn
 994qXJBtoQTsTWrdUhGHpY89elZeD9olhOGulQsRgwefSAwg+v82B5suO1xO8PnsrvlHFWFqfe3
 pQMzn4/kNGmI7DMbrbX+J9+7R9U166nhxZhdcti8gDGyFReZMxUidlrtDNSfqEmOiwjy90CyLZZ
 wD3gwP2EB+fPVXhTRmUKKbYFT/g5d4UjiVAUe0DSeZxubb/XjNil0PnWwuV3X7/3XFOv/1ja/fy
 NFqnKGRKxXWlUTeR3wP1lO4UbXqWQOH519gGskxWVFO99OjJw2xl
X-Google-Smtp-Source: AGHT+IEMRCfraGzqQ8NU5kiGIkxa4TQWl16eFuls3tD/JWgNFXzwI17DWLCuO9ZZQnGa+WI7TGXPblE+S/ha
X-Received: by 2002:a05:690c:6810:b0:6f9:7a3c:1fe with SMTP id
 00721157ae682-703d47555camr15772967b3.23.1743661969230; 
 Wed, 02 Apr 2025 23:32:49 -0700 (PDT)
Received: from postal.iol.unh.edu (postal.iol.unh.edu.
 [2606:4100:3880:1234::84]) by smtp-relay.gmail.com with ESMTPS id
 00721157ae682-703d1e81974sm3075237b3.34.2025.04.02.23.32.49
 (version=TLS1_2 cipher=ECDHE-ECDSA-AES128-GCM-SHA256 bits=128/128);
 Wed, 02 Apr 2025 23:32:49 -0700 (PDT)
X-Relaying-Domain: iol.unh.edu
Date: Wed, 02 Apr 2025 23:32:49 -0700 (PDT)
Message-ID: <67ee2b91.810a0220.1a9b81.2d37SMTPIN_ADDED_MISSING@mx.google.com>
Received: from [172.21.0.5] (unknown [172.18.0.240])
 by postal.iol.unh.edu (Postfix) with ESMTP id 1F40A6052471;
 Thu,  3 Apr 2025 02:32:46 -0400 (EDT)
Subject: |SUCCESS| [GIT MASTER] 03f2ed63a5f4e4b57365e358b49095ef4a82cf7d
From: dpdklab@iol.unh.edu
To: Test Report <test-report@dpdk.org>
Cc: dpdk-test-reports@iol.unh.edu, Xueming Li <xuemingl@nvidia.com>,
 Christian Ehrhardt <christian.ehrhardt@canonical.com>,
 Kevin Traynor <ktraynor@redhat.com>, Luca Boccassi <bluca@debian.org>
Content-Type: text/plain
X-BeenThere: test-report@dpdk.org
X-Mailman-Version: 2.1.29
Precedence: list
List-Id: automatic DPDK test reports <test-report.dpdk.org>
List-Unsubscribe: <https://mails.dpdk.org/options/test-report>,
 <mailto:test-report-request@dpdk.org?subject=unsubscribe>
List-Archive: <http://mails.dpdk.org/archives/test-report/>
List-Post: <mailto:test-report@dpdk.org>
List-Help: <mailto:test-report-request@dpdk.org?subject=help>
List-Subscribe: <https://mails.dpdk.org/listinfo/test-report>,
 <mailto:test-report-request@dpdk.org?subject=subscribe>
Errors-To: test-report-bounces@dpdk.org

_Testing PASS_

Branch: tags/v24.11

03f2ed63a5f4e4b57365e358b49095ef4a82cf7d --> testing pass

Upstream job id: Generic-DPDK-Compile-ABI#122185

Test environment and result as below:

+-------------------+----------+
|    Environment    | abi_test |
+===================+==========+
| Fedora 40 (Clang) | PASS     |
+-------------------+----------+
| Debian 12         | PASS     |
+-------------------+----------+
| Fedora 40         | PASS     |
+-------------------+----------+
| CentOS Stream 9   | PASS     |
+-------------------+----------+
| CentOS Stream 10  | PASS     |
+-------------------+----------+
| RHEL9             | PASS     |
+-------------------+----------+
| RHEL8             | PASS     |
+-------------------+----------+
| Fedora 41         | PASS     |
+-------------------+----------+
| Fedora 41 (Clang) | PASS     |
+-------------------+----------+
| openSUSE Leap 15  | PASS     |
+-------------------+----------+
| Ubuntu 24.04      | PASS     |
+-------------------+----------+
| Ubuntu 22.04      | PASS     |
+-------------------+----------+


Fedora 40 (Clang)
	Kernel: Depends on container host
	Compiler: clang 18.1.8 (Fedora 18.1.8-1.fc40)

Debian 12
	Kernel: Depends on container host
	Compiler: gcc (Debian 12.2.0-14) 12.2.0

Fedora 40
	Kernel: Depends on container host
	Compiler: gcc 14.2.1 20240912 (Red Hat 14.2.1-3)

CentOS Stream 9
	Kernel: Depends on container host
	Compiler: gcc 11.5.0 20240719 (Red Hat 11.5.0-2)

CentOS Stream 10
	Kernel: Depends on container host
	Compiler: gcc 14.2.1 20241104 (Red Hat 14.2.1-6)

RHEL9
	Kernel: Depends on container host
	Compiler: gcc 11.5.0 20240719 (Red Hat 11.5.0-2)

RHEL8
	Kernel: Depends on container host
	Compiler: gcc 8.5.0 20210514 (Red Hat 8.5.0-22)

Fedora 41
	Kernel: Depends on container host
	Compiler: gcc 14.2.1 20240912 (Red Hat 14.2.1-3)

Fedora 41 (Clang)
	Kernel: Depends on container host
	Compiler: clang 19.1.5 (Fedora 19.1.5-1.fc41)

openSUSE Leap 15
	Kernel: Depends on container host
	Compiler: gcc (SUSE Linux) 7.5.0

Ubuntu 24.04
	Kernel: Depends on container host
	Compiler: gcc (Ubuntu 13.3.0-6ubuntu2~24.04) 13.3.0

Ubuntu 22.04
	Kernel: Depends on container host
	Compiler: gcc (Ubuntu 11.4.0-1ubuntu1~22.04) 11.4.0

To view detailed results, visit:
https://lab.dpdk.org/results/dashboard/tarballs/33140/

UNH-IOL DPDK Community Lab

To manage your email subscriptions, visit: 
https://lab.dpdk.org/results/dashboard/preferences/subscriptions/